Workbook
Name \1: #REF!
Name \1: #REF!
Name \1: #REF!
Name \2: [1]TLPPOCT!#REF!
Name \2: [1]TLPPOCT!#REF!
Name \2: [1]TLPPOCT!#REF!
Name \a: #REF!
Name \a: #REF!
Name \a: #REF!
Name \b: #REF!
Name \b: #REF!
Name \b: #REF!
Name \p: #REF!
Name \p: #REF!
Name \p: #REF!
Name __1_1_1: #REF!
Name __1_1_1: #REF!
Name __1_1_1: #REF!
Name __2_1_1_1: #REF!
Name __2_1_1_1: #REF!
Name __2_1_1_1: #REF!
Name _1: #REF!
Name _1: #REF!
Name _1: #REF!
Name _1_1: #REF!
Name _1_1: #REF!
Name _1_1: #REF!
Name _1_1_1: #REF!
Name _1_1_1: #REF!
Name _1_1_1: #REF!
Name _1_1_1_1: #REF!
Name _1_1_1_1: #REF!
Name _1_1_1_1: #REF!
Name _1_1_1_1_1: #REF!
Name _1_1_1_1_1: #REF!
Name _1_1_1_1_1: #REF!
Name _1_10: #REF!
Name _1_10: #REF!
Name _1_10: #REF!
Name _1_2: #REF!
Name _1_2: #REF!
Name _1_2: #REF!
Name _1_2_1: #REF!
Name _1_2_1: #REF!
Name _1_2_1: #REF!
Name _1_7: #REF!
Name _1_7: #REF!
Name _1_7: #REF!
Name _1_8: #REF!
Name _1_8: #REF!
Name _1_8: #REF!
Name _1_9: #REF!
Name _1_9: #REF!
Name _1_9: #REF!
Name _10Excel_BuiltIn__FilterDatabase_10_1: #REF!
Name _10Excel_BuiltIn__FilterDatabase_10_1: #REF!
Name _10Excel_BuiltIn__FilterDatabase_10_1: #REF!
Name _11Excel_BuiltIn__FilterDatabase_11_1: #REF!
Name _11Excel_BuiltIn__FilterDatabase_11_1: #REF!
Name _11Excel_BuiltIn__FilterDatabase_11_1: #REF!

Sheet Cum sop (Extra)
B5: Name of Distribution Licensee: MGVCL
B6: Quarter | C6: 4th | D6: Jan'26-Mar'26
B7: Break up of accident for Jan 2026
B8: Sr.No | C8: Name of Circle | D8: Departmental | F8: Outsider | I8: Total | L8: Sr.No | M8: Name of Circle | N8: Departmental | P8: Outsider | S8: Total
D9: FH | E9: NFH | F9: FH | G9: FA | H9: NFH | N9: FH | O9: NFH | P9: FH | Q9: FA | R9: NFH
B10: 1 | C10: Baroda City | D10: 1 | I10: 1 | L10: 1 | M10: Baroda City | N10: 1 | S10: =SUM(N10:R10) -> 1
B11: 2 | C11: Baroda (O&M) | E11: 1 | F11: 3 | I11: 4 | L11: 2 | M11: Baroda (O&M) | O11: 1 | P11: 3 | S11: =SUM(N11:R11) -> 4
B12: 3 | C12: Anand | I12: 0 | L12: 3 | M12: Anand | S12: =SUM(N12:R12) -> 0
B13: 4 | C13: Godhra | D13: 1 | H13: 1 | I13: 2 | L13: 4 | M13: Godhra | N13: 1 | R13: 1 | S13: =SUM(N13:R13) -> 2
B14: 5 | C14: Nadiad | G14: 2 | I14: 2 | L14: 5 | M14: Nadiad | Q14: 2 | S14: =SUM(N14:R14) -> 2
C15: TOTAL | D15: 2 | E15: 1 | F15: 3 | G15: 2 | H15: 1 | I15: 9 | M15: TOTAL | N15: =SUM(N10:N14) -> 2 | O15: =SUM(O10:O14) -> 1 | P15: =SUM(P10:P14) -> 3 | Q15: =SUM(Q10:Q14) -> 2 | R15: =SUM(R10:R14) -> 1 | S15: =SUM(S10:S14) -> 9
B16: Break up of accident for Feb 2026
B17: Sr.No | C17: Name of Circle | D17: Departmental | F17: Outsider | I17: Total | L17: Sr.No | M17: Name of Circle | N17: Departmental | P17: Outsider | S17: Total
D18: FH | E18: NFH | F18: FH | G18: FA | H18: NFH | N18: FH | O18: NFH | P18: FH | Q18: FA | R18: NFH
B19: 1 | C19: Baroda City | I19: 0 | L19: 1 | M19: Baroda City | S19: =SUM(N19:R19) -> 0
B20: 2 | C20: Baroda (O&M) | I20: 0 | L20: 2 | M20: Baroda (O&M) | S20: =SUM(N20:R20) -> 0
B21: 3 | C21: Anand | H21: 1 | I21: 1 | L21: 3 | M21: Anand | R21: 1 | S21: =SUM(N21:R21) -> 1
B22: 4 | C22: Godhra | F22: 5 | I22: 5 | L22: 4 | M22: Godhra | P22: 5 | S22: =SUM(N22:R22) -> 5
B23: 5 | C23: Nadiad | F23: 1 | I23: 1 | L23: 5 | M23: Nadiad | P23: 1 | S23: =SUM(N23:R23) -> 1
C24: TOTAL | D24: 0 | E24: 0 | F24: 6 | G24: 0 | H24: 1 | I24: 7 | M24: TOTAL | N24: =SUM(N19:N23) -> 0 | O24: =SUM(O19:O23) -> 0 | P24: =SUM(P19:P23) -> 6 | Q24: =SUM(Q19:Q23) -> 0 | R24: =SUM(R19:R23) -> 1 | S24: =SUM(S19:S23) -> 7
B25: Break up of accident for Mar 2026
B26: Sr.No | C26: Name of Circle | D26: Departmental | F26: Outsider | I26: Total | L26: Sr.No | M26: Name of Circle | N26: Departmental | P26: Outsider | S26: Total
D27: FH | E27: NFH | F27: FH | G27: FA | H27: NFH | N27: FH | O27: NFH | P27: FH | Q27: FA | R27: NFH
B28: 1 | C28: Baroda City | I28: 0 | L28: 1 | M28: Baroda City | S28: =SUM(N28:R28) -> 0
B29: 2 | C29: Baroda (O&M) | F29: 3 | G29: 1 | I29: 4 | L29: 2 | M29: Baroda (O&M) | P29: 3 | Q29: 1 | S29: =SUM(N29:R29) -> 4
B30: 3 | C30: Anand | I30: 0 | L30: 3 | M30: Anand | S30: =SUM(N30:R30) -> 0
B31: 4 | C31: Godhra | G31: 1 | H31: 2 | I31: 3 | L31: 4 | M31: Godhra | Q31: 1 | R31: 2 | S31: =SUM(N31:R31) -> 3
B32: 5 | C32: Nadiad | I32: 0 | L32: 5 | M32: Nadiad | S32: =SUM(N32:R32) -> 0
C33: TOTAL | D33: 0 | E33: 0 | F33: 3 | G33: 2 | H33: 2 | I33: 7 | M33: TOTAL | N33: =SUM(N28:N32) -> 0 | O33: =SUM(O28:O32) -> 0 | P33: =SUM(P28:P32) -> 3 | Q33: =SUM(Q28:Q32) -> 2 | R33: =SUM(R28:R32) -> 2 | S33: =SUM(S28:S32) -> 7
B35: Cummulative
B36: Sr.No | C36: Name of Circle | D36: Departmental | F36: Outsider | I36: Total | L36: Sr.No | M36: Name of Circle | N36: Departmental | P36: Outsider | S36: Total
D37: FH | E37: NFH | F37: FH | G37: FA | H37: NFH | N37: FH | O37: NFH | P37: FH | Q37: FA | R37: NFH
B38: 1 | C38: Baroda City | D38: 1 | E38: 0 | F38: 0 | G38: 0 | H38: 0 | I38: 1 | L38: 1 | M38: Baroda City | N38: =N10+N19+N28 -> 1 | O38: =O10+O19+O28 -> 0 | P38: =P10+P19+P28 -> 0 | Q38: =Q10+Q19+Q28 -> 0 | R38: =R10+R19+R28 -> 0 | S38: =SUM(N38:R38) -> 1
B39: 2 | C39: Baroda (O&M) | D39: 0 | E39: 1 | F39: 6 | G39: 1 | H39: 0 | I39: 8 | L39: 2 | M39: Baroda (O&M) | N39: =N11+N20+N29 -> 0 | O39: =O11+O20+O29 -> 1 | P39: =P11+P20+P29 -> 6 | Q39: =Q11+Q20+Q29 -> 1 | R39: =R11+R20+R29 -> 0 | S39: =SUM(N39:R39) -> 8
B40: 3 | C40: Anand | D40: 0 | E40: 0 | F40: 0 | G40: 0 | H40: 1 | I40: 1 | L40: 3 | M40: Anand | N40: =N12+N21+N30 -> 0 | O40: =O12+O21+O30 -> 0 | P40: =P12+P21+P30 -> 0 | Q40: =Q12+Q21+Q30 -> 0 | R40: =R12+R21+R30 -> 1 | S40: =SUM(N40:R40) -> 1
B41: 4 | C41: Godhra | D41: 1 | E41: 0 | F41: 5 | G41: 1 | H41: 3 | I41: 10 | L41: 4 | M41: Godhra | N41: =N13+N22+N31 -> 1 | O41: =O13+O22+O31 -> 0 | P41: =P13+P22+P31 -> 5 | Q41: =Q13+Q22+Q31 -> 1 | R41: =R13+R22+R31 -> 3 | S41: =SUM(N41:R41) -> 10
B42: 5 | C42: Nadiad | D42: 0 | E42: 0 | F42: 1 | G42: 2 | H42: 0 | I42: 3 | L42: 5 | M42: Nadiad | N42: =N14+N23+N32 -> 0 | O42: =O14+O23+O32 -> 0 | P42: =P14+P23+P32 -> 1 | Q42: =Q14+Q23+Q32 -> 2 | R42: =R14+R23+R32 -> 0 | S42: =SUM(N42:R42) -> 3
C43: TOTAL | D43: 2 | E43: 1 | F43: 12 | G43: 4 | H43: 4 | I43: 23 | M43: TOTAL | N43: =SUM(N38:N42) -> 2 | O43: =SUM(O38:O42) -> 1 | P43: =SUM(P38:P42) -> 12 | Q43: =SUM(Q38:Q42) -> 4 | R43: =SUM(R38:R42) -> 4 | S43: =SUM(S38:S42) -> 23

Sheet MG COVER PAGE
A1: Name of Distribution Licensee: M.G.V.C.L.
A2: Quarter of the year : Q-IV (Jan-Feb-Mar-2026)
A3: Year: 2025-26

Sheet MG SoP 01 
A1: Name of Distribution Licensee: M G V C L
A2: Quarter IV (Jan-26 to Mar-26)
A3: Year:2025-26
A4: Performa - SoP 001: Fatal and Non-fatal accident report
A5: NUMBER OF ACCIDENTS FOR THE 4th QUARTER 2025-26
A6: Sr. No | B6: Name of Area/Circle | C6: No of accidents in the quarter | H6: Cumulative since the first quarter of the current FY year
C7: Departmental | E7: Outsider | H7: Departmental | J7: Outsider
C8: FH | D8: NFH | E8: FH | F8: FA | G8: NFH | H8: FH | I8: NFH | J8: FH | K8: FA | L8: NFH
A9: 1 | B9: Baroda City | C9: 1 | D9: 0 | E9: 0 | F9: 0 | G9: 0 | H9: 1 | I9: 1 | J9: 6 | K9: 1
A10: 2 | B10: Baroda (O&M) | C10: 0 | D10: 1 | E10: 6 | F10: 1 | G10: 0 | H10: 1 | I10: 3 | J10: 17 | K10: 28 | L10: 1
A11: 3 | B11: Anand | C11: 0 | D11: 0 | E11: 0 | F11: 0 | G11: 1 | H11: 2 | I11: 1 | J11: 11 | K11: 12 | L11: 4
A12: 4 | B12: Godhra | C12: 1 | D12: 0 | E12: 5 | F12: 1 | G12: 3 | H12: 2 | I12: 1 | J12: 22(4-Pvt) | K12: 32 | L12: 9
A13: 5 | B13: Nadiad | C13: 0 | D13: 0 | E13: 1 | F13: 2 | G13: 0 | I13: 2 | J13: 8 | K13: 25 | L13: 8
B14: TOTAL | C14: 2 | D14: 1 | E14: 12 | F14: 4 | G14: 4 | H14: =H9+H10+H11+H12+H13 -> 6 | I14: =I9+I10+I11+I12+I13 -> 8 | J14: 64 (4-Pvt) | K14: =K9+K10+K11+K12+K13 -> 98 | L14: =L9+L10+L11+L12+L13 -> 22
G15: =C14+D14+F14+G14+E14 -> 23 | L15: =H14+I14+64+K14+L14 -> 198

Sheet MG SoP 02 
A1: Performa – SoP 002: Action taken report for safety measures complied for the accidents occurred
A3: 1 | B3: 2 | C3: =B3+1 -> 3 | D3: =C3+1 -> 4 | E3: =D3+1 -> 5 | F3: =E3+1 -> 6 | G3: =F3+1 -> 7 | H3: =G3+1 -> 8 | I3: =H3+1 -> 9 | J3: 5 | K3: =J3+1 -> 6 | L3: =K3+1 -> 7 | M3: =L3+1 -> 8 | N3: =M3+1 -> 9 | O3: =N3+1 -> 10 | P3: =O3+1 -> 11 | Q3: 6 | R3: =Q3+1 -> 7 | S3: =R3+1 -> 8 | T3: =S3+1 -> 9 | U3: 10 | V3: =U3+1 -> 11 | W3: =V3+1 -> 12 | X3: =W3+1 -> 13 | Y3: =X3+1 -> 14
A4: Sr. No | B4: Location of Accident and details of the victim | C4: Date of occurrence | D4: Type of Accident | E4: Installation | G4: Accident Type | J4: Cause of Accident | K4: Findings of CEI / EI / AEI | L4: Remedies suggested by CEI /EI / AEI in various cases | M4: Whether the remedy suggested is complied | N4: Action taken to avoid recurrence of such Accident | O4: CEI REPORT received YES/NO | P4: If No then , mention letter no. and date written to CEI/EI/AEI office. | Q4: Findings of CEI / EI / AEI | R4: Remedies suggested by CEI /EI / AEI in various cases | S4: Whether the remedy suggested is complied | T4: Action taken to avoid recurrence of such Accident | U4: Amount of compensation and date of compensation paid | V4: Circle office | W4: Division | X4: Sub-division | Y4: Reason
A5: 1 | B5: Digvijaysinh Vikaramsinh Chauhan,Vill-Malod, Tal-Karjan, Dist-Vadodara | C5: 01-01-2026 | D5: FHO | J5: ROAD CONTSTRUCTION WORK WAS GOING ON NEAR MADRESSA MELOD TO PALEJ ROAD. DURING WORK, DUMPER VEHICLE GJ 06 BY 2293 WAS ENGGAED FOR LAYING CONSTRUCTION MATERIALS. VICTIM RAISED TRAILER OF THE DUMPER FOR UNLOADING MATERIAL UNDER 11 KV RANAPUR JGY LINE. DUE TO CONTACT TO LINE, THE VEHICLE GOT ELECTRIFIED AND FIRE OCCURED IN THE VEHICLE AND DRIVER SHOCKED THE DEAD AS PER EYEWITNESS. ROAD CROSS 11 KV RANAPUR JGY LINE GROUND CLEARANCE WAS 18.1 FT APPROXIMATE. | Q5: Awaited | R5: NA | S5: NA | T5: 11 meter RSJ Pole erected under line | U5: NA | V5: BARODA O&M CIRCLE | W5: JAMBUVA O&M DIVISION | X5: KARJAN-II O&M S/D
A6: 2 | B6: Jaydipsinh Jashvantsinh Jadav,Vill-Kalyankui, Tal-Padra, Dist-Vadodara | C6: 06-01-2026 | D6: NFHD | J6: BASED ON THE COMPLAINT OF SHRI RAMANBHAI KALIDASBHAI PATEL, THERE WAS NO POWER ON ONE PHASE IN THE AG POWER CONNECTION, SO JAYDIPSINH J. JADAV WENT TO THE SITE AND AFTER GOING THERE, HE FOUND THAT THE Y PHASE JUMPER On The 63 KVA TRANSFORMER WAS BURNT.SO THAT THE LCP OF THE 11 KV DUDHWADA AG FEEDER WAS TAKEN AT 18:35 AND EARTHING WAS DONE ON THE MIDDLE PHASE. AFTER COMPLETION OF THE JUMPER WOK, WHILE COMING DOWN, THE WIRE OF THE ADJACENT PHASE TOUCHED HIS LEFT SHOULDER AND JAYDIP FELL DOWN FROM POLE. | Q6: Awaited | R6: NA | S6: NA | T6: Disiplinary action initiated for not usi of safety article not follow safety norms | U6: NA | V6: BARODA O&M CIRCLE | W6: JAMBUVA O&M DIVISION | X6: MOBHA O&M S/D
A7: 3 | B7: Shankarbhai Nakubhai Rathva,Axar Yug Society,mVill-Pavlepur, Tal-Vaghodia, Dist-Vadodara | C7: 14-01-2026 | D7: FHO | J7: ON DATED 14.01.2026 VICTIM WAS FLYING KITE ON THE TERRACE OF HOUSE NO A 36 AXAR YUG SOCIETY WHILE TRYING TO CATCH THE KITE STRING HE CAME TO TERRACE OF HOUSE NO A 37 AND ACCIDENTLY COME IN CONTACT OF 11 KV LINE OF GAYATRI JGY FEEDER PASISING NEAR TO THE HOUSE NO A 37 AND ELECTROCUTED AND DIED | Q7: Awaited | R7: NA | S7: NA | T7: Open OH line replaced with MVCC | U7: NA | V7: BARODA O&M CIRCLE | W7: JAMBUVA O&M DIVISION | X7: Khatamba S/Dn
A8: 4 | B8: Mahiben Rajeshbhai Solanki,Vill-Rinichhia, Tal-Kalol, Dist-Panch Mahals | C8: 14-01-2026 | D8: NFHO | J8: AS PER THE PRIMARY REPORT AND STATEMENT OF PANCHOS ON DATED 14 01 2026 KITE FESTIVAL AROUND 11 15 HRS VICTIM SHRI MAHIBEN RAJESHBHAI SOLANKI GOT AN ELECTRIC SHOCK LINE LINE OF 11 KV RINCHHIYA AG FEEDERS POLE WHILE REMOVING THE STUCKED KITE FROM THE POLE FATHER OF THE VICTIM WAS IN THE NEAREST FRAM HE HEARD THE EXPLOSION AND REACHING ON THE SPOT THE VICTIM WAS FOUND TO HAVE FALLEN ON THE GROUND AND BOTH HANDS OF THE VICTIM WERE BURNT AND HENCE THE VICTIM WAS IMMENDIATALY TAKEN TO THE VEJALPUR GOVERMENT HOSPITAL | Q8: Awaited | R8: Awaited | S8: Awaited | T8: Local people gathered at the site were informed that no one should climb on the line in such a manner. The public is regularly made aware of safety precautions through information published in newspapers and through safety awareness programs conducted in schools and other public places such as fairs. | U8: NA | V8: GODHRA CIRCLE | W8: HALOL O&M DIVISION | X8: Vejalpur S/dn
A9: 5 | B9: Laxmanbhai Punambhai Baraiya,Vill-Aklacha, Tal-Mehmedabad, Dist-Kheda | C9: 15-01-2026 | D9: FA | J9: Mr. Baraiya Laxmanbhai Punabhai Age: 40 Years Was Grazing His Buffaloes Near Water Works Aklacha TC Where One Of His Buffalo While Itching Touched His Head To TC Pole Where Due To A LT Fault, Return Power Might Have Arrived On The Earthing Wire Of The TC Structure And The Buffalo Got Shock | Q9: Awaited | R9: NA | S9: NA | T9: earthing done with PVC pipe . Line maintenance done by sdn | U9: 1500/11.03.2026 | V9: NADIAD CIRCLE | W9: MEHMDABAD O&M DIVISION NEW | X9: Haldarwas S/D New
A10: 6 | B10: Arvindbhai Shivabhai Parmar,Vill-Khijalpur Talpad, Tal-Thasra, Dist-Kheda | C10: 19-01-2026 | D10: FA | J10: AS PER PRIMARY INVESTIGATION, THE ACCIDENT OCCURRED DUE THE BUFFALO PASSING THROUGH NEAR BY TC AND WHILE GOING TO GRAZE THE GRASS NEAR BY AG TC. BUFFALO TOUCHED THE GI WIRE OF AG TC EARTHING MAY CAUSE THE ELECTROCUTION. AT PLACE WE HAVE FOUND LEAKAGE PATH DUE TO DETORITED OF TC EARTHING. THE DETAIL CAUSE OF DEATH CAN BE DETERMINED AFTER PM REPORT | Q10: Awaited | R10: NA | S10: NA | T10: NEW EARTHING WORK DONE OF TC. | U10: FINAL PAID30000/11.02.2026 | V10: NADIAD CIRCLE | W10: NADIAD O&M DIVISION NEW | X10: Dakor S/D New
A11: 7 | B11: Rameshbhai Mahendrabhai Patanwadiya,Vadhvana Navi Nagri,Vill-Dabhoi (M), Tal-Dabhoi, Dist-Vadodara | C11: 23-01-2026 | D11: FHO | J11: THE VICTIM WAS CARRIED OUT LINTEL WORK FOR HOUSE CONSTRUCTION THEN IRON ROAD WAS IN HIS HAND AND IT CAME CONTACT TO LIVE WIRE OF MALU AG FEEDAR AND GOT ELECTRIC SHOK AND DIED.THE LINE ON SAFE DISTANCE | Q11: Awaited | R11: NA | S11: NA | T11: Notice issued to house Owner shri Darmisthaben d Patawadiya L.NO: DBH/R/B/1306 DT:02-02-2026 & (2) Chandrakant R Patanvadiya -DBH/HR/1307 & 02-02-2026 | U11: L.NO:-DBH/FH/605/1547 DT:16-04-26, INITIAL COMPENSATION GIVEN ON DT:28-04-2026 , BY CVNO: 237 (1,00,000 Rs) | V11: BARODA O&M CIRCLE | W11: DABHOI O&M DIVISION | X11: DABHOI(R) O&M S/D
A12: 8 | B12: Jagdishbhai Kantibhai Dabhi,Near vav chokdi,Vill-Salaiya, Tal-Virpur, Dist-Mahisagar | C12: 27-01-2026 | D12: FHD | J12: Today, Dated 27.01.2026, Under Virpur S/Dn. Two Teams Were Formed Team 1R T Malivad J K Dabhi Is With Contractor Tree Cutting Gang.Tema 2Shri P K Valand ALM Is With Contractor Gang For Conductor Replacement Work.P K Valand Has Taken Line Clear At 10:00 Hrs And Has Returned LC After Completion Of All Maintenance Work At 17:45 .As Per Substation Operator P K Valand And J K Dabhi Is At Sub Station After Returning LC.Then J K Dabhi Has Approached To Switch Near 30 No Pole To Check Switch .As Per Information From P K Valand, He Has Observed A Tripping At Bhatpur AG And Immediately Contacted J K Dabhi But Communication Couldn't Established.Then P K Valand Has Visited The Site And Found J K Dabhi Is Electrocuted And Body Is Lying Near Switch DP.As Per Primary Report Victim Is Electrocuted Through 11 KV HT Line.Current Entered Through Left Hand And Burning At Throat And Neck Is Observed .Post Mortem And Police Panchnama Is Awaited. | Q12: Awaited | R12: Awaited | S12: Awaited | T12: All line staff have been instructed for Strict implementation of Line clear instead of hand trip.Safety training has been imparted to all line staff. | U12: NA | V12: GODHRA CIRCLE | W12: LUNAWADA O&M DIVISION | X12: Virpur S/D
A13: 9 | B13: Maheshbhai Parshotambhai Vania,Vill-Vadodara (M Corp. + OG), Tal-Vadodara, Dist-Vadodara | C13: 28-01-2026 | D13: FHD | J13: On Dated 28.01.2026 There Was A Planned Shutdown Of 11 KV Hari Darshan Feeder And The Maintenance Program Like Creeper, Kite Thread Removal Was Given To Shri M P Vania ALM Along With 3 Nos Of App Lineman And As Part Of That He Was Working Near Brahma Kumari TC Center Which Also Have Double Supply AB Switch On It In Off Condition I.E. There Was No Power On Transformer Means Haridarshan Feeder Was In OFF Condition But Narayan Feeder Was In Live Condition In One Part Of ABS. The Double Supply Was Mentioned On Pole Of TC Center By Painting With Red White Color And Also Double Supply Sign Board Was There On Pole Of TC Center. During Working On TC Center For Removing The Kite Threads Which Were Spread On Entire TC Center He Climbed The TC Center At The Side Of AB Switch With Double Supply And Came In Contact With Live Part Of 11 KV Narayan Urban Feeder And Get Electrocuted Around 07:47 AM. After That App Line Staff Working With Him Called DE Atladra. DE Atladra Along With JE And Other Line Staff Reached At The Site Around 07:50 AM And Took Him To BAPS Hospital In Atladra. On The Morning Of 29.01.2026 Victim Died During The Treatment. | Q13: Awaited | R13: Awaited | S13: Awaited | T13: RMU to be proposed at site. & Regular safety tarining given to linestaff for use of safety PPE kit and double power supply. | U13: NA | V13: BARODA CITY CIRCLE | W13: VISHVAMITRI(W) DIVISION | X13: Atladara S/D
A14: 10 | B14: Virpalsinh Vinodsinh Thakor,Gayatri nagar,Vill-Govindi, Tal-Godhra, Dist-Panch Mahals | C14: 04-02-2026 | D14: FHO | J14: As Per Preliminary Information,A Mandap Was Erected In The Common Area Of Gaytri Nagar 3 Society, Govindi, For A Marriage Function Scheduled On 07.02.2026 And 08.02.2026 By Shiv Mandap Decorators, Village Bahi, Sahera. An 11KV Govindi Ag Feeder From 66/1 1KV Jafrabad Substation Passes Over The Side Area. On 04.02.202, While Installing Decorative Cloth On The Mandap Structure, Shri Virpalsinh Solanki Climbed Appox 12 Feet High On The Iron Structure And Reporately Came Within The Induction Zone Of The 11 KV Line. | Q14: YES | R14: compliance of Regulations 15 and 66 of the CEA (Measures Relating to Safety and Electric Supply) Regulations, 2023 | S14: Yes | T14: Notices to such defaulters to be issued | U14: Pending, as consent not submitted | V14: GODHRA CIRCLE | W14: GODHRA O&M DIVISION | X14: GODHRA(R) O&M S/D
A15: =1+A14 -> 11 | B15: Yuvaraj Mohankumar Marwadi,Vill-Borsad (M), Tal-Borsad, Dist-Anand | C15: 07-02-2026 | D15: NFHO | J15: Victim Was Flying A Kite In Backside Of Suresh Tobacco Khari Where Labour Rooms Were Constructed Adjucent To Fencing Wall With Wired Fencing On Said Wall. During That Time A Kite Get Struct With Nearby Passing 11 KV Alarasa AG Feeder Line And Victim Climbed Up To Roof Of Labour Rooms To Remove Kite From Line And Get Electrocuted. | Q15: Yes | R15: Maintain Clearance as per Norms | S15: No | T15: 03 Nos of Extention V cross arm is installed to maintain ground clearance & tree cutting done | U15: No | V15: ANAND CIRCLE | W15: BORSAD DIVISION | X15: BORSAD(T) O&M S/D
A16: =1+A15 -> 12 | B16: Kiranbhai Pravinbhai Pagi,Patel faliyu,Vill-Chandsar, Tal-Lunawada, Dist-Mahisagar | C16: 09-02-2026 | D16: FHO | J16: ON DTD 09.02.2026 AT APPROX. 08:00 PM, SH. KIRANBHAI PRAVINBHAI PAGI, WERE DOING MANDAP DECORATION WORK FOR MARRIAGE FUNCTION OF HOUSE OF SH. PATEL PARTHKUMAR KANUBHAI AT PATEL FALIYU, CHANSAR. DURING MANDAP DECORATION WORK, HE WAS CLIMBED ON IRON BEAM OF MANDAP, WHICH WAS STANDING 12 FT ABOVETHE GROUND , ABOVE WHICH AT APPROX. 4 FT 11 KV CHAVADIYA AG LINE WAS PASSING THROUGH.SO WHEN SH. KIRANBHAI PRAVINBHAI PAGI WAS CLIMBED ON IRON BEAM OF MANDAP HE CAME INTO CONTACT WITH 11 KV CHAVADIYA AG FEEDER AND GOT ELECTROCUTED. | Q16: Awaited | R16: Awaited | S16: Awaited | T16: Proposed MVCC instead of Bare conductor near by residency | U16: Pending, as consent not submitted | V16: GODHRA CIRCLE | W16: LUNAWADA O&M DIVISION | X16: LUNAWADA-I O&M SD
A17: =1+A16 -> 13 | B17: Harshkumar Rajubhai Rathod,Vill-Delol, Tal-Kalol, Dist-Panch Mahals | C17: 11-02-2026 | D17: FHO | J17: As Per The Police Statement And Eye Witness, The Primary Report And Statement Of Panchos On Dated 11.02.2026 Around 10:00 Hrs Late Victim Shri. Harshkumar Rajubhai Patel Got An Electric Shock Because A Live Conductor Of The Broken LT 4Wire Line 11Kv Delol Ag Feeder Was Accidentlly Snapped And Fallen On Standing Crop. The Victim Was Spraying Pesticides In The Field And Accidentally Came Into Contact With The Live Conductor. Then He Was Immediately Taken To The Hospital Was Declared Dead In The Hospital. | Q17: Awaited | R17: Awaited | S17: Awaited | T17: A distribution box has been installed on the TC, and the LT open line has been replaced with an LT ABC conductor. | U17: Pending, as consent not submitted | V17: GODHRA CIRCLE | W17: HALOL O&M DIVISION | X17: KALOL O&M S/D
A18: =1+A17 -> 14 | B18: Kamleshbhai Bhalabhai Chauhan,Vill-Sunda, Tal-Kapadvanj, Dist-Kheda | C18: 18-02-2026 | D18: FHO | J18: 1VICTIM KAMLESHBHAI BHALABHAI CHAUHAN HAD STARTED WORK OF CONSTRUCTION OF TOILET BATHROOM DURING CONSTRUCTION WORK VICTIM HAD TAKEN LONG V SHAPED APPROX 9 MTR IRON ROD IN HIS HAND AND BY MISTAKE HE HAD ARRANGED SAME IN VERTICAL POSITION INSTEAD OF HORIZONTAL FORGETTING THE POSITION OF FIELD DURING THIS TIME ACCIDENTALLY ONE SIDE OF LONG IRON ROD CAME IN CONTACT WITH HT CONDUCTOR VIRNIYA AGDOM FEEDER AND VICTIM ELCTROCUTED SUDDENLY FELL DOWN ON GROUND. | Q18: Awaited | R18: NA | S18: NA | T18: Maintanance of top fitting (staright) and line | U18: Consent pending | V18: NADIAD CIRCLE | W18: MEHMDABAD O&M DIVISION NEW | X18: Kapadwanj (East) S/Dn
A19: =1+A18 -> 15 | B19: Sushilaben Dilipbhai Rathod,Bariya Faliyu,Vill-Umarpur, Tal-Shehera, Dist-Panch Mahals | C19: 22-02-2026 | D19: FHO | J19: As Per Primary Report And Site Panchnama, While Walking In A Wet Irrigated Field, Shri Rayjibhai Abhesinh Rathod Was Carrying An Iron Rod Which Accidentally Came In To Contact With The Live Lt Conductor, Got Electric Shock His Daughter In Low Smt. Sushilaben Dilipbhai Rathod Attemped To Assist Him And Accidently Came In To Contact With The Iron Road Resulting In Electrocution. | Q19: YES | R19: Regular inspection, maintenance and repair of distribution network as per Regulation 14 & 15 of CEA Regulations-2023. | S19: Yes, Line Removed | T19: Conversion of OH Line by coated AB Cable & under line pole where clearence issues identefied | U19: Pending, as consent not submitted | V19: GODHRA CIRCLE | W19: GODHRA O&M DIVISION | X19: SHAHERA O&M S/D
A20: 16 | B20: Manmohan Ramnivas PathakVill-Muwalia, Tal-Dohad, Dist-Dahod | C20: 24-02-2026 | D20: FHO | J20: On Dated 24.02.2026 At 10:00 Hours In The Morning, Victim Late Shri Manmohan R Pathak And Shri Akash R Sahani Both Labour Went To Do Colour Painting Work Of Compound Wall Where Newly Cafe Constructed.While Shifting Iron Metal Cafe Advertisement Board From One Place To Other Place,Top Angle Of Advertisement Board Accidentally Get Contacted To Above Passing Live Conductor Of 11 KV Dhamarda JGY Feeder And Got Electrocuted And Fall Down On Ground. Thenafter Nearby People Came And Called 108 Emergency Ambulance Vehicle For Immediate Medical Treatment And Took Both Person To Zydus Hospital,Dahod For Further Medical Treatment.After Checking Both Victim, Resident Medical Officer Of Zydus Hospital Has Declared One Victim Shri Manmohan Ramnivas Pathak Dead On The Spot And Other Victim Shri Akash Rammilan Sahani Got Burned At Left Hand And Left Leg And Is Under Treatment At Zydus Hospital,Dahod.Note: Police Panchnama Report And Post Mortem Report Is Awaited | Q20: Awaited | R20: Awaited | S20: Awaited | T20: Notice issued for same case for illegal construction under ht line, after payment of line shifting work. work done for maintain ground level clearance of ht line. | U20: Pending, as consent not submitted | V20: GODHRA CIRCLE | W20: DAHOD O&M DIVISION | X20: Dahod Rural-II S/D
A21: =1+A20 -> 17 | B21: Jaydeepkumar Rangitbhai Gohil,Vill-Tulsipura, Tal-Savli, Dist-Vadodara | C21: 04-03-2026 | D21: FHO | J21: Today, On 432026, At 9:30 Am, Mr. Gohil Jaideepkumar Rangitbhai Climbed A Kesuda Tree Near The 11 KV Sandhasal Feeder Line Passing Through The Agricultural Boundary Area Of Dhantej Village To Pick Kesuda Flowers. While Climbing The Tree, The Tree Branch Which Hold His Hand Came In Contact With The Power Line Passing Nearby And He Died Due To Electric Shock. MGVCL Company Has Not Been Found Guilty In This Matter. | Q21: Awaited | R21: NA | S21: NA | T21: tree cutting done. | U21: NA | V21: BARODA O&M CIRCLE | W21: BARODA O&M DIVISION | X21: SAVLI O&M S/D
A22: =1+A21 -> 18 | B22: Pravinbhai Hirabhai Rathwa,Vill-Titod, Tal-Kavant, Dist-Chhota Udepur | C22: 07-03-2026 | D22: FA | J22: Shri Pravinbhai Hirabhai Rathwa's Owner Bullock Was Grazing In Keshiyabhai Apsingbhai Rathwa's Farm. 11Kv Panwad Ag Feeder Conductor Was Broken Down Already On The Feild. The Bullock Accidently Touches To The Conductor And May Felt Electric Shoke, Then It Fell Down On The Ground And Died On The Spot. | Q22: Awaited | R22: NA | S22: NA | T22: Conductor joint & restringing | U22: 12500 rs under process | V22: BARODA O&M CIRCLE | W22: Bodeli (O&M) Division | X22: KAWANT O&M S/D
A23: =1+A22 -> 19 | B23: Lakhabhai Hirabhai Bharwad,Vill-Salaiya, Tal-Virpur, Dist-Mahisagar | C23: 14-03-2026 | D23: FA | J23: A Message Was Received From A Villager At 16:00 Hrs On 14.03.2026 Regarding The Death Of A Goat Near The Transformer Centre Located Near Vav Chokdi, Salaiya. Immediately After Receiving The Information, The Site Was Visited By JE Shri M. R. Prajapati. During The Initial Site Verification, No Leakage Current Was Observed At The Transformer Centre, And The Transformer Body Earthing And Neutral Earthing Were Found In Normal Condition. Later, The Site Was Again Inspected By The Night Staff, Who Observed Return Current. As A Precautionary Safety Measure, The Transformer DO Fuse Was Removed During The Night To Isolate The Supply. The Site Was Again Inspected On The Next Day Morning. During Further Investigation, Sectionwise Isolation Of The LT Network Was Carried Out To Identify The Source Of The Leakage Current. After Isolating Different Sections Of The LT Line And Consumer Connections, It Was Observed That The Return Current Disappeared When The Supply To The Consumer Connection Of Shri Narendra Shankarsinh Parmar Was Isolated, Indicating That The Abnormal Current Was Associated With The Consumer Installation. During Inspection, Return Neutral Current Was Also Observed Near The Water Works Connection Located Close To The Transformer Centre, Indicating That Part Of The System Current Was Returning Through The Neutral Conductor And Surrounding Ground In That Area.Which Is Considered The Probable Cause Of Electrocution Of The Goat. | Q23: YES | R23: follow the safety regulation 2023 | S23: YES | T23: Transformer earthing reactivation has been completed. The neutral earthing GI wire has been covered with a PVC rigid pipe. , | U23: Pending, as consent not submitted | V23: GODHRA CIRCLE | W23: LUNAWADA O&M DIVISION | X23: Virpur S/D
A24: =1+A23 -> 20 | B24: Vijaybhai Babubhai Pagi,Vill-Hadabiya, Tal-Halol, Dist-Panch Mahals | C24: 15-03-2026 | D24: NFHO | J24: On Dated 15.03.2026 At Approximately 09:25 AM A Nonfatal Electrical Accident Occurred Involving An Outsider Contractor Worker Namely Pagi Vijaybhai Babubhai Age Approx. 25 Years Resident Of Hadabiya Tekra Faliyu During Execution Of New AG TC Claimed Work On 11KV Baliyadev AG Feeder. During The Course Of Work Tapping Point Activity Was Being Carried Out Where One Phase Jumper Joint And DODP Structure Was Ensuring Involved, Proper And It Was Shutdown Observed That DO Fuse Was In Short Condition 3 DO Short. Before PSC Pole And Isolation Of The 11KV Line The Victim Climbed On The DODP Contact With To Cut A Live The 11KV DO Short. Conductor While Performing This Unsafe Activity The Victim Came Into And Suffered Electric Shock. The Accident Occurred Primarily Procedures Due To Failure In Ensuring Line DE Energization Noncompliance Of Safety And Unsafe Act By The Contractor Worker. Additionally Lack Of Proper Supervision By The Contractor And Absence Or Nonuse Of Adequate Personal Protective Equipment PPE Contributed To The Incident. Immediate Medical Assistance Was Provided To The Victim And The Work Was Stopped At Site. The Incident Highlights Serious Negligence On Part Of The Contractor In Enforcing Safety Practices And Ensuring Adherence To Permit To Work And Shutdown Procedures. Strict Compliance Of Safety Norms Proper Supervision Mandatory Use Of PPE And Accountability Of Contractor Are Essential To Prevent Recurrence Of Such Accidents In Future. | Q24: Awaited | R24: Awaited | S24: Awaited | T24: The contractor has been issued a notice to strictly follow safety procedures. They are instructed to use proper safety equipment, inform the concerned authority for the line, inform the lineman, and ensure that the line is completely shut down. It is mandatory to confirm whether the line is live or not before starting any work.by dischsrge and earthing. Further, before commencing any work, the contractor must inform the concerned officer, provide prior information about the work location, and confirm that the line has been shut down. Work shall be started only after ensuring all safety measures and using proper safety equipment. | U24: NA | V24: GODHRA CIRCLE | W24: HALOL O&M DIVISION | X24: HALOL(R) O&M S/D
A25: =1+A24 -> 21 | B25: Rahulbhai Rajubhai Mali,Vill-Padra (M + OG), Tal-Padra, Dist-Vadodara | C25: 23-03-2026 | D25: FHO | J25: Shri Mali Rahulbhai Rajubhai, Aged Approximately 24 Years, Resident Of Dabhasa Road, Padra, On Dated 23/03/2026 At Around 6:30 PM, Had Gone To Fetch Water From The Corporation Borewell Located Near The Government Nursery On Dabhasa Road. As Per The Eyewitness Account, The Deceased Shri Rahulbhai Was Attempting To Pluck Drumstick Pods From A Drumstick Tree Situated In The Field Of Shri Babubhai Chhaganbhai Dabhi, Located Near The Borewell. For This Purpose, He Was Using An Iron Pipe Of Approximately 20 Feet In Length. During This Process, While Swinging/Lifting The Pipe To Pluck The Pods, The Pipe Came Into Contact With The Nearby Passing 11 Kv Dabhasa Agricultural Power Line. As A Result, He Received An Electric Shock, Leading To The Electrical Accident | Q25: Awaited | R25: NA | S25: NA | T25: no any action required, Victim's fault | U25: NA | V25: BARODA O&M CIRCLE | W25: JAMBUVA O&M DIVISION | X25: PADRA O&M S/D
A26: =1+A25 -> 22 | B26: Maniben Saybabhai Damor,Vill-Bakor, Tal-Khanpur, Dist-Mahisagar | C26: 26-03-2026 | D26: NFHO | J26: ON DATE 26.03.26 TIME:18:30 PM SHRIMATI MANIBEN SAYBABHAI DAMOR WAS WATERING AT HER FARM. BINDING OF 2 WIRE OPEN LT WAS TOUCHING THE METAL CLAMP OF THE PSC POLE LT WHICH WAS IN TOUCH WITH THE EARTH WIRE. SHRIMATI MANIBEN DAMOR CAME IN CONTACT WITH THE EARTH WIRE AND SHE GOT THE ELECTRIC SHOCK. SHE WAS REFERED TO THE HOSPITAL. | Q26: Awaited | R26: Awaited | S26: Awaited | T26: Maintenance carried out and replace U-clamp & Sackle | U26: NA | V26: GODHRA CIRCLE | W26: LUNAWADA O&M DIVISION | X26: Bakor S/Dn
A27: 23 | B27: Ravindrasinh Jasvantsinh Parmar,Vill-Lilod, Tal-Karjan, Dist-Vadodara | C27: 29-03-2026 | D27: FHO | J27: On Dtd 01.04.2026, At 11.15 Hrs, Shri Ravindra Singh Jasvantsinh Parmar Who Was Working As Driver Of Dumper Vehicle GJ16 AY 1387 And He Was Standing On Top Of Vehicle Under 11 KV Ropa Ag Feeder Which Is Emanating From 66 KV Rarod Ss For Covering Vehicle By Green Carpet. But Unfortunately His Arm Was Touched With 11 Kv Ropa Ag Line And He Was Electrocuted Then After He Was Admitted In SSG Hopital For Primary Treatment But Docter Has Declared Him As Dead Which Is Inform By Eyewitness Shri Hanubhai Togabhai Bhuva. Measuring Vertical Distance Between Line And Surface Land Is Around 166 Foot And They Are Also Making Road By Filling Materials On Surface Land Around 42 Foot But While Visiting 66 KV Rarod Ss For Details Investigation, There Is No Tripping Arries On 11 KV Ropa Ag Dom Feeder During This Time Period 11. 00 Hrs And PM Report Is Awaited. | Q27: Awaited | R27: NA | S27: NA | T27: No any action required | U27: NA | V27: BARODA O&M CIRCLE | W27: JAMBUVA O&M DIVISION | X27: KARJAN-II O&M S/D

Sheet MG SoP 03 
A1: SOP 3-00B - REGISTER FOR COMPILING THE COMPLAINTS - CLASSIFIFCATION WISE
A2: ='MG COVER PAGE'!A2 -> Quarter of the year : Q-IV (Jan-Feb-Mar-2026)
A3: Name of Office : MGVCL Corporate Office
A4: Classification | B4: Nature of Complaints | C4: Pending complaints of previous qtr. | D4: Complaints received during the qtr. | E4: Total Complaints | F4: No. of Complaints redressed during the quarter. | I4: Balance Complaints to be redressed
F6: Within stipulated time. | G6: Beyond stipulated time. | H6: Total
B7: 1 | C7: 2 | D7: 3 | E7: 4=2+3 | F7: 5 | G7: 6 | H7: 7=5+6 | I7: 8=4-7
A8: A | B8: Interruption in power supply | C8: =SUM(C9:C13) -> 0 | D8: =SUM(D9:D13) -> 144833 | E8: =C8+D8 -> 144833 | F8: =SUM(F9:F13) -> 144833 | G8: =SUM(G9:G13) -> 0 | H8: =F8+G8 -> 144833 | I8: =E8-H8 -> 0
A9: I | B9: Loose connections at meter, MCB or service line or from pole | C9: 0 | D9: =[25]ANC!D9+[25]BCC!D9+[25]BRD!D9+[25]GDC!D9+[25]NDC!D9 -> 71208 | E9: =C9+D9 -> 71208 | F9: =[25]ANC!F9+[25]BCC!F9+[25]BRD!F9+[25]GDC!F9+[25]NDC!F9 -> 71208 | G9: =[25]ANC!G9+[25]BCC!G9+[25]BRD!G9+[25]GDC!G9+[25]NDC!G9 -> 0 | H9: =F9+G9 -> 71208 | I9: =E9-H9 -> 0
A10: II | B10: Interruption due to line breakdown | C10: 0 | D10: =[25]ANC!D10+[25]BCC!D10+[25]BRD!D10+[25]GDC!D10+[25]NDC!D10 -> 25392 | E10: =C10+D10 -> 25392 | F10: =[25]ANC!F10+[25]BCC!F10+[25]BRD!F10+[25]GDC!F10+[25]NDC!F10 -> 25392 | G10: =[25]ANC!G10+[25]BCC!G10+[25]BRD!G10+[25]GDC!G10+[25]NDC!G10 -> 0 | H10: =F10+G10 -> 25392 | I10: =E10-H10 -> 0
A11: III | B11: No power complaint on account of blowing of HT/ DropOut (DO)/ LT fuse | C11: 0 | D11: =[25]ANC!D11+[25]BCC!D11+[25]BRD!D11+[25]GDC!D11+[25]NDC!D11 -> 25148 | E11: =C11+D11 -> 25148 | F11: =[25]ANC!F11+[25]BCC!F11+[25]BRD!F11+[25]GDC!F11+[25]NDC!F11 -> 25148 | G11: =[25]ANC!G11+[25]BCC!G11+[25]BRD!G11+[25]GDC!G11+[25]NDC!G11 -> 0 | H11: =F11+G11 -> 25148 | I11: =E11-H11 -> 0
A12: IV | B12: Interruption due to failure of transformer or distribution transformer MCB | C12: 0 | D12: =[25]ANC!D12+[25]BCC!D12+[25]BRD!D12+[25]GDC!D12+[25]NDC!D12 -> 2215 | E12: =C12+D12 -> 2215 | F12: =[25]ANC!F12+[25]BCC!F12+[25]BRD!F12+[25]GDC!F12+[25]NDC!F12 -> 2215 | G12: =[25]ANC!G12+[25]BCC!G12+[25]BRD!G12+[25]GDC!G12+[25]NDC!G12 -> 0 | H12: =F12+G12 -> 2215 | I12: =E12-H12 -> 0
A13: V | B13: Load shedding/ schedule outages | C13: 0 | D13: =[25]ANC!D13+[25]BCC!D13+[25]BRD!D13+[25]GDC!D13+[25]NDC!D13 -> 20870 | E13: =C13+D13 -> 20870 | F13: =[25]ANC!F13+[25]BCC!F13+[25]BRD!F13+[25]GDC!F13+[25]NDC!F13 -> 20870 | G13: =[25]ANC!G13+[25]BCC!G13+[25]BRD!G13+[25]GDC!G13+[25]NDC!G13 -> 0 | H13: =F13+G13 -> 20870 | I13: =E13-H13 -> 0
A14: B | B14: Quality of power supply | C14: =SUM(C15:C19) -> 0 | D14: =SUM(D15:D19) -> 6450 | E14: =C14+D14 -> 6450 | F14: =SUM(F15:F19) -> 6450 | G14: =SUM(G15:G19) -> 0 | H14: =F14+G14 -> 6450 | I14: =E14-H14 -> 0
A15: I | B15: Ordinary case, which requires no augmentation, | C15: 0 | D15: =[25]ANC!D15+[25]BCC!D15+[25]BRD!D15+[25]GDC!D15+[25]NDC!D15 -> 3213 | E15: =C15+D15 -> 3213 | F15: =[25]ANC!F15+[25]BCC!F15+[25]BRD!F15+[25]GDC!F15+[25]NDC!F15 -> 3213 | G15: =[25]ANC!G15+[25]BCC!G15+[25]BRD!G15+[25]GDC!G15+[25]NDC!G15 -> 0 | H15: =F15+G15 -> 3213 | I15: =E15-H15 -> 0
A16: II | B16: Where augmentation is required. | C16: 0 | D16: =[25]ANC!D16+[25]BCC!D16+[25]BRD!D16+[25]GDC!D16+[25]NDC!D16 -> 890 | E16: =C16+D16 -> 890 | F16: =[25]ANC!F16+[25]BCC!F16+[25]BRD!F16+[25]GDC!F16+[25]NDC!F16 -> 890 | G16: =[25]ANC!G16+[25]BCC!G16+[25]BRD!G16+[25]GDC!G16+[25]NDC!G16 -> 0 | H16: =F16+G16 -> 890 | I16: =E16-H16 -> 0
A17: III | B17: Harmonics related issue | C17: 0 | D17: =[25]ANC!D17+[25]BCC!D17+[25]BRD!D17+[25]GDC!D17+[25]NDC!D17 -> 28 | E17: =C17+D17 -> 28 | F17: =[25]ANC!F17+[25]BCC!F17+[25]BRD!F17+[25]GDC!F17+[25]NDC!F17 -> 28 | G17: =[25]ANC!G17+[25]BCC!G17+[25]BRD!G17+[25]GDC!G17+[25]NDC!G17 -> 0 | H17: =F17+G17 -> 28 | I17: =E17-H17 -> 0
A18: IV | B18: Neutral voltage related issue | C18: 0 | D18: =[25]ANC!D18+[25]BCC!D18+[25]BRD!D18+[25]GDC!D18+[25]NDC!D18 -> 540 | E18: =C18+D18 -> 540 | F18: =[25]ANC!F18+[25]BCC!F18+[25]BRD!F18+[25]GDC!F18+[25]NDC!F18 -> 540 | G18: =[25]ANC!G18+[25]BCC!G18+[25]BRD!G18+[25]GDC!G18+[25]NDC!G18 -> 0 | H18: =F18+G18 -> 540 | I18: =E18-H18 -> 0
A19: V | B19: Voltage variations related issue | C19: 0 | D19: =[25]ANC!D19+[25]BCC!D19+[25]BRD!D19+[25]GDC!D19+[25]NDC!D19 -> 1779 | E19: =C19+D19 -> 1779 | F19: =[25]ANC!F19+[25]BCC!F19+[25]BRD!F19+[25]GDC!F19+[25]NDC!F19 -> 1779 | G19: =[25]ANC!G19+[25]BCC!G19+[25]BRD!G19+[25]GDC!G19+[25]NDC!G19 -> 0 | H19: =F19+G19 -> 1779 | I19: =E19-H19 -> 0
A20: C | B20: Meters | C20: =SUM(C21:C26) -> 0 | D20: =SUM(D21:D26) -> 34675 | E20: =C20+D20 -> 34675 | F20: =SUM(F21:F26) -> 34675 | G20: =SUM(G21:G26) -> 0 | H20: =F20+G20 -> 34675 | I20: =E20-H20 -> 0
A21: I | B21: Stopped/Defective Meters. | C21: 0 | D21: =[25]ANC!D21+[25]BCC!D21+[25]BRD!D21+[25]GDC!D21+[25]NDC!D21 -> 14831 | E21: =C21+D21 -> 14831 | F21: =[25]ANC!F21+[25]BCC!F21+[25]BRD!F21+[25]GDC!F21+[25]NDC!F21 -> 14831 | G21: =[25]ANC!G21+[25]BCC!G21+[25]BRD!G21+[25]GDC!G21+[25]NDC!G21 -> 0 | H21: =F21+G21 -> 14831 | I21: =E21-H21 -> 0
A22: II | B22: Meter accuracy test (Fast/ Slow | C22: 0 | D22: =[25]ANC!D22+[25]BCC!D22+[25]BRD!D22+[25]GDC!D22+[25]NDC!D22 -> 1216 | E22: =C22+D22 -> 1216 | F22: =[25]ANC!F22+[25]BCC!F22+[25]BRD!F22+[25]GDC!F22+[25]NDC!F22 -> 1216 | G22: =[25]ANC!G22+[25]BCC!G22+[25]BRD!G22+[25]GDC!G22+[25]NDC!G22 -> 0 | H22: =F22+G22 -> 1216 | I22: =E22-H22 -> 0
A23: III | B23: Burnt Meter | C23: 0 | D23: =[25]ANC!D23+[25]BCC!D23+[25]BRD!D23+[25]GDC!D23+[25]NDC!D23 -> 467 | E23: =C23+D23 -> 467 | F23: =[25]ANC!F23+[25]BCC!F23+[25]BRD!F23+[25]GDC!F23+[25]NDC!F23 -> 467 | G23: =[25]ANC!G23+[25]BCC!G23+[25]BRD!G23+[25]GDC!G23+[25]NDC!G23 -> 0 | H23: =F23+G23 -> 467 | I23: =E23-H23 -> 0
A24: IV | B24: Stolen Meter | C24: 0 | D24: =[25]ANC!D24+[25]BCC!D24+[25]BRD!D24+[25]GDC!D24+[25]NDC!D24 -> 6 | E24: =C24+D24 -> 6 | F24: =[25]ANC!F24+[25]BCC!F24+[25]BRD!F24+[25]GDC!F24+[25]NDC!F24 -> 6 | G24: =[25]ANC!G24+[25]BCC!G24+[25]BRD!G24+[25]GDC!G24+[25]NDC!G24 -> 0 | H24: =F24+G24 -> 6 | I24: =E24-H24 -> 0
A25: V | B25: Billing on average basis for more than two hills | C25: 0 | D25: =[25]ANC!D25+[25]BCC!D25+[25]BRD!D25+[25]GDC!D25+[25]NDC!D25 -> 4843 | E25: =C25+D25 -> 4843 | F25: =[25]ANC!F25+[25]BCC!F25+[25]BRD!F25+[25]GDC!F25+[25]NDC!F25 -> 4843 | G25: =[25]ANC!G25+[25]BCC!G25+[25]BRD!G25+[25]GDC!G25+[25]NDC!G25 -> 0 | H25: =F25+G25 -> 4843 | I25: =E25-H25 -> 0
A26: VI | B26: Meter boxes/ metering system | C26: 0 | D26: =[25]ANC!D26+[25]BCC!D26+[25]BRD!D26+[25]GDC!D26+[25]NDC!D26 -> 13312 | E26: =C26+D26 -> 13312 | F26: =[25]ANC!F26+[25]BCC!F26+[25]BRD!F26+[25]GDC!F26+[25]NDC!F26 -> 13312 | G26: =[25]ANC!G26+[25]BCC!G26+[25]BRD!G26+[25]GDC!G26+[25]NDC!G26 -> 0 | H26: =F26+G26 -> 13312 | I26: =E26-H26 -> 0
A27: D | B27: Overhead lines | C27: =SUM(C28:C29) -> 0 | D27: =SUM(D28:D29) -> 4787 | E27: =C27+D27 -> 4787 | F27: =SUM(F28:F29) -> 4787 | G27: =SUM(G28:G29) -> 0 | H27: =F27+G27 -> 4787 | I27: =E27-H27 -> 0
A28: I | B28: Loose Wires | C28: 0 | D28: =[25]ANC!D28+[25]BCC!D28+[25]BRD!D28+[25]GDC!D28+[25]NDC!D28 -> 4031 | E28: =C28+D28 -> 4031 | F28: =[25]ANC!F28+[25]BCC!F28+[25]BRD!F28+[25]GDC!F28+[25]NDC!F28 -> 4031 | G28: =[25]ANC!G28+[25]BCC!G28+[25]BRD!G28+[25]GDC!G28+[25]NDC!G28 -> 0 | H28: =F28+G28 -> 4031 | I28: =E28-H28 -> 0
A29: II | B29: Inadequate ground clearance | C29: 0 | D29: =[25]ANC!D29+[25]BCC!D29+[25]BRD!D29+[25]GDC!D29+[25]NDC!D29 -> 756 | E29: =C29+D29 -> 756 | F29: =[25]ANC!F29+[25]BCC!F29+[25]BRD!F29+[25]GDC!F29+[25]NDC!F29 -> 756 | G29: =[25]ANC!G29+[25]BCC!G29+[25]BRD!G29+[25]GDC!G29+[25]NDC!G29 -> 0 | H29: =F29+G29 -> 756 | I29: =E29-H29 -> 0
A30: E | B30: Bills | C30: =SUM(C31:C34) -> 0 | D30: =SUM(D31:D34) -> 8411 | E30: =C30+D30 -> 8411 | F30: =SUM(F31:F34) -> 8411 | G30: =SUM(G31:G34) -> 0 | H30: =F30+G30 -> 8411 | I30: =E30-H30 -> 0
A31: I | B31: For current bills where no additional information is required | C31: 0 | D31: =[25]ANC!D31+[25]BCC!D31+[25]BRD!D31+[25]GDC!D31+[25]NDC!D31 -> 5564 | E31: =C31+D31 -> 5564 | F31: =[25]ANC!F31+[25]BCC!F31+[25]BRD!F31+[25]GDC!F31+[25]NDC!F31 -> 5564 | G31: =[25]ANC!G31+[25]BCC!G31+[25]BRD!G31+[25]GDC!G31+[25]NDC!G31 -> 0 | H31: =F31+G31 -> 5564 | I31: =E31-H31 -> 0
A32: II | B32: Where additional information relating to correctness of reading etc. is required, | C32: 0 | D32: =[25]ANC!D32+[25]BCC!D32+[25]BRD!D32+[25]GDC!D32+[25]NDC!D32 -> 2497 | E32: =C32+D32 -> 2497 | F32: =[25]ANC!F32+[25]BCC!F32+[25]BRD!F32+[25]GDC!F32+[25]NDC!F32 -> 2497 | G32: =[25]ANC!G32+[25]BCC!G32+[25]BRD!G32+[25]GDC!G32+[25]NDC!G32 -> 0 | H32: =F32+G32 -> 2497 | I32: =E32-H32 -> 0
A33: III | B33: Final bill for vacation of premises/ change of occupancy | C33: 0 | D33: =[25]ANC!D33+[25]BCC!D33+[25]BRD!D33+[25]GDC!D33+[25]NDC!D33 -> 177 | E33: =C33+D33 -> 177 | F33: =[25]ANC!F33+[25]BCC!F33+[25]BRD!F33+[25]GDC!F33+[25]NDC!F33 -> 177 | G33: =[25]ANC!G33+[25]BCC!G33+[25]BRD!G33+[25]GDC!G33+[25]NDC!G33 -> 0 | H33: =F33+G33 -> 177 | I33: =E33-H33 -> 0
A34: IV | B34: Change of Tariff | C34: 0 | D34: =[25]ANC!D34+[25]BCC!D34+[25]BRD!D34+[25]GDC!D34+[25]NDC!D34 -> 173 | E34: =C34+D34 -> 173 | F34: =[25]ANC!F34+[25]BCC!F34+[25]BRD!F34+[25]GDC!F34+[25]NDC!F34 -> 173 | G34: =[25]ANC!G34+[25]BCC!G34+[25]BRD!G34+[25]GDC!G34+[25]NDC!G34 -> 0 | H34: =F34+G34 -> 173 | I34: =E34-H34 -> 0
A35: F | B35: Service connections | C35: =SUM(C36:C44) -> 0 | D35: =SUM(D36:D44) -> 11576 | E35: =C35+D35 -> 11576 | F35: =SUM(F36:F44) -> 11576 | G35: =SUM(G36:G44) -> 0 | H35: =F35+G35 -> 11576 | I35: =E35-H35 -> 0
A36: I | B36: Where extension of LT line up to 150 Metre is required | C36: 0 | D36: =[25]ANC!D36+[25]BCC!D36+[25]BRD!D36+[25]GDC!D36+[25]NDC!D36 -> 1601 | E36: =C36+D36 -> 1601 | F36: =[25]ANC!F36+[25]BCC!F36+[25]BRD!F36+[25]GDC!F36+[25]NDC!F36 -> 1601 | G36: =[25]ANC!G36+[25]BCC!G36+[25]BRD!G36+[25]GDC!G36+[25]NDC!G36 -> 0 | H36: =F36+G36 -> 1601 | I36: =E36-H36 -> 0
A37: II | B37: Where extension of LT line of more than 150 Metre and/or augmentation of distribution transformer is required | C37: 0 | D37: =[25]ANC!D37+[25]BCC!D37+[25]BRD!D37+[25]GDC!D37+[25]NDC!D37 -> 1194 | E37: =C37+D37 -> 1194 | F37: =[25]ANC!F37+[25]BCC!F37+[25]BRD!F37+[25]GDC!F37+[25]NDC!F37 -> 1194 | G37: =[25]ANC!G37+[25]BCC!G37+[25]BRD!G37+[25]GDC!G37+[25]NDC!G37 -> 0 | H37: =F37+G37 -> 1194 | I37: =E37-H37 -> 0
A38: III | B38: Where erection of new distribution transformer is required | C38: 0 | D38: =[25]ANC!D38+[25]BCC!D38+[25]BRD!D38+[25]GDC!D38+[25]NDC!D38 -> 886 | E38: =C38+D38 -> 886 | F38: =[25]ANC!F38+[25]BCC!F38+[25]BRD!F38+[25]GDC!F38+[25]NDC!F38 -> 886 | G38: =[25]ANC!G38+[25]BCC!G38+[25]BRD!G38+[25]GDC!G38+[25]NDC!G38 -> 0 | H38: =F38+G38 -> 886 | I38: =E38-H38 -> 0
A39: IV | B39: Where erection of new HT line and distribution transformer is required and/ or existing HT line network is required to be augmented. | C39: 0 | D39: =[25]ANC!D39+[25]BCC!D39+[25]BRD!D39+[25]GDC!D39+[25]NDC!D39 -> 1763 | E39: =C39+D39 -> 1763 | F39: =[25]ANC!F39+[25]BCC!F39+[25]BRD!F39+[25]GDC!F39+[25]NDC!F39 -> 1763 | G39: =[25]ANC!G39+[25]BCC!G39+[25]BRD!G39+[25]GDC!G39+[25]NDC!G39 -> 0 | H39: =F39+G39 -> 1763 | I39: =E39-H39 -> 0
A40: V | B40: Where EHT level line and/ or Sub-station is required to be erected and/ or augmented | C40: 0 | D40: =[25]ANC!D40+[25]BCC!D40+[25]BRD!D40+[25]GDC!D40+[25]NDC!D40 -> 0 | E40: =C40+D40 -> 0 | F40: =[25]ANC!F40+[25]BCC!F40+[25]BRD!F40+[25]GDC!F40+[25]NDC!F40 -> 0 | G40: =[25]ANC!G40+[25]BCC!G40+[25]BRD!G40+[25]GDC!G40+[25]NDC!G40 -> 0 | H40: =F40+G40 -> 0 | I40: =E40-H40 -> 0
A41: VI | B41: Modification in connected load | C41: 0 | D41: =[25]ANC!D41+[25]BCC!D41+[25]BRD!D41+[25]GDC!D41+[25]NDC!D41 -> 1747 | E41: =C41+D41 -> 1747 | F41: =[25]ANC!F41+[25]BCC!F41+[25]BRD!F41+[25]GDC!F41+[25]NDC!F41 -> 1747 | G41: =[25]ANC!G41+[25]BCC!G41+[25]BRD!G41+[25]GDC!G41+[25]NDC!G41 -> 0 | H41: =F41+G41 -> 1747 | I41: =E41-H41 -> 0
...

Sheet MG SoP 04
A1: ='MG COVER PAGE'!A1 -> Name of Distribution Licensee: M.G.V.C.L.
A2: ='MG SoP 03 '!A2:I2 -> Quarter of the year : Q-IV (Jan-Feb-Mar-2026)
A3: ='MG COVER PAGE'!A3 -> Year: 2025-26
A4: Performa SoP 004 : Publicity carried out while displaying the contact details of consumer complaints centers.
A5: Particulars should also cover the details of publication of “Manual of Practice for Handling Complaint/ Consumer Charter/ Complaint Charter”, consumer awareness program conducted, advertisement done through various media like TV, newspaper, radio, pamphlets & booklet distributions, Displays etc. The development of website and any medium through which public education is carried out can be included.
A7: Sr. No. (1) | B7: Actions or steps carried out by distribution licensee towards public awareness in the quarter (2) | C7: Likely number of consumers influenced (3) | D7: Details about Media (4)
D8: the Media
A9: 1 | B9: RTI Officers Name is displayed at customer care centre on each office | C9: 3755344 | D9: -
A10: 2 | B10: Necessary information regarding time schedule for new connection and solving complaints is display on the board. | C10: 3755344 | D10: -
A11: 3 | B11: Contact nos. of various officers of the company for emergency contact is also displayed at customer care centre. | C11: 3755344 | D11: Website/ News paper
A12: 4 | B12: Safety Meeting with Line Staff at various S/dn,Divisions on Every Monday (Line staff influenced) | C12: =9120+9622+10663 -> 29405 | D12: Meeting/ line staff infulenced

Sheet MG SoP - 05
A1: Name of Distribution Licensee: M G V C L
A2: Financial Year: 2025-26
A3: Quarter : Q-IV (Jan-26 TO Mar-26)
A4: Performa SoP 005: Failure of Distribution Transformer
A5: Sr. No. | B5: Name of Circle | C5: Nos. of existing Distribution Transformers at the start of the quarter | D5: Nos. of Distribution Transformers added during the quarter | E5: Total number of Distribution Transformers on end of quarter | F5: Total number of Distribution transformer failed during quarter | G5: % failure rate of Distribution transformer
C6: A | D6: B | E6: C=A+B | F6: D | G6: H = (D)*100/C
A7: 1 | B7: Baroda O&M | C7: 68630 | D7: =E7-C7 -> 634 | E7: 69264 | F7: 611 | G7: =F7*100/E7 -> 0.88213213
A8: 2 | B8: Baroda City | C8: 11919 | D8: =E8-C8 -> 131 | E8: 12050 | F8: 30 | G8: =F8*100/E8 -> 0.24896266
A9: 3 | B9: Anand | C9: 29730 | D9: =E9-C9 -> 267 | E9: 29997 | F9: 120 | G9: =F9*100/E9 -> 0.40004
A10: 4 | B10: Nadiad | C10: 38955 | D10: =E10-C10 -> 380 | E10: 39335 | F10: 249 | G10: =F10*100/E10 -> 0.63302402
A11: 5 | B11: Godhra | C11: 72426 | D11: =E11-C11 -> 666 | E11: 73092 | F11: 839 | G11: =F11*100/E11 -> 1.1478684
B12: MGVCL | C12: =SUM(C7:C11) -> 221660 | D12: =SUM(D7:D11) -> 2078 | E12: =SUM(E7:E11) -> 223738 | F12: =SUM(F7:F11) -> 1849 | G12: =F12/E12*100 -> 0.82641304

Sheet SoP007
A1: ='[26]MG COVER PAGE'!A1 -> Name of Distribution Licensee: M G V C L
A2: ='[26]MG COVER PAGE'!A2 -> Quarter : Q-4 (JAN-FEB-MAR-2026)
A3: ='[26]MG COVER PAGE'!A3 -> Year: 2025-26
A4: Performa SoP 007: Sample Test result for Neutral Voltage
A6: Compliance Sample Test Report for Neutral Voltage
A7: -1 | B7: -2 | C7: -3 | D7: -4 | E7: -5 | F7: -6
A8: Sr. No | B8: Category of consumers | C8: Sample Size | D8: Standard specified in regulation | E8: Deviation of results from the sample test (Numbers) | F8: % age compliance
C9: (Numbers) | F9: (6) = (5)*100/(3)
B10: LT consumers | C10: =SUM(C11:C15) -> 1441 | D10: 2% | E10: =SUM(E11:E15) -> 0 | F10: =E10*100/C10 -> 0
A11: 1 | B11: Domestic | C11: 1023 | D11: 2% | E11: 0 | F11: =E11*100/C11 -> 0
A12: 2 | B12: Commercial | C12: 242 | D12: 2% | E12: 0 | F12: =E12*100/C12 -> 0
A13: 3 | B13: Industrial | C13: 23 | D13: 2% | E13: 0 | F13: =E13*100/C13 -> 0
A14: 4 | B14: Agricultural | C14: 143 | D14: 2% | E14: 0 | F14: 0
A15: 5 | B15: Public water works | C15: 10 | D15: 2% | E15: 0 | F15: 0
B16: HT consumers | D16: 2%
A17: 6 | B17: HT industrial | C17: 5 | D17: 2% | E17: 0 | F17: =E17*100/C17 -> 0

Sheet SoP008
A1: ='[26]MG COVER PAGE'!A1 -> Name of Distribution Licensee: M G V C L
A2: ='[26]MG COVER PAGE'!A2 -> Quarter : Q-4 (JAN-FEB-MAR-2026)
A3: ='[26]MG COVER PAGE'!A3 -> Year: 2025-26
A4: Performa SoP 008: Sample Test result for Voltage variations
A5: Compliance Sample Test Report for voltage variations
A6: -1 | B6: -2 | C6: -3 | D6: -4 | E6: -5
A7: Voltage Level | B7: Sample Size (numbers) | C7: Limit or prescribed standard | D7: Deviation of results from the sample test (Numbers) | E7: % age compliance
E8: (5) = (4)*100/(2)
A9: Low Voltage | B9: 56 | C9: +6% to -6% | D9: 0 | E9: =D9*100/B9 -> 0
A10: High Voltage | B10: 24 | C10: +6% to -9% | D10: 0 | E10: 0
A11: Extra High Voltage | B11: 1 | C11: +10% to -12.50% | D11: 0 | E11: 0

Sheet SoP009
A1: ='[26]MG COVER PAGE'!A1 -> Name of Distribution Licensee: M G V C L
A2: ='[26]MG COVER PAGE'!A2 -> Quarter : Q-4 (JAN-FEB-MAR-2026)
A3: ='[26]MG COVER PAGE'!A3 -> Year: 2025-26
A4: Performa SoP 009: Sample Test result for Harmonics
A5: Compliance Sample Test Report for Harmonics
A6: -1 | B6: -2 | C6: -3 | D6: -4 | E6: -5 | F6: -6
A7: Sr. No | B7: Category of consumers | C7: Sample size (Numbers) | D7: Limit or standard prescribed | E7: Deviation of results from the sample test (Numbers) | F7: %age compliance
F8: (6) = (5)*100/(3)
A9: 1 | B9: LT consumers | C9: 33 | D9: 0.035 | E9: 0 | F9: =E9*100/C9 -> 0
A10: 2 | B10: HT consumers | C10: 4 | D10: 0.03 | E10: 0 | F10: 0
A11: 3 | B11: EHT consumers | C11: 1 | D11: 0.03 | E11: 0 | F11: 0
A13: Note: The licensee shall also submit along with the above harmonic data, the records of customer wise drawls of harmonic currents measured at various strategic points.
A15: The formats SoP 008, SoP 009 and SoP 010 have to be sent annually.
A16: For the purpose of annual submissions, the year end has to be considered as the end of December month of a particular year.

Sheet 010
A1: Q-IV (JAN - MAR 2026)
A2: Year: 2025-26
A3: SoP 010 – A System Average Interruption Frequency Index (SAIFI)
A4: Sr. No | B4: Month | C4: Number of Sustained Interruptions during the Reporting Period = Ai | D4: Number of Interrupted Customers for Sustained Interruption events during the Reporting Period = Ni | E4: Total number of Customers Served for the Areas = Nt | F4: Total Number of Interrupted Customers for Sustained Interruption events during the Reporting Period = Σ (Ai x Ni) | G4: SAIFI = Σ (Ai x Ni) /Nt
A5: 1 | B5: 2 | C5: 3 | D5: 4 | E5: 5 | F5: 6 = Σ (3 x 4) | G5: 7 = 6 / 5
A6: 1 | B6: 46042 | C6: 24676 | D6: 3139899 | E6: 3718700 | F6: 32820112 | G6: 8.83
A7: 2 | B7: 46073 | C7: 17872 | D7: 2534144 | E7: 3717381 | F7: 21234715 | G7: 5.71
A8: 3 | B8: 46101 | C8: 26884 | D8: 2670240 | E8: 3732327 | F8: 32337661 | G8: 8.66
C9: =SUM(C6:C8) -> 69432 | D9: =SUM(D6:D8) -> 8344283 | E9: =SUM(E6:E8) -> 11168408 | F9: =SUM(F6:F8) -> 86392488 | G9: =F9/E9 -> 7.7354345

Sheet 011
A2: ='010'!A2 -> Year: 2025-26
A3: SoP 011 – System Average Interruption Duration Index (SAIDI)
A4: Sr. No | B4: Month | C4: Number of Sustained Interruptions during the Reporting Period = Ai (Nos) | D4: Total Outage Duration (Hr : Min) | E4: Restoration time for each Interruption Event = Ri (Hr : Min) | F4: Number of Interrupted Customers for Sustained Interruption events during the Reporting Period = Ni (Nos) | G4: Total Customer Interruption Duration = Ri x Ni (Hr : Min) | H4: Total Number of Customers Served for the Areas = Nt (Nos) | I4: Cumulative Customer Interruptions Duration = Σ(Ri x Ni) (Hr : Min) | J4: SAIDI = Σ (Ri x Ni) / Nt (Hr : Min)
A5: 1 | B5: 2 | C5: 3 | D5: 4 | E5: 5 = 4 / 3 | F5: 6 | G5: 7 = 5 x 6 | H5: 8 | I5: 9 = Σ (5 x 6) | J5: 10 = 9 /8
A6: 1 | B6: 46042 | C6: 24676 | D6: 10841:12 | E6: 0.018055556 | F6: 3139899 | G6: 1360622:54 | H6: 3718700 | I6: 1226008:09 | J6: 0.013888889
A7: 2 | B7: 46073 | C7: 17872 | D7: 326.45556 | E7: 0.018055556 | F7: 2534144 | G7: 1098129:04 | H7: 3717381 | I7: 966632:03 | J7: 0.011111111
A8: 3 | B8: 46101 | C8: 26884 | D8: 13810:58 | E8: 0.021527778 | F8: 2670240 | G8: 1379624:00 | H8: 3732327 | I8: 1466372:05 | J8: 0.016666667
C9: =SUM(C6:C8) -> 69432 | D9: 32487:06 | E9: =SUM(E6:E8) -> 0.057638889 | F9: =SUM(F6:F8) -> 8344283 | G9: 3838375:58 | H9: =SUM(H6:H8) -> 11168408 | I9: 4333028:57 | J9: =AVERAGE(J6:J8) -> 0.013888889

Sheet 012
A1: ='010'!A1 -> Q-IV (JAN - MAR 2026)
A2: ='011'!A2 -> Year: 2025-26
A3: SoP 012 – : Momentary Average Interruption Frequency Index (MAIFI)
A4: Sr. No | B4: Month | C4: Total Number of Momentary interruptions = Imi | D4: Total Number of Consumers affected due to Momentary Interruption Events during the Reporting Period = Nmi | E4: Number of Customer Momentary Interruptions = IMi * Nmi | F4: Total Number of Customers Served for the Areas = Nt | G4: Cumulative Momentary Customer Interruptions = Σ (Imi x Nmi) | H4: MAIFI = Σ (IMi x Nmi)/ Nt
A5: 1 | B5: 2 | C5: 3 | D5: 4 | E5: 5=3*4 | F5: 6 | G5: 7 = Σ (3 x 4) | H5: 8=7/6
A6: 1 | B6: 46042 | C6: 36345 | D6: 2937479 | E6: 106762674255 | F6: 3718700 | G6: 51536091 | H6: 13.86
A7: 2 | B7: 46073 | C7: 26995 | D7: 2268940 | E7: 61250035300 | F7: 3717381 | G7: 33263195 | H7: 8.95
A8: 3 | B8: 46101 | C8: 38388 | D8: 2411227 | E8: 92562182076 | F8: 3732327 | G8: 49546684 | H8: 13.28
C9: =SUM(C6:C8) -> 101728 | D9: =SUM(D6:D8) -> 7617646 | E9: =SUM(E6:E8) -> 260574891631 | F9: =SUM(F5:F8) -> 11168414 | G9: =SUM(G5:G8) -> 134345970 | H9: =G9/F9 -> 12.0291

Sheet 013
A1: ='010'!A1 -> Q-IV (JAN - MAR 2026)
A2: ='011'!A2 -> Year: 2025-26
A3: SoP 013 – : Customer Average Interruption Duration Index (CAIDI)
A4: Sr. No | B4: Month | C4: Total Number of Sustained Interruptions during the Reporting Period = Σ Ai | D4: Total Restoration time for Interruption Events = Σ Ri (Hr : Min) | E4: Total Number of Interrupted Customers for Sustained Interruption events during the Reporting Period = Σni | F4: CAIDI=Σ (Ri x Ni) / Σ (Ai x Ni) = SAIDI/ SAIFI
A5: 1 | B5: 2 | C5: 3 | D5: 4 | E5: 5 | F5: 6 = (4 x 5) / (3 x 5)
A6: 1 | B6: 46023 | C6: 24676 | D6: 26.36 | E6: 3139899 | F6: 0.0013888889
A7: 2 | B7: 46054 | C7: 17872 | D7: 26.3 | E7: 2534144 | F7: 0.0020833333
A8: 3 | B8: 46082 | C8: 26884 | D8: 30.82 | E8: 2670240 | F8: 0.0020833333
C9: =SUM(C6:C8) -> 69432 | D9: =SUM(D6:D8) -> 83.48 | E9: =SUM(E6:E8) -> 8344283 | F9: =+(D9*E9)/(C9*E9) -> 0.0012023275

Sheet MG SoP - 15
B2: Name of Distribution Licensee: M G V C L
B3: Financial Year: 2025-26
B4: Quarter : Q-IV (Jan-26 TO Mar-26)
B5: Performa SoP 015: Faulty Meters Replacement
B6: Consumer Category | C6: No. of faulty meters at the start of the quarter | D6: No. of faulty meters added during the quarter | E6: Total no. of defective / faulty Meter | F6: No. of faulty Meters repaired and replaced | G6: No of faulty meters pending at the end of the quarter | H6: Remark
C7: 1 | D7: 2 | E7: (3)=(2)+(1) | F7: 4 | G7: (5)=(3)-(4)
B8: Single Phase | C8: 10114 | D8: 26771 | E8: =D8+C8 -> 36885 | F8: 25729 | G8: =E8-F8 -> 11156
B9: Three Phase | C9: 4720 | D9: 5583 | E9: =C9+D9 -> 10303 | F9: 5584 | G9: =E9-F9 -> 4719

Sheet MG SoP 16
A1: ='[26]MG COVER PAGE'!A1 -> Name of Distribution Licensee: M G V C L
A2: ='[26]MG COVER PAGE'!A2 -> Quarter : Q-4 (JAN-FEB-MAR-2026)
A3: ='[26]MG COVER PAGE'!A3 -> Year: 2025-26
A4: Performa SoP 016: Compensation details
A5: COMPENSATION DETAILS
A6: Sr. No. | B6: Service Area | C6: Compensation payable to | D6: Claimed | F6: Payable
C7: consumer for the period of default in case of violation of standard | D7: No. of cases | E7: Amount (Rs.) | F7: No. of cases in which compensation is payable | G7: Amount payable (Rs.) | H7: Amount paid (Rs.)
A8: 1 | B8: Registration of complaint and intimation of Unique complaint Number to the Complainant | C8: Rs. 50/- for each default | D8: 0 | E8: 0 | F8: 0 | G8: 0 | H8: 0
A9: 2 | B9: Issuance of Demand Note for New Connection, Load Enhancement, Shifting of connection at other premises, Conversion of Service, Temporary Supply, Shifting of Service Connection in exiting premises, Deviation of line and Shifting of equipments | C9: Rs. 50 for each day of default. | D9: 0 | E9: 0 | F9: 0 | G9: 0 | H9: 0
A10: 3 | B10: New Connection, Load Enhancement, Shifting of connection at other premises and Conversion of Service where no Network erection and/or augmentation is required. | C10: Rs. 50 for each day of default. | D10: 0 | E10: 0 | F10: 0 | G10: 0 | H10: 0
A11: 4 | B11: New Connection, Load Enhancement, Shifting of connection at other premises and Conversion of Service where Network erection and/or augmentation is required. | C11: Rs. 50 for each day of default. | D11: 0 | E11: 0 | F11: 0 | G11: 0 | H11: 0
A12: 5 | B12: Release of temporary supply | C12: Rs. 50 for each day of default. | D12: 0 | E12: 0 | F12: 0 | G12: 0 | H12: 0
A13: 6 | B13: Shifting of meter/services in the existing premises | C13: Rs. 50 for each day of default. | D13: 0 | E13: 0 | F13: 0 | G13: 0 | H13: 0
A14: 7 | B14: Shifting of LT/HT lines | D14: 0 | E14: 0 | F14: 0 | G14: 0 | H14: 0
A15: 8 | B15: Shifting of Transformer structures | D15: 0 | E15: 0 | F15: 0 | G15: 0 | H15: 0
A16: 9 | B16: Settlement of amount for refunding of excess amount after completion of work. | D16: 0 | E16: 0 | F16: 0 | G16: 0 | H16: 0
A17: 10 | B17: Transfer of Service Connection with respect to change of name or change of ownership | C17: Rs. 50 for each day of default. | D17: 0 | E17: 0 | F17: 0 | G17: 0 | H17: 0
A18: 11 | B18: Application from consumer requesting Change in Tariff Class/Category. | C18: Rs. 50 for each day of default. | D18: 0 | E18: 0 | F18: 0 | G18: 0 | H18: 0
A19: 12 | B19: Complaint Related to Billing | C19: Rs. 50 for each day of default. | D19: 0 | E19: 0 | F19: 0 | G19: 0 | H19: 0
A20: 13 | B20: Replacement of Meter | C20: Rs. 25/- for each day of default subject to maximum of Rs. 1500/- for LT connections and Rs. 250/- for each day of default subject to maximum of Rs. 2500/- for HT connections. | D20: 0 | E20: 0 | F20: 0 | G20: 0 | H20: 0
A21: 14 | B21: Reconnection of Supply | C21: Rs. 25/- for each six hours (or part thereof) of delay in restoration of supply subject to maximum Rs. 500/- for LT connection and Rs. 50/- for each six hours (or part thereof) of delay in restoration of supply subject to maximum Rs. 1000/- for HT connection. | D21: 0 | E21: 0 | F21: 0 | G21: 0 | H21: 0
A22: 15 | B22: More than 2 interruptions in a day to the consumer for the reasons not attributable to the nature of fault as mentioned in Clause 8.4 of these Regulations. | C22: Rs. 25/- for each interruption subject to maximum Rs. 500/- for LT connection and Rs. 50/- for each interruption subject to maximum Rs. 1000/- for HT connection. | D22: 0 | E22: 0 | F22: 0 | G22: 0 | H22: 0
A23: 16 | B23: Failure to restore power supply in case of blowing of fuse of LT side distribution transformer, at consumer premises, trouble of MCB of distribution transformer, loose connection at pole, MCB or meter, etc. | C23: Rs. 50/- per hour per Consumer for the first two hours of default. Thereafter Rs. 100/- per hour per Consumer subject to maximum of Rs. 500/- per day for LT consumer and maximum of Rs. 2000/- per day for HT consumer. | D23: 0 | E23: 0 | F23: 0 | G23: 0 | H23: 0
A24: 17 | B24: Failure to restore power supply in case of blowing of HT side fuse of distribution transformer | D24: 0 | E24: 0 | F24: 0 | G24: 0 | H24: 0
A25: 18 | B25: Failure to restore power supply in case of HT and LT line fault | D25: 0 | E25: 0 | F25: 0 | G25: 0 | H25: 0
A26: 19 | B26: Failure to restore power supply in case of Distribution transformer failure | D26: 0 | E26: 0 | F26: 0 | G26: 0 | H26: 0
A27: 20 | B27: Failure to restore power supply in case of failure of underground service or underground HT/LT cable | D27: 0 | E27: 0 | F27: 0 | G27: 0 | H27: 0
