Workbook
Name \1: #REF!
Name \1: #REF!
Name \2: [1]TLPPOCT!#REF!
Name \2: [1]TLPPOCT!#REF!
Name \a: #REF!
Name \a: #REF!
Name \b: #REF!
Name \b: #REF!
Name \p: #REF!
Name \p: #REF!
Name __1_1_1: #REF!
Name __1_1_1: #REF!
Name __2_1_1_1: #REF!
Name __2_1_1_1: #REF!
Name _1: #REF!
Name _1: #REF!
Name _1_1: #REF!
Name _1_1: #REF!
Name _1_1_1: #REF!
Name _1_1_1: #REF!
Name _1_1_1_1: #REF!
Name _1_1_1_1: #REF!
Name _1_1_1_1_1: #REF!
Name _1_1_1_1_1: #REF!
Name _1_10: #REF!
Name _1_10: #REF!
Name _1_2: #REF!
Name _1_2: #REF!
Name _1_2_1: #REF!
Name _1_2_1: #REF!
Name _1_7: #REF!
Name _1_7: #REF!
Name _1_8: #REF!
Name _1_8: #REF!
Name _1_9: #REF!
Name _1_9: #REF!
Name _10Excel_BuiltIn__FilterDatabase_10_1: #REF!
Name _10Excel_BuiltIn__FilterDatabase_10_1: #REF!
Name _11Excel_BuiltIn__FilterDatabase_11_1: #REF!
Name _11Excel_BuiltIn__FilterDatabase_11_1: #REF!
Name _12Excel_BuiltIn__FilterDatabase_9_1: #REF!
Name _12Excel_BuiltIn__FilterDatabase_9_1: #REF!
Name _13Excel_BuiltIn_Database_1: #REF!
Name _13Excel_BuiltIn_Database_1: #REF!
Name _14Excel_BuiltIn_Database_1_1: #REF!
Name _14Excel_BuiltIn_Database_1_1: #REF!
Name _15Excel_BuiltIn_Database_1_11_1: #REF!
Name _15Excel_BuiltIn_Database_1_11_1: #REF!
Name _16Excel_BuiltIn_Database_1_6_1: #REF!
Name _16Excel_BuiltIn_Database_1_6_1: #REF!
Name _2: [1]TLPPOCT!#REF!
Name _2: [1]TLPPOCT!#REF!
Name _2_1: [1]TLPPOCT!#REF!
Name _2_1: [1]TLPPOCT!#REF!
Name _2_1_1: [1]TLPPOCT!#REF!
Name _2_1_1: [1]TLPPOCT!#REF!
Name _2_1_1_1: [1]TLPPOCT!#REF!
Name _2_1_1_1: [1]TLPPOCT!#REF!
Name _2_1_1_1_1: [1]TLPPOCT!#REF!
Name _2_1_1_1_1: [1]TLPPOCT!#REF!

Sheet MG COVER PAGE
A1: Name of Distribution Licensee: M G V C L
A2: Quarter of the year : Q-IV (Jan-Feb-Mar-2024-25)
A3: Year: 2024-25

Sheet MG SoP 01 
A1: Name of Distribution Licensee: M G V C L
A2: Quarter IV (Jan-25 to Mar-25)
A3: Year:2024-25
A4: Performa - SoP 001: Fatal and Non-fatal accident report
A5: NUMBER OF ACCIDENTS FOR THE FOURTH QUARTER 2024-25
A6: Sr. No | B6: Name of Area/Circle | C6: No of accidents in the quarter | H6: Cumulative since the first quarter of the current FY year
C7: Departmental | E7: Outside | H7: Departmental | J7: Outside
C8: FH | D8: NFH | E8: FH | F8: FA | G8: NFH | H8: FH | I8: NFH | J8: FH | K8: FA | L8: NFH
A9: 1 | B9: Baroda City | D9: 1 | E9: 1 | G9: 1 | H9: 0 | I9: 3 | J9: 3 (1-Pvt) | K9: 3 | L9: 1
A10: 2 | B10: Baroda (O&M) | D10: 1 | E10: 3 (1-Pvt) | H10: 1 | I10: 9 | J10: 12 (1-Pvt) | K10: 19 | L10: 4
A11: 3 | B11: Anand | D11: 1 | E11: 1 | H11: 0 | I11: 3 | J11: 10 (4-Pvt) | K11: 5 | L11: 0
A12: 4 | B12: Godhra | E12: 5 (3-Pvt) | F12: 1 | H12: 2 | I12: 4 | J12: 25 (8-Pvt) | K12: 42 | L12: 3
A13: 5 | B13: Nadiad | E13: 1 | F13: 2 | G13: 1 | H13: 0 | I13: 6 | J13: 7 | K13: 19 | L13: 4
B14: TOTAL | C14: 0 | D14: 3 | E14: 11 (4-Pvt) | F14: 3 | G14: 2 | H14: =H9+H10+H11+H12+H13 -> 3 | I14: =I9+I10+I11+I12+I13 -> 25 | J14: 57 (14-Pvt) | K14: =K9+K10+K11+K12+K13 -> 88 | L14: =L9+L10+L11+L12+L13 -> 12
G15: =C14+D14+F14+G14+11 -> 19 | L15: =H14+I14+57+K14+L14 -> 185

Sheet SoP 002
A1: Performa – SoP 003: Action taken report for safety measures complied for the accidents occurred
A5: 1 | B5: 2 | C5: =B5+1 -> 3 | D5: =C5+1 -> 4 | E5: =D5+1 -> 5 | F5: =E5+1 -> 6 | G5: =F5+1 -> 7 | H5: =G5+1 -> 8 | I5: =H5+1 -> 9 | J5: 5 | K5: =J5+1 -> 6 | L5: =K5+1 -> 7 | M5: =L5+1 -> 8 | N5: =M5+1 -> 9 | O5: =N5+1 -> 10 | P5: =O5+1 -> 11 | Q5: 6 | R5: =Q5+1 -> 7 | S5: =R5+1 -> 8 | T5: =S5+1 -> 9 | U5: 10 | V5: =U5+1 -> 11 | W5: =V5+1 -> 12 | X5: =W5+1 -> 13 | Y5: =X5+1 -> 14
A6: Sr. No | B6: Location of Accident and details of the victim | C6: Date of occurrence | D6: Type of Accident | E6: Installation | G6: Accident Type | J6: Cause of Accident | K6: Findings of CEI / EI / AEI | L6: Remedies suggested by CEI /EI / AEI in various cases | M6: Whether the remedy suggested is complied | N6: Action taken to avoid recurrence of such Accident | O6: CEI REPORT received YES/NO | P6: If No then , mention letter no. and date written to CEI/EI/AEI office. | Q6: Findings of CEI / EI / AEI | R6: Remedies suggested by CEI /EI / AEI in various cases | S6: Whether the remedy suggested is complied | T6: Action taken to avoid recurrence of such Accident | U6: Amount of compensation and date of compensation paid | V6: Circle office | W6: Division | X6: Sub-division | Y6: Reason
A7: 1 | B7: Buffalo owner Damor Ramanbhai Sardarbhai,Chari area,Vill-Naroda,Tal-Khanpur,Dist-Mahisagar | C7: 45667 | D7: FA | J7: During site visit , an eyewitness reported an incident involving a buffalo near a lt pole.the buffalo was grazing near chari area of village. In the course of time , billing of lt insulator broken and touches the u clamp.as u clamp is connected with gi earthing wire , the buffalocomes in contact with this wire.upon contact with this wire,the buffalo suffered electrocution and died | Q7: Awaited | R7: NA | S7: NA | T7: Broken insulator change and Binding Repaired at location. Propper maintenance carried out | U7: 15000/-Date 11.03.25 | V7: Godhra | W7: Lunawada | X7: Bakor | Y7: 2
A8: 2 | B8: Khishorbhai Karshanbhai Makwana,Dhobi dovan vistar,Vill-Nagra,Tal-Khambhat,Dist-Anand | C8: 45667 | D8: FHO | J8: A Victim Kishorsanbhai karshanbhai Makwana was labour of civil work today ,i.e 10.01.2025 victim was working at the construction of the ordi of sh hasmbhai mohmadbhai malek at undi sim road village: Nagra .there is an 11 kv line of Jinaj AG feeder passing near to under construction ordi. as per eye witness the incedent happenned when he went for tea.the victim was removing the patiya of the roof with iron rod.accidently the victim was may have came in contact with live wire of 11 kv line and | Q8: Awaited | R8: NA | S8: NA | T8: Notice Issued letter No:Cambay R /Tech/232 Date:08.01.2025 | U8: Rs.100000/- date:04.03.2025 and Transcation Type:NEFT BARBP25063608303 | V8: Anand | W8: Petlad | X8: Cambay R | Y8: 6
A9: 3 | B9: Bahadursinh Bhavar,Vill-Timberwa,Tal-Sinor,Dist-Vadodara | C9: 45674 | D9: FHO | J9: The tempo which are full with cotton was passing from below the 11kv timberwa AG line. At that time the victim was stood back side of tempo on cotton and due to negligence he may touched with live wire of 11kv timberwa AG feeder and got electrocuted. However the remaining labors who are already sited in tempo not electrocuted. | Q9: Awaited | R9: NA | S9: NA | T9: Clearance ok, restringing of conductor done | V9: Baroda O & M | W9: Dabhoi | X9: Sinor | Y9: 2
A10: 4 | B10: Ravindrabhai Varshngbhai Suvar,Vill-Sarshva Purv,Tal-Fatepura,Dist-Dahod | C10: 45676 | D10: FHO-Pvt | J10: According to the Police station report and punchnama on january 19,2025, the victim slong with the other people from his neighbourhood,had gone to Dhadhela village to play timali.While returning to Sarsva near Charel faliya,he and his friend Rumalbhai went the back side of a shop around 2:00AM at night. It was mentioned in the police report that the corn field farm were energized from the private wire of the house. So, the victime may have been electructed when he came in contact with them. | Q10: Awaited | R10: NA | S10: NA | T10: Notice issue to consumer and also FIR done from police side. | V10: Godhra | W10: Dahod | X10: Fatepura | Y10: 8
A11: 5 | B11: Parmar Rajendrabhai Rameshbhai,Briosis Soft Pvt. Ltd.,Vill-Jarod,Tal-Waghodia,Dist-Vadodara | C11: 45682 | D11: FHO-Pvt | J11: Current Leakage at Gelitin Plant inside BRIOSIS Company | Q11: Awaited | R11: NA | S11: NA | T11: Consumer Electricity connection Disconnected and notice given dor fresh test report | V11: Godhra | W11: Halol | X11: Halol | Y11: 8
A12: 6 | B12: Dhrmendra Hasmukhbhai Jaiswal,Jyotinagar near jansi ki rani circle,Vill-Subhanpura,Tal-Vadodara,Dist-Vadodara | C12: 45693 | D12: FHO | J12: As per the statement given by linestaff the Victim was doing work of laying of LT AB cable for Newly erected TC on the double supply LT Pole which was made dead by making the Transformer OFF. While working on the pole he got Electric shock and was hanging on the pole. Then he was brought down by other staff and was taken to GMERS hospital through 108 vehicle. The detail investigation is under progress. | Q12: Awaited | R12: NA | S12: NA | T12: Double supply portion made dead and provided Double supply board. | V12: Baroda City | W12: Vishvamitri (W) | X12: Gotri | Y12: 2
A13: 7 | B13: Shri Vijaybhai Chatrabhai Parmar,Vill-Namishra,Tal-Savli,Dist-Vadodara | C13: 45698 | D13: NFHD-Mech | J13: after compation of lt comapaint work when he get down from psc pole he lost his balance and fall down | Q13: Awaited | R13: NA | S13: NA | T13: During the Safety meeting necessary guideline were pass on to all line staff to carryout the work safely. | V13: Baroda O&M | W13: Baroda O&M | X13: Savli | Y13: 7
A14: 8 | B14: CHauhan Shantaben Babubhai,Vill-Lakodna muvada,Tal-Godhra,Dist-Panchmahal | C14: 45704 | D14: FHO-Pvt | J14: Victim smt Chauhan Shantaben babubhai try to Remove the two pin plug from the motor without switch off the supply from light board and Accidentally Came in Contact to live part of two pin plug and got Electric Shock and Electrocuted. | Q14: Awaited | R14: NA | S14: NA | T14: Consumer Electricity connection Disconnected and notice given dor fresh test report with ELCB | V14: Godhra | W14: Godhra | X14: Timba | Y14: 4
A15: 9 | B15: She-Buffalo of Lalitaben Kalidas Thakor,Vill-Areri,Tal-Mahemdabad,Dist-Kheda | C15: 45705 | D15: FA | J15: Broken live service wire came in contact with She Buffalo and got electrocuted. | Q15: Awaited | R15: NA | S15: NA | T15: Broken Electric Service Line removed. | V15: Nadiad | W15: Mehmdabad | X15: Mehmdabad | Y15: 4
A16: 10 | B16: Ishwarbhai Kanubhai Bhoi,Near Mamlatdar Office,Opp. Vraj Dham Flat,Vill-Manjalpur,Tal-Vadodara,Dist-Vadodara | C16: 45709 | D16: NFHD-Mech | J16: All safety equipments were issued and used by i k bhoi.during tree cutting work ,tree branch fall near him and to protect himself and maintain his balance at that time his leg got twisted. | Q16: As mechanical Accident. - NO CEI report. | R16: NA | S16: NA | T16: During the Safety meeting necessary guideline were pass on to all line staff to carryout the work safely. | V16: Baroda City | W16: Lalbaug | X16: Manjalpur | Y16: 7
A17: 11 | B17: Shri Arjunbhai Chatrabhai Bariya,Vill-Jaga Na Muvada,Tal-Ghoghamba,Dist-Panchmahal | C17: 45714 | D17: FHO | J17: it was observed that, a fatal Human accident occurred to. Shri Arjunbhai Chatrabhai Bariya near under construction house of Shri Maheshbhai Jashwantbhai Parmar at Jaga na muvada, kharkhadi Village. Ta.Ghoghamba, Dist.Panchamahal. Victim going towards under construction house of Shri Maheshbhai Jashwantbhai Parmar with beam made of metal roads, while passing under the 11kv Line of Farod Ag feeder, the victim has come in touch with live conductor of 11kv Farod Ag feeder through beam made of metal | Q17: Awaited | R17: NA | S17: NA | T17: Instruction given to work away from distribution network | V17: Godhra | W17: Halol | X17: Ghoghamba | Y17: 2
A18: 12 | B18: Nirmalbhai Gopalbhai Parmar,Juna Muvada,Vill-Vanoti,Tal-Thasra,Dist-Kheda | C18: 45680 | D18: NFHO | J18: Behind the house of victim 11kv line of Navakuva agdom fdr with bare cond. is passing. Victim claimed on the roof through the terrace of his home of his house for him per. work. At the time sudd. touch the 11kv line and fall down from roof and become unconscious. and now victim health condition is stable | Q18: Awaited | R18: NA | S18: NA | T18: The victim was informed and suggested not go near live 11kv lines for any work in future. | V18: Nadiad | W18: Nadiad | X18: Dakor | Y18: 2
A19: 13 | B19: Baria Sanjaybhai Amarsingh,Ghati Faliya,Vill-Devgadbaria,Tal-Devgadbaria,Dist-Dahod | C19: 45717 | D19: FHO | J19: 10 KVA Transformer Has HT Open Line IE 55Mm2 AAAC Which Is Still Not Charged Tapping Point Has Double Pole Structure Which Is Powered By Unbundled HT ABC Which Has 2 3 Rings Per Phase On Structure Which Was Bound With A Conducting Wire The Innermost Phase Of The HT ABC Has Deteriorated Outer Layer Due To Feeder Fault Occurred In Past, Which Came In Direct Connect With The Binding Wire Which Came In Contact With Uncharged 11Kv 55Mm2 AAAC Becomes Live Due To Power Fed From Binding Wire AS A Result | Q19: Awaited | R19: NA | S19: NA | T19: He was Contractor person and instruction givent to contractor to work after supply made off by company employee | V19: Godhra | W19: Dahod | X19: Devgadh Baria | Y19: 2
A20: 14 | B20: Vikramsinh Udesinh Vaghela,Vill-Marida,Tal-Nadiad,Dist-Kheda | C20: 45722 | D20: FHO | J20: Victim Was Watering In The Farm And He Came In Contact With Fencing Wire Surrounding His Farmwhich Was Tied With Gi Wire Of Lt Pole And Due To Binding Lt Abcable Got Seperated From Lt Insulator And Touched U Clamp And Lt Ab Cable Insulation Got Damage And Leakage Current Passed In Gi Wire Which Was Further Tied To Fencing Wire On The Pole And Victim Came In Contact With Fencing Wire And As Also There Was Wet Area And Got Electrocuted And Victim Fell Down And Become Unconscious At Spot And 108 Am | Q20: Awaited | R20: NA | S20: NA | T20: LT ABC replaced by providing new Abc | U20: Document not submitted Sdn Write letter to party for document L.No 1663/17.3.25 | V20: Nadiad | W20: Nadiad City | X20: Nadiad R | Y20: 4
A21: 15 | B21: Kiritkumar Parvatbhai Pateliya,Atmiya Vidhyadham,Vill-Bakrol,Tal-Anand,Dist-Anand | C21: 45727 | D21: NFHD | J21: The current flow through one jumper direct at tapping DO which was not disconnected but only three phases DO are disconnected,(loc.No.VVN/ISC/215)when the victim climb the pole for disconnect the jumper(loc. no.VVN/ISC/240) the power flow through this direct jumper of D.O. and accident occurs. | Q21: Awaited | R21: NA | S21: NA | T21: D O Bypass Jumper is made throgh D O Link | V21: Anand | W21: Anand City | X21: V V Nagar | Y21: 2
A22: 16 | B22: Garasiya Sahidbhai Bhikhubhai,Vill-Sayar,Tal-Karjan,Dist-Vadodara | C22: 45732 | D22: FHO | J22: The victim was working on Natvarbhai Natubhai Darbar fram (Ajitsinh Vajeshinh Parmar: Tap line) on dt. 16.03.25 , as per eye witness report, victim was touch Guy set and electrocuted. As per site visit by SDO no any electrical current leakage path found. Actual cause of accident under investigation | Q22: Awaited | R22: NA | S22: NA | T22: Required Maintanace is carried out | V22: Baroda O & M | W22: Jambuva | X22: Karjan-II | Y22: 8
A23: 17 | B23: Shri Vijaybhai Patel And Chandrakant Sureshbhai Vasava,Vill-Kothav,Tal-Karjan,Dist-Vadodara | C23: 45732 | D23: FHO-Pvt | J23: Victim Shri Vijaybhai Patel And Chandrakant Sureshbhai Vasava Passing Through The Farm Of Shri Sanjaybhai Naginbhai Patel At Village Kothav. Sanjaybhai Naginbhai Patel Of Owner Of Farm Has Given Direct LT Supply From His Load Side Fuse / Switch Board To Fencing Surrounding Of His Farm And Both Victm While Passing Through The Farm Accidently Touched The Fencing In Which LT Supply Is On And Both Died. In Above Incident There Is No Any Negligence Observed From MGVCL Side. | Q23: Awaited | R23: NA | S23: NA | T23: Consumer Electricity connection Disconnected and notice given dor fresh test report with ELCB | V23: Baroda O & M | W23: Jambuva | X23: Karjan-I | Y23: 6
A24: 18 | B24: Prabhatbhai Manilal Zala,Juna Lotiya,Vill-Suki,Tal-Kapadwanj,Dist-Kheda | C24: 45737 | D24: FA | J24: Bhemabhai Gokalbhai Zala Was Digging Land Of Prabhatsinh Manilal Zala With Two Bullock And During Digging Work One Leg Of One Bullock Stuck In Guy Set Of DODP Structure Of 11 KV Pardeshwar JGY Feeder And Due To This Guy Broke And Comes In Contact Of Bottom Of DO Fuses And Bullock Got Electric Shock And Died On Spot | Q24: Awaited | R24: NA | S24: NA | T24: Broken Guy Set Removed For Site | U24: Document pending | V24: Nadiad | W24: MEHMDABAD | X24: KAPADWANJ (E) | Y24: 2
A25: 19 | B25: Dangi Arvindbhai Navlsingbhai,Vill-Vadsar,Tal-Vadodara,Dist-Vadodara | C25: 45738 | D25: NFHO | J25: victim was trying to lift the steel rod and it was was supposed to break stick of a drumstick tree, and during attempting steel orad(appx. 12 ft long) steel rod to lift from a drumstick tree, said steel rod fell on angle of the nearby DP center of MGVCL Company and so as victim got electrocuted. | Q25: Awaited | R25: NA | S25: NA | T25: We arrange awareness program regarding safety to public. | V25: Baroda City | W25: LALBAUG | X25: GIDC | Y25: 6

Sheet MG SoP 03
A1: SOP 3-00B - REGISTER FOR COMPILING THE COMPLAINTS - CLASSIFIFCATION WISE
A2: ='MG COVER PAGE'!A2 -> Quarter of the year : Q-IV (Jan-Feb-Mar-2024-25)
A3: Name of Office : MGVCL Corporate office
A4: Classification | B4: Nature of Complaints | C4: Pending complaints of previous qtr. | D4: Complaints received during the qtr. | E4: Total Complaints | F4: No. of Complaints redressed during the quarter. | I4: Balance Complaints to be redressed
F6: Within stipulated time. | G6: Beyond stipulated time. | H6: Total
B7: 1 | C7: 2 | D7: 3 | E7: 4=2+3 | F7: 5 | G7: 6 | H7: 7=5+6 | I7: 8=4-7
A8: A | B8: Interruption in power supply | C8: =SUM(C9:C13) -> 0 | D8: =SUM(D9:D13) -> 128110 | E8: =C8+D8 -> 128110 | F8: =SUM(F9:F13) -> 126165 | G8: =SUM(G9:G13) -> 1945 | H8: =F8+G8 -> 128110 | I8: =E8-H8 -> 0
A9: I | B9: Loose connections at meter, MCB or service line or from pole | C9: 0 | D9: =[25]ANC!D9+[25]BCC!D9+[25]BRD!D9+[25]GDC!D9+[25]NDC!D9 -> 65626 | E9: =C9+D9 -> 65626 | F9: =[25]ANC!F9+[25]BCC!F9+[25]BRD!F9+[25]GDC!F9+[25]NDC!F9 -> 64778 | G9: =[25]ANC!G9+[25]BCC!G9+[25]BRD!G9+[25]GDC!G9+[25]NDC!G9 -> 848 | H9: =F9+G9 -> 65626 | I9: =E9-H9 -> 0
A10: II | B10: Interruption due to line breakdown | C10: 0 | D10: =[25]ANC!D10+[25]BCC!D10+[25]BRD!D10+[25]GDC!D10+[25]NDC!D10 -> 29508 | E10: =C10+D10 -> 29508 | F10: =[25]ANC!F10+[25]BCC!F10+[25]BRD!F10+[25]GDC!F10+[25]NDC!F10 -> 29352 | G10: =[25]ANC!G10+[25]BCC!G10+[25]BRD!G10+[25]GDC!G10+[25]NDC!G10 -> 156 | H10: =F10+G10 -> 29508 | I10: =E10-H10 -> 0
A11: III | B11: No power complaint on account of blowing of HT/ DropOut (DO)/ LT fuse | C11: 0 | D11: =[25]ANC!D11+[25]BCC!D11+[25]BRD!D11+[25]GDC!D11+[25]NDC!D11 -> 19080 | E11: =C11+D11 -> 19080 | F11: =[25]ANC!F11+[25]BCC!F11+[25]BRD!F11+[25]GDC!F11+[25]NDC!F11 -> 18404 | G11: =[25]ANC!G11+[25]BCC!G11+[25]BRD!G11+[25]GDC!G11+[25]NDC!G11 -> 676 | H11: =F11+G11 -> 19080 | I11: =E11-H11 -> 0
A12: IV | B12: Interruption due to failure of transformer or distribution transformer MCB | C12: 0 | D12: =[25]ANC!D12+[25]BCC!D12+[25]BRD!D12+[25]GDC!D12+[25]NDC!D12 -> 4804 | E12: =C12+D12 -> 4804 | F12: =[25]ANC!F12+[25]BCC!F12+[25]BRD!F12+[25]GDC!F12+[25]NDC!F12 -> 4598 | G12: =[25]ANC!G12+[25]BCC!G12+[25]BRD!G12+[25]GDC!G12+[25]NDC!G12 -> 206 | H12: =F12+G12 -> 4804 | I12: =E12-H12 -> 0
A13: V | B13: Load shedding/ schedule outages | C13: 0 | D13: =[25]ANC!D13+[25]BCC!D13+[25]BRD!D13+[25]GDC!D13+[25]NDC!D13 -> 9092 | E13: =C13+D13 -> 9092 | F13: =[25]ANC!F13+[25]BCC!F13+[25]BRD!F13+[25]GDC!F13+[25]NDC!F13 -> 9033 | G13: =[25]ANC!G13+[25]BCC!G13+[25]BRD!G13+[25]GDC!G13+[25]NDC!G13 -> 59 | H13: =F13+G13 -> 9092 | I13: =E13-H13 -> 0
A14: B | B14: Quality of power supply | C14: =SUM(C15:C19) -> 0 | D14: =SUM(D15:D19) -> 7494 | E14: =C14+D14 -> 7494 | F14: =SUM(F15:F19) -> 7467 | G14: =SUM(G15:G19) -> 27 | H14: =F14+G14 -> 7494 | I14: =E14-H14 -> 0
A15: I | B15: Ordinary case, which requires no augmentation, | C15: 0 | D15: =[25]ANC!D15+[25]BCC!D15+[25]BRD!D15+[25]GDC!D15+[25]NDC!D15 -> 4541 | E15: =C15+D15 -> 4541 | F15: =[25]ANC!F15+[25]BCC!F15+[25]BRD!F15+[25]GDC!F15+[25]NDC!F15 -> 4535 | G15: =[25]ANC!G15+[25]BCC!G15+[25]BRD!G15+[25]GDC!G15+[25]NDC!G15 -> 6 | H15: =F15+G15 -> 4541 | I15: =E15-H15 -> 0
A16: II | B16: Where augmentation is required. | C16: 0 | D16: =[25]ANC!D16+[25]BCC!D16+[25]BRD!D16+[25]GDC!D16+[25]NDC!D16 -> 1606 | E16: =C16+D16 -> 1606 | F16: =[25]ANC!F16+[25]BCC!F16+[25]BRD!F16+[25]GDC!F16+[25]NDC!F16 -> 1604 | G16: =[25]ANC!G16+[25]BCC!G16+[25]BRD!G16+[25]GDC!G16+[25]NDC!G16 -> 2 | H16: =F16+G16 -> 1606 | I16: =E16-H16 -> 0
A17: III | B17: Harmonics related issue | C17: 0 | D17: =[25]ANC!D17+[25]BCC!D17+[25]BRD!D17+[25]GDC!D17+[25]NDC!D17 -> 26 | E17: =C17+D17 -> 26 | F17: =[25]ANC!F17+[25]BCC!F17+[25]BRD!F17+[25]GDC!F17+[25]NDC!F17 -> 26 | G17: =[25]ANC!G17+[25]BCC!G17+[25]BRD!G17+[25]GDC!G17+[25]NDC!G17 -> 0 | H17: =F17+G17 -> 26 | I17: =E17-H17 -> 0
A18: IV | B18: Neutral voltage related issue | C18: 0 | D18: =[25]ANC!D18+[25]BCC!D18+[25]BRD!D18+[25]GDC!D18+[25]NDC!D18 -> 378 | E18: =C18+D18 -> 378 | F18: =[25]ANC!F18+[25]BCC!F18+[25]BRD!F18+[25]GDC!F18+[25]NDC!F18 -> 376 | G18: =[25]ANC!G18+[25]BCC!G18+[25]BRD!G18+[25]GDC!G18+[25]NDC!G18 -> 2 | H18: =F18+G18 -> 378 | I18: =E18-H18 -> 0
A19: V | B19: Voltage variations related issue | C19: 0 | D19: =[25]ANC!D19+[25]BCC!D19+[25]BRD!D19+[25]GDC!D19+[25]NDC!D19 -> 943 | E19: =C19+D19 -> 943 | F19: =[25]ANC!F19+[25]BCC!F19+[25]BRD!F19+[25]GDC!F19+[25]NDC!F19 -> 926 | G19: =[25]ANC!G19+[25]BCC!G19+[25]BRD!G19+[25]GDC!G19+[25]NDC!G19 -> 17 | H19: =F19+G19 -> 943 | I19: =E19-H19 -> 0
A20: C | B20: Meters | C20: =SUM(C21:C26) -> 0 | D20: =SUM(D21:D26) -> 26806 | E20: =C20+D20 -> 26806 | F20: =SUM(F21:F26) -> 26532 | G20: =SUM(G21:G26) -> 274 | H20: =F20+G20 -> 26806 | I20: =E20-H20 -> 0
A21: I | B21: Stopped/Defective Meters. | C21: 0 | D21: =[25]ANC!D21+[25]BCC!D21+[25]BRD!D21+[25]GDC!D21+[25]NDC!D21 -> 14300 | E21: =C21+D21 -> 14300 | F21: =[25]ANC!F21+[25]BCC!F21+[25]BRD!F21+[25]GDC!F21+[25]NDC!F21 -> 14091 | G21: =[25]ANC!G21+[25]BCC!G21+[25]BRD!G21+[25]GDC!G21+[25]NDC!G21 -> 209 | H21: =F21+G21 -> 14300 | I21: =E21-H21 -> 0
A22: II | B22: Meter accuracy test (Fast/ Slow | C22: 0 | D22: =[25]ANC!D22+[25]BCC!D22+[25]BRD!D22+[25]GDC!D22+[25]NDC!D22 -> 1241 | E22: =C22+D22 -> 1241 | F22: =[25]ANC!F22+[25]BCC!F22+[25]BRD!F22+[25]GDC!F22+[25]NDC!F22 -> 1227 | G22: =[25]ANC!G22+[25]BCC!G22+[25]BRD!G22+[25]GDC!G22+[25]NDC!G22 -> 14 | H22: =F22+G22 -> 1241 | I22: =E22-H22 -> 0
A23: III | B23: Burnt Meter | C23: 0 | D23: =[25]ANC!D23+[25]BCC!D23+[25]BRD!D23+[25]GDC!D23+[25]NDC!D23 -> 796 | E23: =C23+D23 -> 796 | F23: =[25]ANC!F23+[25]BCC!F23+[25]BRD!F23+[25]GDC!F23+[25]NDC!F23 -> 783 | G23: =[25]ANC!G23+[25]BCC!G23+[25]BRD!G23+[25]GDC!G23+[25]NDC!G23 -> 13 | H23: =F23+G23 -> 796 | I23: =E23-H23 -> 0
A24: IV | B24: Stolen Meter | C24: 0 | D24: =[25]ANC!D24+[25]BCC!D24+[25]BRD!D24+[25]GDC!D24+[25]NDC!D24 -> 0 | E24: =C24+D24 -> 0 | F24: =[25]ANC!F24+[25]BCC!F24+[25]BRD!F24+[25]GDC!F24+[25]NDC!F24 -> 0 | G24: =[25]ANC!G24+[25]BCC!G24+[25]BRD!G24+[25]GDC!G24+[25]NDC!G24 -> 0 | H24: =F24+G24 -> 0 | I24: =E24-H24 -> 0
A25: V | B25: Billing on average basis for more than two hills | C25: 0 | D25: =[25]ANC!D25+[25]BCC!D25+[25]BRD!D25+[25]GDC!D25+[25]NDC!D25 -> 3886 | E25: =C25+D25 -> 3886 | F25: =[25]ANC!F25+[25]BCC!F25+[25]BRD!F25+[25]GDC!F25+[25]NDC!F25 -> 3854 | G25: =[25]ANC!G25+[25]BCC!G25+[25]BRD!G25+[25]GDC!G25+[25]NDC!G25 -> 32 | H25: =F25+G25 -> 3886 | I25: =E25-H25 -> 0
A26: VI | B26: Meter boxes/ metering system | C26: 0 | D26: =[25]ANC!D26+[25]BCC!D26+[25]BRD!D26+[25]GDC!D26+[25]NDC!D26 -> 6583 | E26: =C26+D26 -> 6583 | F26: =[25]ANC!F26+[25]BCC!F26+[25]BRD!F26+[25]GDC!F26+[25]NDC!F26 -> 6577 | G26: =[25]ANC!G26+[25]BCC!G26+[25]BRD!G26+[25]GDC!G26+[25]NDC!G26 -> 6 | H26: =F26+G26 -> 6583 | I26: =E26-H26 -> 0
A27: D | B27: Overhead lines | C27: =SUM(C28:C29) -> 0 | D27: =SUM(D28:D29) -> 5995 | E27: =C27+D27 -> 5995 | F27: =SUM(F28:F29) -> 5933 | G27: =SUM(G28:G29) -> 62 | H27: =F27+G27 -> 5995 | I27: =E27-H27 -> 0
A28: I | B28: Loose Wires | C28: 0 | D28: =[25]ANC!D28+[25]BCC!D28+[25]BRD!D28+[25]GDC!D28+[25]NDC!D28 -> 4710 | E28: =C28+D28 -> 4710 | F28: =[25]ANC!F28+[25]BCC!F28+[25]BRD!F28+[25]GDC!F28+[25]NDC!F28 -> 4649 | G28: =[25]ANC!G28+[25]BCC!G28+[25]BRD!G28+[25]GDC!G28+[25]NDC!G28 -> 61 | H28: =F28+G28 -> 4710 | I28: =E28-H28 -> 0
A29: II | B29: Inadequate ground clearance | C29: 0 | D29: =[25]ANC!D29+[25]BCC!D29+[25]BRD!D29+[25]GDC!D29+[25]NDC!D29 -> 1285 | E29: =C29+D29 -> 1285 | F29: =[25]ANC!F29+[25]BCC!F29+[25]BRD!F29+[25]GDC!F29+[25]NDC!F29 -> 1284 | G29: =[25]ANC!G29+[25]BCC!G29+[25]BRD!G29+[25]GDC!G29+[25]NDC!G29 -> 1 | H29: =F29+G29 -> 1285 | I29: =E29-H29 -> 0
A30: E | B30: Bills | C30: =SUM(C31:C34) -> 0 | D30: =SUM(D31:D34) -> 11756 | E30: =C30+D30 -> 11756 | F30: =SUM(F31:F34) -> 11749 | G30: =SUM(G31:G34) -> 7 | H30: =F30+G30 -> 11756 | I30: =E30-H30 -> 0
A31: I | B31: For current bills where no additional information is required | C31: 0 | D31: =[25]ANC!D31+[25]BCC!D31+[25]BRD!D31+[25]GDC!D31+[25]NDC!D31 -> 7775 | E31: =C31+D31 -> 7775 | F31: =[25]ANC!F31+[25]BCC!F31+[25]BRD!F31+[25]GDC!F31+[25]NDC!F31 -> 7769 | G31: =[25]ANC!G31+[25]BCC!G31+[25]BRD!G31+[25]GDC!G31+[25]NDC!G31 -> 6 | H31: =F31+G31 -> 7775 | I31: =E31-H31 -> 0
A32: II | B32: Where additional information relating to correctness of reading etc. is required, | C32: 0 | D32: =[25]ANC!D32+[25]BCC!D32+[25]BRD!D32+[25]GDC!D32+[25]NDC!D32 -> 2956 | E32: =C32+D32 -> 2956 | F32: =[25]ANC!F32+[25]BCC!F32+[25]BRD!F32+[25]GDC!F32+[25]NDC!F32 -> 2955 | G32: =[25]ANC!G32+[25]BCC!G32+[25]BRD!G32+[25]GDC!G32+[25]NDC!G32 -> 1 | H32: =F32+G32 -> 2956 | I32: =E32-H32 -> 0
A33: III | B33: Final bill for vacation of premises/ change of occupancy | C33: 0 | D33: =[25]ANC!D33+[25]BCC!D33+[25]BRD!D33+[25]GDC!D33+[25]NDC!D33 -> 770 | E33: =C33+D33 -> 770 | F33: =[25]ANC!F33+[25]BCC!F33+[25]BRD!F33+[25]GDC!F33+[25]NDC!F33 -> 770 | G33: =[25]ANC!G33+[25]BCC!G33+[25]BRD!G33+[25]GDC!G33+[25]NDC!G33 -> 0 | H33: =F33+G33 -> 770 | I33: =E33-H33 -> 0
A34: IV | B34: Change of Tariff | C34: 0 | D34: =[25]ANC!D34+[25]BCC!D34+[25]BRD!D34+[25]GDC!D34+[25]NDC!D34 -> 255 | E34: =C34+D34 -> 255 | F34: =[25]ANC!F34+[25]BCC!F34+[25]BRD!F34+[25]GDC!F34+[25]NDC!F34 -> 255 | G34: =[25]ANC!G34+[25]BCC!G34+[25]BRD!G34+[25]GDC!G34+[25]NDC!G34 -> 0 | H34: =F34+G34 -> 255 | I34: =E34-H34 -> 0
A35: F | B35: Service connections | C35: =SUM(C36:C44) -> 0 | D35: =SUM(D36:D44) -> 19072 | E35: =C35+D35 -> 19072 | F35: =SUM(F36:F44) -> 19061 | G35: =SUM(G36:G44) -> 11 | H35: =F35+G35 -> 19072 | I35: =E35-H35 -> 0
A36: I | B36: Where extension of LT line up to 150 Metre is required | C36: 0 | D36: =[25]ANC!D36+[25]BCC!D36+[25]BRD!D36+[25]GDC!D36+[25]NDC!D36 -> 3976 | E36: =C36+D36 -> 3976 | F36: =[25]ANC!F36+[25]BCC!F36+[25]BRD!F36+[25]GDC!F36+[25]NDC!F36 -> 3975 | G36: =[25]ANC!G36+[25]BCC!G36+[25]BRD!G36+[25]GDC!G36+[25]NDC!G36 -> 1 | H36: =F36+G36 -> 3976 | I36: =E36-H36 -> 0
A37: II | B37: Where extension of LT line of more than 150 Metre and/or augmentation of distribution transformer is required | C37: 0 | D37: =[25]ANC!D37+[25]BCC!D37+[25]BRD!D37+[25]GDC!D37+[25]NDC!D37 -> 1375 | E37: =C37+D37 -> 1375 | F37: =[25]ANC!F37+[25]BCC!F37+[25]BRD!F37+[25]GDC!F37+[25]NDC!F37 -> 1374 | G37: =[25]ANC!G37+[25]BCC!G37+[25]BRD!G37+[25]GDC!G37+[25]NDC!G37 -> 1 | H37: =F37+G37 -> 1375 | I37: =E37-H37 -> 0
A38: III | B38: Where erection of new distribution transformer is required | C38: 0 | D38: =[25]ANC!D38+[25]BCC!D38+[25]BRD!D38+[25]GDC!D38+[25]NDC!D38 -> 1684 | E38: =C38+D38 -> 1684 | F38: =[25]ANC!F38+[25]BCC!F38+[25]BRD!F38+[25]GDC!F38+[25]NDC!F38 -> 1683 | G38: =[25]ANC!G38+[25]BCC!G38+[25]BRD!G38+[25]GDC!G38+[25]NDC!G38 -> 1 | H38: =F38+G38 -> 1684 | I38: =E38-H38 -> 0
A39: IV | B39: Where erection of new HT line and distribution transformer is required and/ or existing HT line network is required to be augmented. | C39: 0 | D39: =[25]ANC!D39+[25]BCC!D39+[25]BRD!D39+[25]GDC!D39+[25]NDC!D39 -> 1899 | E39: =C39+D39 -> 1899 | F39: =[25]ANC!F39+[25]BCC!F39+[25]BRD!F39+[25]GDC!F39+[25]NDC!F39 -> 1899 | G39: =[25]ANC!G39+[25]BCC!G39+[25]BRD!G39+[25]GDC!G39+[25]NDC!G39 -> 0 | H39: =F39+G39 -> 1899 | I39: =E39-H39 -> 0
A40: V | B40: Where EHT level line and/ or Sub-station is required to be erected and/ or augmented | C40: 0 | D40: =[25]ANC!D40+[25]BCC!D40+[25]BRD!D40+[25]GDC!D40+[25]NDC!D40 -> 2 | E40: =C40+D40 -> 2 | F40: =[25]ANC!F40+[25]BCC!F40+[25]BRD!F40+[25]GDC!F40+[25]NDC!F40 -> 2 | G40: =[25]ANC!G40+[25]BCC!G40+[25]BRD!G40+[25]GDC!G40+[25]NDC!G40 -> 0 | H40: =F40+G40 -> 2 | I40: =E40-H40 -> 0
A41: VI | B41: Modification in connected load | C41: 0 | D41: =[25]ANC!D41+[25]BCC!D41+[25]BRD!D41+[25]GDC!D41+[25]NDC!D41 -> 1851 | E41: =C41+D41 -> 1851 | F41: =[25]ANC!F41+[25]BCC!F41+[25]BRD!F41+[25]GDC!F41+[25]NDC!F41 -> 1850 | G41: =[25]ANC!G41+[25]BCC!G41+[25]BRD!G41+[25]GDC!G41+[25]NDC!G41 -> 1 | H41: =F41+G41 -> 1851 | I41: =E41-H41 -> 0
A42: VII | B42: Name change/reconnection/ change of category | C42: 0 | D42: =[25]ANC!D42+[25]BCC!D42+[25]BRD!D42+[25]GDC!D42+[25]NDC!D42 -> 8132 | E42: =C42+D42 -> 8132 | F42: =[25]ANC!F42+[25]BCC!F42+[25]BRD!F42+[25]GDC!F42+[25]NDC!F42 -> 8125 | G42: =[25]ANC!G42+[25]BCC!G42+[25]BRD!G42+[25]GDC!G42+[25]NDC!G42 -> 7 | H42: =F42+G42 -> 8132 | I42: =E42-H42 -> 0
A43: VIII | B43: In case connection is denied after payment against demand note | C43: 0 | D43: =[25]ANC!D43+[25]BCC!D43+[25]BRD!D43+[25]GDC!D43+[25]NDC!D43 -> 59 | E43: =C43+D43 -> 59 | F43: =[25]ANC!F43+[25]BCC!F43+[25]BRD!F43+[25]GDC!F43+[25]NDC!F43 -> 59 | G43: =[25]ANC!G43+[25]BCC!G43+[25]BRD!G43+[25]GDC!G43+[25]NDC!G43 -> 0 | H43: =F43+G43 -> 59 | I43: =E43-H43 -> 0
A44: IX | B44: Transfer of connection | C44: 0 | D44: =[25]ANC!D44+[25]BCC!D44+[25]BRD!D44+[25]GDC!D44+[25]NDC!D44 -> 94 | E44: =C44+D44 -> 94 | F44: =[25]ANC!F44+[25]BCC!F44+[25]BRD!F44+[25]GDC!F44+[25]NDC!F44 -> 94 | G44: =[25]ANC!G44+[25]BCC!G44+[25]BRD!G44+[25]GDC!G44+[25]NDC!G44 -> 0 | H44: =F44+G44 -> 94 | I44: =E44-H44 -> 0
A45: G | B45: Request for reconnection/ consumer wanting disconnection | C45: 0 | D45: =[25]ANC!D45+[25]BCC!D45+[25]BRD!D45+[25]GDC!D45+[25]NDC!D45 -> 1942 | E45: =C45+D45 -> 1942 | F45: =[25]ANC!F45+[25]BCC!F45+[25]BRD!F45+[25]GDC!F45+[25]NDC!F45 -> 1941 | G45: =[25]ANC!G45+[25]BCC!G45+[25]BRD!G45+[25]GDC!G45+[25]NDC!G45 -> 1 | H45: =F45+G45 -> 1942 | I45: =E45-H45 -> 0
A46: H | B46: Refund of amount due in regard to temporary connection | C46: 0 | D46: =[25]ANC!D46+[25]BCC!D46+[25]BRD!D46+[25]GDC!D46+[25]NDC!D46 -> 725 | E46: =C46+D46 -> 725 | F46: =[25]ANC!F46+[25]BCC!F46+[25]BRD!F46+[25]GDC!F46+[25]NDC!F46 -> 725 | G46: =[25]ANC!G46+[25]BCC!G46+[25]BRD!G46+[25]GDC!G46+[25]NDC!G46 -> 0 | H46: =F46+G46 -> 725 | I46: =E46-H46 -> 0
A47: I | B47: Street Light complaint | C47: 0 | D47: =[25]ANC!D47+[25]BCC!D47+[25]BRD!D47+[25]GDC!D47+[25]NDC!D47 -> 898 | E47: =C47+D47 -> 898 | F47: =[25]ANC!F47+[25]BCC!F47+[25]BRD!F47+[25]GDC!F47+[25]NDC!F47 -> 897 | G47: =[25]ANC!G47+[25]BCC!G47+[25]BRD!G47+[25]GDC!G47+[25]NDC!G47 -> 1 | H47: =F47+G47 -> 898 | I47: =E47-H47 -> 0
A48: J | B48: Others | C48: 0 | D48: =[25]ANC!D48+[25]BCC!D48+[25]BRD!D48+[25]GDC!D48+[25]NDC!D48 -> 17131 | E48: =C48+D48 -> 17131 | F48: =[25]ANC!F48+[25]BCC!F48+[25]BRD!F48+[25]GDC!F48+[25]NDC!F48 -> 17124 | G48: =[25]ANC!G48+[25]BCC!G48+[25]BRD!G48+[25]GDC!G48+[25]NDC!G48 -> 7 | H48: =F48+G48 -> 17131 | I48: =E48-H48 -> 0
A49: TOTAL | C49: =SUM(C48,C47,C46,C45,C35,C30,C27,C20,C14,C8) -> 0 | D49: =SUM(D48,D47,D46,D45,D35,D30,D27,D20,D14,D8) -> 219929 | E49: =SUM(E48,E47,E46,E45,E35,E30,E27,E20,E14,E8) -> 219929 | F49: =SUM(F48,F47,F46,F45,F35,F30,F27,F20,F14,F8) -> 217594 | G49: =SUM(G48,G47,G46,G45,G35,G30,G27,G20,G14,G8) -> 2335 | H49: =F49+G49 -> 219929 | I49: =E49-H49 -> 0
A50: The format is to be sent quarterly The quarterly reporting of the year means reporting for the period 1st Quarter as Apr-Jun, 2nd Quarter as Jul-Sep, 3rd Quarter as Oct – Dec and 4th Quarter as Jan - Mar of the financial Year. For any other complaints not mentioned in the classification, the sequence for J can be used.

Sheet MG SoP 04
A1: ='MG COVER PAGE'!A1 -> Name of Distribution Licensee: M G V C L
A2: ='MG SoP 03'!A2:I2 -> Quarter of the year : Q-IV (Jan-Feb-Mar-2024-25)
A3: ='MG COVER PAGE'!A3 -> Year: 2024-25
A4: Performa SoP 004 : Publicity carried out while displaying the contact details of consumer complaints centers.
A5: Particulars should also cover the details of publication of “Manual of Practice for Handling Complaint/ Consumer Charter/ Complaint Charter”, consumer awareness program conducted, advertisement done through various media like TV, newspaper, radio, pamphlets & booklet distributions, Displays etc. The development of website and any medium through which public education is carried out can be included.
A7: Sr. No. (1) | B7: Actions or steps carried out by distribution licensee towards public awareness in the quarter (2) | C7: Likely number of consumers influenced (3) | D7: Details about Media (4)
D8: the Media
A9: 1 | B9: RTI Officers Name is displayed at customer care centre on each office | C9: 3660787 | D9: -
A10: 2 | B10: Necessary information regarding time schedule for new connection and solving complaints is display on the board. | C10: 3660787 | D10: -
A11: 3 | B11: Contact nos. of various officers of the company for emergency contact is also displayed at customer care centre. | C11: 3660787 | D11: Website/ News paper
A12: 4 | B12: Safety Meeting with Line Staff at various S/dn,Divisions on Every Monday (Line staff influenced) | C12: =8599+177+8827+151+8618+142+104 -> 26618 | D12: Meeting/ line staff infulenced

Sheet MG SoP - 05 
A1: Name of Distribution Licensee: M G V C L
A2: Financial Year: 2024-25
A3: Quarter : Q-IV (Jan-25 TO Mar-25)
A4: Performa SoP 005: Failure of Distribution Transformer
A5: Sr. No. | B5: Name of Circle | C5: Nos. of existing Distribution Transformers at the start of the quarter | D5: Nos. of Distribution Transformers added during the quarter | E5: Total number of Distribution Transformers on end of quarter | F5: Total number of Distribution transformer failed during quarter | G5: % failure rate of Distribution transformer
C6: A | D6: B | E6: C=A+B | F6: D | G6: H = (D)*100/C
A7: 1 | B7: Baroda O&M | C7: 61693 | D7: =E7-C7 -> 949 | E7: 62642 | F7: 677 | G7: =F7*100/E7 -> 1.0807445
A8: 2 | B8: Baroda City | C8: 11147 | D8: =E8-C8 -> 191 | E8: 11338 | F8: 11 | G8: =F8*100/E8 -> 0.097018875
A9: 3 | B9: Anand | C9: 28437 | D9: =E9-C9 -> 324 | E9: 28761 | F9: 114 | G9: =F9*100/E9 -> 0.39637008
A10: 4 | B10: Nadiad | C10: 36927 | D10: =E10-C10 -> 632 | E10: 37559 | F10: 244 | G10: =F10*100/E10 -> 0.64964456
A11: 5 | B11: Godhra | C11: 65373 | D11: =E11-C11 -> 1644 | E11: 67017 | F11: 815 | G11: =F11*100/E11 -> 1.2161093
B12: MGVCL | C12: =SUM(C7:C11) -> 203577 | D12: =SUM(D7:D11) -> 3740 | E12: =SUM(E7:E11) -> 207317 | F12: =SUM(F7:F11) -> 1861 | G12: =F12/E12*100 -> 0.89765914

Sheet SoP007
A1: ='[26]MG COVER PAGE'!A1 -> Name of Distribution Licensee: M G V C L
A2: ='[26]MG COVER PAGE'!A2 -> Quarter : Q-IV (Jan-Feb-March-2025)
A3: ='[26]MG COVER PAGE'!A3 -> Year: 2024-25
A4: Performa SoP 007: Sample Test result for Neutral Voltage
A6: Compliance Sample Test Report for Neutral Voltage
A7: -1 | B7: -2 | C7: -3 | D7: -4 | E7: -5 | F7: -6
A8: Sr. No | B8: Category of consumers | C8: Sample Size | D8: Standard specified in regulation | E8: Deviation of results from the sample test (Numbers) | F8: % age compliance
C9: (Numbers) | F9: (6) = (5)*100/(3)
B10: LT consumers | C10: =SUM(C11:C15) -> 1441 | D10: 2% | E10: =SUM(E11:E15) -> 0 | F10: =E10*100/C10 -> 0
A11: 1 | B11: Domestic | C11: 1023 | D11: 2% | E11: 0 | F11: =E11*100/C11 -> 0
A12: 2 | B12: Commercial | C12: 242 | D12: 2% | E12: 0 | F12: =E12*100/C12 -> 0
A13: 3 | B13: Industrial | C13: 23 | D13: 2% | E13: 0 | F13: =E13*100/C13 -> 0
A14: 4 | B14: Agricultural | C14: 143 | D14: 2% | E14: 0 | F14: 0
A15: 5 | B15: Public water works | C15: 10 | D15: 2% | E15: 0 | F15: 0
B16: HT consumers | D16: 2%
A17: 6 | B17: HT industrial | C17: 5 | D17: 2% | E17: 0 | F17: =E17*100/C17 -> 0

Sheet SoP008
A1: ='[26]MG COVER PAGE'!A1 -> Name of Distribution Licensee: M G V C L
A2: ='[26]MG COVER PAGE'!A2 -> Quarter : Q-IV (Jan-Feb-March-2025)
A3: ='[26]MG COVER PAGE'!A3 -> Year: 2024-25
A4: Performa SoP 008: Sample Test result for Voltage variations
A5: Compliance Sample Test Report for voltage variations
A6: -1 | B6: -2 | C6: -3 | D6: -4 | E6: -5
A7: Voltage Level | B7: Sample Size (numbers) | C7: Limit or prescribed standard | D7: Deviation of results from the sample test (Numbers) | E7: % age compliance
E8: (5) = (4)*100/(2)
A9: Low Voltage | B9: 56 | C9: +6% to -6% | D9: 0 | E9: =D9*100/B9 -> 0
A10: High Voltage | B10: 24 | C10: +6% to -9% | D10: 0 | E10: 0
A11: Extra High Voltage | B11: 1 | C11: +10% to -12.50% | D11: 0 | E11: 0

Sheet SoP009
A1: ='[26]MG COVER PAGE'!A1 -> Name of Distribution Licensee: M G V C L
A2: ='[26]MG COVER PAGE'!A2 -> Quarter : Q-IV (Jan-Feb-March-2025)
A3: ='[26]MG COVER PAGE'!A3 -> Year: 2024-25
A4: Performa SoP 009: Sample Test result for Harmonics
A5: Compliance Sample Test Report for Harmonics
A6: -1 | B6: -2 | C6: -3 | D6: -4 | E6: -5 | F6: -6
A7: Sr. No | B7: Category of consumers | C7: Sample size (Numbers) | D7: Limit or standard prescribed | E7: Deviation of results from the sample test (Numbers) | F7: %age compliance
F8: (6) = (5)*100/(3)
A9: 1 | B9: LT consumers | C9: 33 | D9: 0.035 | E9: 0 | F9: =E9*100/C9 -> 0
A10: 2 | B10: HT consumers | C10: 4 | D10: 0.03 | E10: 0 | F10: 0
A11: 3 | B11: EHT consumers | C11: 1 | D11: 0.03 | E11: 0 | F11: 0
A13: Note: The licensee shall also submit along with the above harmonic data, the records of customer wise drawls of harmonic currents measured at various strategic points.
A15: The formats SoP 008, SoP 009 and SoP 010 have to be sent annually.
A16: For the purpose of annual submissions, the year end has to be considered as the end of December month of a particular year.

Sheet 010
A1: Q-4(Jan-Mar-25)
A2: Year: 2024-25
A3: SoP 010 – A System Average Interruption Frequency Index (SAIFI)
A4: Sr. No | B4: Month | C4: Number of Sustained Interruptions during the Reporting Period = Ai | D4: Number of Interrupted Customers for Sustained Interruption events during the Reporting Period = Ni | E4: Total number of Customers Served for the Areas = Nt | F4: Total Number of Interrupted Customers for Sustained Interruption events during the Reporting Period = Σ (Ai x Ni) | G4: SAIFI = Σ (Ai x Ni) /Nt
A5: 1 | B5: 2 | C5: 3 | D5: 4 | E5: 5 | F5: 6 = Σ (3 x 4) | G5: 7 = 6 / 5
A6: 1 | B6: =[27]Saifi!B8 -> 45658 | C6: =[27]Saifi!C8 -> 25263 | D6: =[27]Saifi!D8 -> 3201232 | E6: =[27]Saifi!E8 -> 3643609 | F6: =[27]Saifi!F8 -> 34999317 | G6: =[27]Saifi!G8 -> 9.61
A7: 2 | B7: =[27]Saifi!B9 -> 45689 | C7: =[27]Saifi!C9 -> 11292 | D7: =[27]Saifi!D9 -> 3040165 | E7: =[27]Saifi!E9 -> 3649953 | F7: =[27]Saifi!F9 -> 13869946 | G7: =[27]Saifi!G9 -> 3.8
A8: 3 | B8: =[27]Saifi!B10 -> 45717 | C8: =[27]Saifi!C10 -> 20693 | D8: =[27]Saifi!D10 -> 2992696 | E8: =[27]Saifi!E10 -> 3660787 | F8: =[27]Saifi!F10 -> 24562434 | G8: =[27]Saifi!G10 -> 6.71
C9: =SUM(C6:C8) -> 57248 | D9: =SUM(D6:D8) -> 9234093 | E9: =SUM(E6:E8) -> 10954349 | F9: =SUM(F6:F8) -> 73431697 | G9: =F9/E9 -> 6.7034287

Sheet 011
A1: ='010'!A1 -> Q-4(Jan-Mar-25)
A2: ='010'!A2 -> Year: 2024-25
A3: SoP 011 – System Average Interruption Duration Index (SAIDI)
A4: Sr. No | B4: Month | C4: Number of Sustained Interruptions during the Reporting Period = Ai (Nos) | D4: Total Outage Duration (Hr : Min) | E4: Restoration time for each Interruption Event = Ri (Hr : Min) | F4: Number of Interrupted Customers for Sustained Interruption events during the Reporting Period = Ni (Nos) | G4: Total Customer Interruption Duration = Ri x Ni (Hr : Min) | H4: Total Number of Customers Served for the Areas = Nt (Nos) | I4: Cumulative Customer Interruptions Duration = Σ(Ri x Ni) (Hr : Min) | J4: SAIDI = Σ (Ri x Ni) / Nt (Hr : Min)
A5: 1 | B5: 2 | C5: 3 | D5: 4 | E5: 5 = 4 / 3 | F5: 6 | G5: 7 = 5 x 6 | H5: 8 | I5: 9 = Σ (5 x 6) | J5: 10 = 9 /8
A6: 1 | B6: =[27]Saidi!B8 -> 45658 | C6: =[27]Saidi!C8 -> 25263 | D6: =[27]Saidi!D8 -> 13481:34 | E6: =[27]Saidi!E8 -> 0.022222222 | F6: =[27]Saidi!F8 -> 3201232 | G6: =E6*F6 -> 71138.489 | H6: =[27]Saidi!H8 -> 3643609 | I6: =[27]Saidi!I8 -> 1322778:37 | J6: =[27]Saidi!K8 -> 0.015277778
A7: 2 | B7: =[27]Saidi!B9 -> 45689 | C7: =[27]Saidi!C9 -> 11292 | D7: =[27]Saidi!D9 -> 327.28194 | E7: =[27]Saidi!E9 -> 0.029166667 | F7: =[27]Saidi!F9 -> 3040165 | G7: =E7*F7 -> 88671.479 | H7: =[27]Saidi!H9 -> 3649953 | I7: =[27]Saidi!I9 -> 1348934:51 | J7: =[27]Saidi!K9 -> 0.015277778
A8: 3 | B8: =[27]Saidi!B10 -> 45717 | C8: =[27]Saidi!C10 -> 20693 | D8: =[27]Saidi!D10 -> 10317:59 | E8: =[27]Saidi!E10 -> 0.020833333 | F8: =[27]Saidi!F10 -> 2992696 | G8: =E8*F8 -> 62347.833 | H8: =[27]Saidi!H10 -> 3660787 | I8: =[27]Saidi!I10 -> 1165986:02 | J8: =[27]Saidi!K10 -> 0.013194444
C9: =SUM(C6:C8) -> 57248 | D9: 31654:19 | E9: =SUM(E6:E8) -> 0.072222222 | F9: =SUM(F6:F8) -> 9234093 | G9: 5331787:14 | H9: =SUM(H6:H8) -> 10954349 | I9: 3837699:30 | J9: =AVERAGE(J6:J8) -> 0.014583333

Sheet 012
A1: ='010'!A1 -> Q-4(Jan-Mar-25)
A2: ='011'!A2 -> Year: 2024-25
A3: SoP 012 – : Momentary Average Interruption Frequency Index (MAIFI)
A4: Sr. No | B4: Month | C4: Total Number of Momentary interruptions = Imi | D4: Total Number of Consumers affected due to Momentary Interruption Events during the Reporting Period = Nmi | E4: Number of Customer Momentary Interruptions = IMi * Nmi | F4: Total Number of Customers Served for the Areas = Nt | G4: Cumulative Momentary Customer Interruptions = Σ (Imi x Nmi) | H4: MAIFI = Σ (IMi x Nmi)/ Nt
A5: 1 | B5: 2 | C5: 3 | D5: 4 | E5: 5=3*4 | F5: 6 | G5: 7 = Σ (3 x 4) | H5: 8=7/6
A6: 1 | B6: =[27]Maifi!B8 -> 45658 | C6: =[27]Maifi!C8 -> 45845 | D6: =[27]Maifi!D8 -> 3065750 | E6: =[27]Maifi!E8 -> 140549308750 | F6: =[27]Maifi!F8 -> 3643609 | G6: =[27]Maifi!G8 -> 68558491 | H6: =[27]Maifi!H8 -> 18.82
A7: 2 | B7: =[27]Maifi!B9 -> 45689 | C7: =[27]Maifi!C9 -> 20320 | D7: =[27]Maifi!D9 -> 2755663 | E7: =[27]Maifi!E9 -> 55995072160 | F7: =[27]Maifi!F9 -> 3649953 | G7: =[27]Maifi!G9 -> 28496011 | H7: =[27]Maifi!H9 -> 7.81
A8: 3 | B8: =[27]Maifi!B10 -> 45717 | C8: =[27]Maifi!C10 -> 44391 | D8: =[27]Maifi!D10 -> 2870144 | E8: =[27]Maifi!E10 -> 127408562304 | F8: =[27]Maifi!F10 -> 3660787 | G8: =[27]Maifi!G10 -> 58368324 | H8: =[27]Maifi!H10 -> 15.94
C9: =SUM(C6:C8) -> 110556 | D9: =SUM(D6:D8) -> 8691557 | E9: =SUM(E6:E8) -> 323952943214 | F9: =SUM(F5:F8) -> 10954355 | G9: =SUM(G5:G8) -> 155422826 | H9: =G9/F9 -> 14.188222

Sheet 013
A1: ='010'!A1 -> Q-4(Jan-Mar-25)
A2: ='011'!A2 -> Year: 2024-25
A3: SoP 013 – : Customer Average Interruption Duration Index (CAIDI)
A4: Sr. No | B4: Month | C4: Total Number of Sustained Interruptions during the Reporting Period = Σ Ai | D4: Total Restoration time for Interruption Events = Σ Ri (Hr : Min) | E4: Total Number of Interrupted Customers for Sustained Interruption events during the Reporting Period = Σni | F4: CAIDI=Σ (Ri x Ni) / Σ (Ai x Ni) = SAIDI/ SAIFI
A5: 1 | B5: 2 | C5: 3 | D5: 4 | E5: 5 | F5: 6 = (4 x 5) / (3 x 5)
A6: 1 | B6: =[27]Caidi!B8 -> 45658 | C6: =[27]Caidi!C8 -> 25263 | D6: 0.022222222 | E6: =[27]Caidi!E8 -> 3201232 | F6: =[27]Caidi!F8 -> 2.29
A7: 2 | B7: =[27]Caidi!B9 -> 45689 | C7: =[27]Caidi!C9 -> 11292 | D7: 0.029166667 | E7: =[27]Caidi!E9 -> 3040165 | F7: =[27]Caidi!F9 -> 5.79
A8: 3 | B8: =[27]Caidi!B10 -> 45717 | C8: =[27]Caidi!C10 -> 20693 | D8: 0.020833333 | E8: =[27]Caidi!E10 -> 2992696 | F8: =[27]Caidi!F10 -> 2.83
C9: =SUM(C6:C8) -> 57248 | D9: =SUM(D6:D8) -> 0.072222222 | E9: =SUM(E6:E8) -> 9234093 | F9: =AVERAGE(F6:F8) -> 3.6366667

Sheet MG SoP - 15 
B2: Name of Distribution Licensee: M G V C L
B3: Financial Year: 2024-25
B4: Quarter : Q-IV (Jan-25 TO Mar-25)
B5: Performa SoP 015: Faulty Meters Replacement
B6: Consumer Category | C6: No. of faulty meters at the start of the quarter | D6: No. of faulty meters added during the quarter | E6: Total no. of defective / faulty Meter | F6: No. of faulty Meters repaired and replaced | G6: No of faulty meters pending at the end of the quarter | H6: Remark
C7: 1 | D7: 2 | E7: (3)=(2)+(1) | F7: 4 | G7: (5)=(3)-(4)
B8: Single Phase | C8: 5973 | D8: 37541 | E8: =D8+C8 -> 43514 | F8: 34174 | G8: =E8-F8 -> 9340
B9: Three Phase | C9: 1948 | D9: 6974 | E9: =C9+D9 -> 8922 | F9: 6334 | G9: =E9-F9 -> 2588

Sheet MG SoP 16
A1: ='[26]MG COVER PAGE'!A1 -> Name of Distribution Licensee: M G V C L
A2: ='[26]MG COVER PAGE'!A2 -> Quarter : Q-IV (Jan-Feb-March-2025)
A3: ='[26]MG COVER PAGE'!A3 -> Year: 2024-25
A4: Performa SoP 016: Compensation details
A5: COMPENSATION DETAILS
A6: Sr. No. | B6: Service Area | C6: Compensation payable to | D6: Claimed | F6: Payable
C7: consumer for the period of default in case of violation of standard | D7: No. of cases | E7: Amount (Rs.) | F7: No. of cases in which compensation is payable | G7: Amount payable (Rs.) | H7: Amount paid (Rs.)
A8: 1 | B8: Registration of complaint and intimation of Unique complaint Number to the Complainant | C8: Rs. 50/- for each default | D8: 0 | E8: 0 | F8: 0 | G8: 0 | H8: 0
A9: 2 | B9: Issuance of Demand Note for New Connection, Load Enhancement, Shifting of connection at other premises, Conversion of Service, Temporary Supply, Shifting of Service Connection in exiting premises, Deviation of line and Shifting of equipments | C9: Rs. 50 for each day of default. | D9: 0 | E9: 0 | F9: 0 | G9: 0 | H9: 0
A10: 3 | B10: New Connection, Load Enhancement, Shifting of connection at other premises and Conversion of Service where no Network erection and/or augmentation is required. | C10: Rs. 50 for each day of default. | D10: 0 | E10: 0 | F10: 0 | G10: 0 | H10: 0
A11: 4 | B11: New Connection, Load Enhancement, Shifting of connection at other premises and Conversion of Service where Network erection and/or augmentation is required. | C11: Rs. 50 for each day of default. | D11: 0 | E11: 0 | F11: 0 | G11: 0 | H11: 0
A12: 5 | B12: Release of temporary supply | C12: Rs. 50 for each day of default. | D12: 0 | E12: 0 | F12: 0 | G12: 0 | H12: 0
A13: 6 | B13: Shifting of meter/services in the existing premises | C13: Rs. 50 for each day of default. | D13: 0 | E13: 0 | F13: 0 | G13: 0 | H13: 0
A14: 7 | B14: Shifting of LT/HT lines | D14: 0 | E14: 0 | F14: 0 | G14: 0 | H14: 0
A15: 8 | B15: Shifting of Transformer structures | D15: 0 | E15: 0 | F15: 0 | G15: 0 | H15: 0
A16: 9 | B16: Settlement of amount for refunding of excess amount after completion of work. | D16: 0 | E16: 0 | F16: 0 | G16: 0 | H16: 0
A17: 10 | B17: Transfer of Service Connection with respect to change of name or change of ownership | C17: Rs. 50 for each day of default. | D17: 0 | E17: 0 | F17: 0 | G17: 0 | H17: 0
A18: 11 | B18: Application from consumer requesting Change in Tariff Class/Category. | C18: Rs. 50 for each day of default. | D18: 0 | E18: 0 | F18: 0 | G18: 0 | H18: 0
A19: 12 | B19: Complaint Related to Billing | C19: Rs. 50 for each day of default. | D19: 0 | E19: 0 | F19: 0 | G19: 0 | H19: 0
A20: 13 | B20: Replacement of Meter | C20: Rs. 25/- for each day of default subject to maximum of Rs. 1500/- for LT connections and Rs. 250/- for each day of default subject to maximum of Rs. 2500/- for HT connections. | D20: 0 | E20: 0 | F20: 0 | G20: 0 | H20: 0
A21: 14 | B21: Reconnection of Supply | C21: Rs. 25/- for each six hours (or part thereof) of delay in restoration of supply subject to maximum Rs. 500/- for LT connection and Rs. 50/- for each six hours (or part thereof) of delay in restoration of supply subject to maximum Rs. 1000/- for HT connection. | D21: 0 | E21: 0 | F21: 0 | G21: 0 | H21: 0
A22: 15 | B22: More than 2 interruptions in a day to the consumer for the reasons not attributable to the nature of fault as mentioned in Clause 8.4 of these Regulations. | C22: Rs. 25/- for each interruption subject to maximum Rs. 500/- for LT connection and Rs. 50/- for each interruption subject to maximum Rs. 1000/- for HT connection. | D22: 0 | E22: 0 | F22: 0 | G22: 0 | H22: 0
A23: 16 | B23: Failure to restore power supply in case of blowing of fuse of LT side distribution transformer, at consumer premises, trouble of MCB of distribution transformer, loose connection at pole, MCB or meter, etc. | C23: Rs. 50/- per hour per Consumer for the first two hours of default. Thereafter Rs. 100/- per hour per Consumer subject to maximum of Rs. 500/- per day for LT consumer and maximum of Rs. 2000/- per day for HT consumer. | D23: 0 | E23: 0 | F23: 0 | G23: 0 | H23: 0
A24: 17 | B24: Failure to restore power supply in case of blowing of HT side fuse of distribution transformer | D24: 0 | E24: 0 | F24: 0 | G24: 0 | H24: 0
A25: 18 | B25: Failure to restore power supply in case of HT and LT line fault | D25: 0 | E25: 0 | F25: 0 | G25: 0 | H25: 0
A26: 19 | B26: Failure to restore power supply in case of Distribution transformer failure | D26: 0 | E26: 0 | F26: 0 | G26: 0 | H26: 0
A27: 20 | B27: Failure to restore power supply in case of failure of underground service or underground HT/LT cable | D27: 0 | E27: 0 | F27: 0 | G27: 0 | H27: 0
A28: 21 | B28: Scheduled Power Outage | C28: Rs. 50/- per hour per Consumer for the first two hours of default. Thereafter Rs. 100/- per hour per Consumer | D28: 0 | E28: 0 | F28: 0 | G28: 0 | H28: 0
A29: 22 | B29: Site Visit and Intimation to the Consumer about likely time to resolve the complaint related to voltage fluctuation. | C29: Rs. 200/- for each instance for each complaint. | D29: 0 | E29: 0 | F29: 0 | G29: 0 | H29: 0
A30: 23 | B30: Complaint of Neutral Voltage | C30: Rs. 250/- for each complaint | D30: 0 | E30: 0 | F30: 0 | G30: 0 | H30: 0
A31: 24 | B31: Complaint regarding Voltage variations at the point of commencement of supply. | C31: Rs. 25/- for each day of default subject to maximum of Rs. 500/- | D31: 0 | E31: 0 | F31: 0 | G31: 0 | H31: 0

Sheet MG SoP 17
A1: Performa SoP 017: Individual Complaint where Compensation has been paid (To be submitted Quarterly)
A2: Sr. No. | B2: Complaint No. | C2: Date of filing Complaint/ Automatic Compensation | D2: Consumer No. and Name and Address of the Consumer | E2: Nature of Complaint | F2: Reference Standard of Performance | G2: Amount of compensation (Rs.) | H2: Whether Compensation paid automatically or Consumer has to approach CGRF to get compensation | I2: Whether CGRF has upheld demand of Consumer of Compensation and if Yes, date of order of CGRF and date of compensation paid
B3: 0 | C3: 0 | D3: 0 | E3: 0 | F3: 0 | G3: 0 | H3: 0 | I3: 0

Sheet sop 18
A1: 4th Quaterly January 2025 to March 2025 Report
A3: 1. Unauthorised use of Electricity (To be submitted quaterly)
A4: No. of cases Booked | B4: No. of cases where UUE is established by the Licensee | C4: No. of cases where appeal filed by the consumer before the Apellate Authority | D4: No. of cases decided by the Appellate Authority in favour of the the Licensee | E4: No. of cases decided by the Appellate Authority in favour of the the Consumer
A5: 431 | B5: 431 | C5: 0 | D5: 0 | E5: 0
A6: 475 | B6: 475 | C6: 0 | D6: 0 | E6: 0
A7: 234 | B7: 234 | C7: 2 | D7: 0 | E7: 0
A8: 308 | B8: 308 | C8: 0 | D8: 0 | E8: 0
A9: 216 | B9: 216 | C9: 0 | D9: 0 | E9: 0
A10: =SUM(A5:A9) -> 1664 | B10: =SUM(B5:B9) -> 1664 | C10: =SUM(C5:C9) -> 2 | D10: =SUM(D5:D9) -> 0 | E10: =SUM(E5:E9) -> 0

Sheet sop 19 
A1: 4th Quaterly January 2025 to March 2025 Report
A6: 2. Theft of Electricity (To be submitted quaterly)
A7: No. of cases Booked | B7: No. of complaints filed by the Licensee in Police Station | C7: No. of cases in which the judgement delivered by the Special Court | D7: No. of cases decided by the Special Court in favour of Licensee | E7: No. of cases decided by the Special Court in favour of Consumer
A8: 1360 | B8: 1360 | C8: 0 | D8: 0 | E8: 0
A9: 222 | B9: 222 | C9: 0 | D9: 0 | E9: 0
A10: 842 | B10: 842 | C10: 0 | D10: 0 | E10: 0
A11: 625 | B11: 625 | C11: 0 | D11: 0 | E11: 0
A12: 5289 | B12: 5289 | C12: 0 | D12: 0 | E12: 0
A13: =SUM(A8:A12) -> 8338 | B13: =SUM(B8:B12) -> 8338 | C13: =SUM(C8:C12) -> 0 | D13: =SUM(D8:D12) -> 0 | E13: =SUM(E8:E12) -> 0
