Workbook
Name \1: #REF!
Name \1: #REF!
Name \1: #REF!
Name \1: #REF!
Name \1: #REF!
Name \2: [1]TLPPOCT!#REF!
Name \2: [1]TLPPOCT!#REF!
Name \2: [1]TLPPOCT!#REF!
Name \2: [1]TLPPOCT!#REF!
Name \2: [1]TLPPOCT!#REF!
Name \a: #REF!
Name \a: #REF!
Name \a: #REF!
Name \a: #REF!
Name \a: #REF!
Name \b: #REF!
Name \b: #REF!
Name \b: #REF!
Name \b: #REF!
Name \b: #REF!
Name \p: #REF!
Name \p: #REF!
Name \p: #REF!
Name \p: #REF!
Name __1_1_1: #REF!
Name __1_1_1: #REF!
Name __1_1_1: #REF!
Name __1_1_1: #REF!
Name __2_1_1_1: #REF!
Name __2_1_1_1: #REF!
Name __2_1_1_1: #REF!
Name __2_1_1_1: #REF!
Name _1: #REF!
Name _1: #REF!
Name _1: #REF!
Name _1: #REF!
Name _1_1: #REF!
Name _1_1: #REF!
Name _1_1: #REF!
Name _1_1: #REF!
Name _1_1_1: #REF!
Name _1_1_1: #REF!
Name _1_1_1: #REF!
Name _1_1_1: #REF!
Name _1_1_1_1: #REF!
Name _1_1_1_1: #REF!
Name _1_1_1_1: #REF!
Name _1_1_1_1: #REF!
Name _1_1_1_1_1: #REF!
Name _1_1_1_1_1: #REF!
Name _1_1_1_1_1: #REF!
Name _1_1_1_1_1: #REF!
Name _1_10: #REF!
Name _1_10: #REF!
Name _1_10: #REF!
Name _1_10: #REF!
Name _1_2: #REF!
Name _1_2: #REF!
Name _1_2: #REF!
Name _1_2: #REF!

Sheet MG COVER PAGE
A1: Name of Distribution Licensee: M G V C L
A2: Quarter : Q-IV (Jan-Feb-Mar-2022-23)
A3: Year: 2022-23

Sheet MG SoP 01
A1: Name of Distribution Licensee: M G V C L
A2: Quarter IV (Jan-23 to Mar-23)
A3: Year:2022-23
A4: Performa - SoP 001: Fatal and Non-fatal accident report
A5: NUMBER OF ACCIDENTS FOR THE FOURTH QUARTER 2022-23
A6: Sr. No | B6: Name of Area/Circle | C6: No of accidents in the quarter | H6: Cumulative since the first quarter of the current FY year | M6: Cumulative since the first quarter of the Last FY 2021-22
C7: Departmental | E7: Outside | H7: Departmental | J7: Outside | M7: Departmental | O7: Outside
C8: FH | D8: NFH | E8: FH | F8: FA | G8: NFH | H8: FH | I8: NFH | J8: FH | K8: FA | L8: NFH | M8: FH | N8: NFH | O8: FH | P8: FA | Q8: NFH
A9: 1 | B9: Baroda City | C9: 0 | D9: 1 | E9: 0 | F9: 0 | G9: 0 | H9: 0 | I9: 3 | J9: 1 | K9: 0 | L9: 0 | M9: 0 | N9: 1 | O9: 1 | P9: 4 | Q9: 0
A10: 2 | B10: Baroda (O&M) | C10: 0 | D10: 0 | E10: 4 | F10: 0 | G10: 0 | H10: 0 | I10: 7 | J10: 12 (1-Pvt) | K10: 19 | L10: 4 | M10: 0 | N10: 4 | O10: 8 | P10: 26 | Q10: 4
A11: 3 | B11: Anand | C11: 0 | D11: 0 | E11: 1 | F11: 1 | G11: 0 | H11: 0 | I11: 1 | J11: 3 | K11: 5 | L11: 1 | M11: 1 | N11: 2 | O11: 6 | P11: 11 | Q11: 1
A12: 4 | B12: Godhra | C12: 0 | D12: 1 | E12: 1 | F12: 1 | G12: 0 | H12: 0 | I12: 3 | J12: 17 (9-Pvt) | K12: 25 (2-Pvt) | L12: 6 | M12: 1 | N12: 1 | O12: 9 (1-Pvt) | P12: 35 | Q12: 4 (1-Pvt)
A13: 5 | B13: Nadiad | C13: 0 | D13: 1 | E13: 2 | F13: 1 | G13: 2 | H13: 0 | I13: 5 | J13: 11 (2-Pvt) | K13: 23 | L13: 6 | M13: 1 | N13: 2 | O13: 6 | P13: 17 | Q13: 1
B14: TOTAL | C14: =SUM(C9:C13) -> 0 | D14: =SUM(D9:D13) -> 3 | E14: =SUM(E9:E13) -> 8 | F14: =SUM(F9:F13) -> 3 | G14: =SUM(G9:G13) -> 2 | H14: =SUM(H9:H13) -> 0 | I14: =SUM(I9:I13) -> 19 | J14: 44 (12-Pvt) | K14: 72 (2-Pvt) | L14: =SUM(L9:L13) -> 17 | M14: 3 | N14: 10 | O14: 30 (1-Pvt) | P14: 93 | Q14: 10 (1-Pvt)
G15: =C14+D14+E14+F14+G14 -> 16 | L15: =H14+I14+44+72+L14 -> 152 | Q15: 146

Sheet SoP 002
A1: Performa – SoP 003: Action taken report for safety measures complied for the electrical accidents occurred
A3: ACTION TAKEN REPORT FOR SAFETY MEASURES COMPLIED FOR THE ELECTRICAL ACCIDENTS OCCURED IN THE FOURTH QUARTER OF FY 2022-23
A5: 1 | B5: 2 | E5: 3 | F5: 4 | L5: 5 | M5: 6 | N5: 7 | O5: 8 | P5: 9 | Q5: 10
A6: Sr. No | B6: Location of Accident and details of the victim | C6: Address | D6: sdn | E6: Date of occurrence | F6: Type of Accident | G6: Installation | I6: Accident Type | L6: Cause of Accident | M6: Findings of CEI / EI / AEI | N6: Remedies suggested by CEI /EI / AEI in various cases | O6: Whether the remedy suggested is complied | P6: Action taken to avoid recurrence of such Accident | Q6: Circle office | R6: Reason
A7: 1 | B7: BABUBHAI KALABHAI PARMAR, SIM VISTAR, Vill-DANTALI, Tal-KAPADWANJ, Dist-Kheda | E7: 44928 | F7: FHO | L7: ON DATED 02.01.2023 AROUND 11:30AM VICTIM LATE SHRI BABUBHAI KALABHAI PARMAR & TWO OF HIS RELATIVES 1. ASHWINBHAI BHALABHAI PARMAR 2. VISHALBHAI SHANABHAI PARMAR WERE TRYING TO FIT HIS SUBMERSIBLE MOTOR IN HIS BOREWELL WITH THE HELP OF 2 TYRE VEHICLE(GHODI OR CART) WHICH IS ATTACHED WITH 18.5 FEET LONG IN HEIGHT METAL PIPE. (HEIGHT OF 2 TYRE VEIHCLE (GHODI OR CART) IS 2.6 FEET & PIPE IS 18.5 FEET, SO TOTAL HEIGHT IS MORE THAN 21 FEET). 11KV SUKI AG FDR LINE IS PASSING ABOVE THIS LOCATION. VICTIM | M7: AWAITED | N7: NA | O7: NA | P7: Estimate was issued for Shifting of line | Q7: Nadiad | R7: 6
A8: 2 | B8: ASHWINBHAI BHALABHAI PARMAR (AGE-35), VISHALBHAI SHANABHAI PARMAR (AGE-27), SIM VISTAR, Vill-DANTALI, Tal-KAPADWANJ, Dist-Kheda | E8: 44928 | F8: NFHO | L8: ON DATED 02.01.2023 AROUND 11:30AM VICTIM LATE SHRI BABUBHAI KALABHAI PARMAR & TWO OF HIS RELATIVES 1. ASHWINBHAI BHALABHAI PARMAR 2. VISHALBHAI SHANABHAI PARMAR WERE TRYING TO FIT HIS SUBMERSIBLE MOTOR IN HIS BOREWELL WITH THE HELP OF 2 TYRE VEHICLE(GHODI OR CART) WHICH IS ATTACHED WITH 18.5 FEET LONG IN HEIGHT METAL PIPE. (HEIGHT OF 2 TYRE VEIHCLE (GHODI OR CART) IS 2.6 FEET & PIPE IS 18.5 FEET, SO TOTAL HEIGHT IS MORE THAN 21 FEET). 11KV SUKI AG FDR LINE IS PASSING ABOVE THIS LOCATION. VICTIM | M8: AWAITED | N8: NA | O8: NA | P8: Estimate was issued for Shifting of line | Q8: Nadiad | R8: 6
A9: 3 | B9: VALAMBHAI KALABHAI PARMAR, VYAS VASNA SIM,Vill-VYAS VASNA, Taluka:Kapadwanj,District: Kheda | E9: 44932 | F9: NFHO | L9: ON DATED 06.01.2023 AROUND 14:30 HOURS VICTIM SHRI VALAMBHAI KALABHAI PARMAR WAS CUTTING TREE BRANCH FOR FEED THE ANIMAL BY CLIMBING ON THE SECOND HOLE OF PSC POLE OF 11 KV ALWA AG FEEDER.DURING THE CUTTING OF TREE BRANCH(GORAS AMBALI) BY VANSI BY WHICH THE TREE BRANCH CUT,VANSI SUDDENLY COMES IN CONTACH WITH 11 KV LIVE LINE AND BY ELECTRUDE VICTIM FELT DOWN ON THE LAND.AS PER EYE WITNESS SHRI PATEL LALABHAI MOHAN BHAI VICTIM WAS TAKEN TO NEARBY HOSPITAL BY 108 . | M9: AWAITED | N9: NA | O9: NA | P9: Public Awarenss program for safety awareness were exacuted | Q9: Nadiad | R9: 6
A10: 4 | B10: MAHENDRABHAI RAJESHBHAI GUPTA, SANKARDA BHADARWA ROAD,Vill-Moxi, Tal-Savli, Dist-vadodara | E10: 44932 | F10: FHO | L10: DUE TO ONGOING WORK OF ROAD WIDENING AND NEW ROAD OF SANKARDA-BHADARWA BY R&B DEPARTMENT. THEY WERE CARRIED OUT ROAD WIDENING WORK AND FILLING BESIDES LAND AND DRAINAGE WITH SANDS AND STONE CHIPS. DUE TO THE FILLING, GROUND CLEARANCE OF 11 KV LINE REDUCED. THE EICHER DRIVER TOOK VEHICLE UNDER-CONSTRUCTION BESIDE ROAD AND DUE TO EICHER VEHICLE HIGHT EXTENSION BY ADDITIONAL FABRICATION IT CAME IN CONTACT WITH LINE 11 KV CONDUCTOR. SO 11 KV ELECTRIC SUPPLY CONTINUES FLEW THROUGH EICHER AND EICHER | M10: Awaited | N10: NA | O10: NA | P10: psc pole replaced with 11 Meter girder pole and incerase the line clearance | Q10: Baroda O&M | R10: 6
A11: 5 | B11: BHARWAD VANRAJBHAI RAJABHAI,FARM OF BHARWAD RUPABHAI,B/H ONGC WELL NO.1,JUNI AKHOL ROAD,Vill-LUNEJ, Tal-Khambhat, Dist-Anand | E11: 44934 | F11: FHO | L11: On receipt of telephonic information to concern onduty staff by Sarpanch shree ,Lunej ,Dated 08.01.23 @11.45, During visit at site on Dtd 08.01.23,it is found that the accident took place on the 11KV Gudel JGY feeder at DP Structure of rail pole having GEO location No.38/29,Due to Some unknown reason the top conductor opened from D Jumper from one side but still connected on opposite side of same pole same phase,This results of that conductor span got lossed and produced low ground clearance in | M11: Awaited | N11: NA | O11: NA | P11: girder pole erected & clearance maintained , guarding also provided | Q11: Anand | R11: 1
A12: 6 | B12: VASAWA SANJAYBHAI BUDHABHAI, Vill-KOLIYAD,Tal-karjan, Dist-Vadodara | E12: 44940 | F12: FHO | L12: On DT:- 14-01-2023, the victim while flying kite on his friend's house terrace ran for catching another kite on terrace of his friend's neighbour house and came in contact with live conductor passing over the house of neighbour staying beside house of victim's friendand hence victim got electrocuted and died on the spot | M12: Awaited | N12: NA | O12: NA | P12: notice issued for illegal construction | Q12: Baroda O&M | R12: 2
A13: 7 | B13: Kalabhai Gopichandbhai Parmar, BHANPUR TALAV FLY,Vill-BHANPUR, Tal-Dhanpur, Dist-Dahod | E13: 44955 | F13: FHO | L13: As per primary investigation information recieved from Villagers that unauthorise fencing of iron wire surrounding the farm of Shri Makansing Veljibhai Parmar Which was founded by villagers . The electric current fed to that fencing by Farm owner through unauthorise hooking from LT line which is about 700 meter away from incidence place. As per villagers ,The victim may be came in contact with this live fencing of farm and get electric shock and died on the moreover as per information by villa | M13: AWAITED | N13: NA | O13: NA | P13: At the Time Of Investigation SDO MGVCL Garbada On No Victim Dead Body On Incidence Place And No Any Unauthorized Hooking Lunger Wire Was Found On Fencing Of Farm. Local Police Had Done Their Investigation Before Investigation By MGVCL.letter written vide 318/03.02.2023 to dhanpur police station for tempered (direct hooking ) with lt line. | Q13: Godhra | R13: 6
A14: 8 | B14: COWS OF KALUBHAI HARIBHAI BHARVAD,BHARVAD FLY,Vill-Rabdal, Tal-Dahod, Dist-Dahod | E14: 44955 | F14: FA | L14: According to the information received at complain center by Sh Bharatbhai Kalubhai Bharwad current may be leakaged through kite thread on the pole.The kite thread surrounded the pole and touched LT 2w open conductor and the GI earth wire.Due to the rain the thread got wet and circulating power from lt line to the GI wire.At the bottom of the pole private fancing barbed wire bounded with the pole.The cows touched with the barbed fancing wire and got electrocuted and fell down on the ground and wa | M14: AWAITED | N14: NA | O14: NA | P14: KITE THREAD REMOVED AND INSTRUCT CONCERN TO REMOVE BARBED WIRE OF HIS FANCING FROM THE POLE | Q14: Godhra | R14: 2
A15: 9 | B15: ZALA DHAMAJI GOTAJI, VIRAVAT NI MUVADI, Vill-RANODARA, Tal-Daskoi, Distt-Ahmedabad | E15: 44966 | F15: FA | L15: 3 PH 4 WIRE AG LT OF 11 KV HATHNOLI AG FDR PASSING THROUGH THE PREMISES OF ZALA DHAMAJI GOTAJI, AT LOC. VIRAVAT NI MUVADI. VILL: RANODARA FOR 3 PH-AG CONN OF ZALA GALAJI BADHAJI. THIS LT LINE IS VERY OLD 3 PH 5 WIRE AAAC 34 SQMM. IN THE MORNING FROM THIS 3 PH 4 WIRE AAAC 34 SQMM ONE TOP CONDUCTOR BROKEN AND FALL DOWN TO THIS BUFFALO. SO THIS BUFFALO MEET THE ELECTRICAL ACCIDENT AND DIED ON SAME PLACE. | M15: AWAITED | N15: NA | O15: NA | P15: DETERIORATED CONDUCTOR CHANGE AT THE ACCIDENT PLACE | Q15: Nadiad | R15: 1
A16: 10 | B16: RAMESHBHAI DINESHBHAI CHAUHAN, Vill-Balol, Tal-Mahudha, Distt-Kheda | E16: 44968 | F16: FHO | L16: As per eye witness statement the victim was working for digging well(khalkuvo) in the farm. Victim was put an iron rod to measure the depth of the well.While he raised an iron rod,iron rod was accidentally touch the live wire of 11 kv Kaprupur ag dom feeder which passing through the farm above the well. So the victim came in contact with the live wire and hence got electrocuted. | M16: AWAITED | N16: NA | O16: NA | P16: Awareness given | Q16: Nadiad | R16: 6
A17: 11 | B17: Chakiben Teriyabhai Rathwa, near APMC, Vill-Chhotaudepur, Tal/Distt-Chhotaudepur | E17: 44969 | F17: FHO | L17: As per primary investigation information recieved from villagers that victim(labor) climbed on iron roof to remove one iron roof which is obstacles in manufacturing of civil column. accidently she contact in one live conductor of 11kv feeder, electrocuted & died on the spot. | M17: Awaited | N17: NA | O17: NA | P17: No action required | Q17: Baroda O&M | R17: 6
A18: 12 | B18: Vishalkumar Rameshbhai Bhoi, Atlantis K 10 Building, Vadodara | E18: 44974 | F18: NFHD | L18: DURING ROUTINE DC ACTIVITY WORK AT ALKAPURI SDN SHRI. VISHAL R. BHOI AGE 23 APPROX. WORKING AS EA- VS ALONG WITH SHRI. D. B. RATHOD EA HAS GONE FOR DC WORK AT SARABHAI CAMPUS AREA AT ATLANTIS K-10 COMPLEX-.DURING THE DISCONNECTION SHRI. VISHALKUMAR BHOI NOT HAVE IDENTIFIED THE MAIN SUPPLY WIRES AND BY MISTAKE HE MAY CAME IN CONTACT TO MAIN SUPPLY INSTEAD OF LOAD SIDE THAT HAVE CAUSED ARC AND FLASHES WHICH HAS RESULTED IN THE INJURIES IN THE HANDS OF VISHAL BHOI. | M18: AWAITED | N18: NA | O18: NA | P18: Awereness givin to victim & co-workers to adopt safe practices during work | Q18: Baroda City | R18: 3
... A22: 16 | B22: BUFFALO,TEKRA FALIYU,Vill-VATAV, Tal-PETLAD, Dist-ANAND | E22: 45008 | F22: FA | L22: DUE TO HEAVY WIND AND RAIN, DROPPER WIRE USED FOR LT CONNECTION ACCIDENTLY TOUCHED WITH EARTH GI WIRE OF POLE EARTHING AND CURRENT FLOW THROUGH GI EARTH WIRE, HENCE BUFFALO ELECTOCUTED AND DEAD. | M22: Awaited | N22: NA | O22: NA | P22: remove GI wire from droper joint & insulated tap provded | Q22: Anand | R22: 2

Sheet MG SoP 03B 
A1: ='MG COVER PAGE'!A1 -> Name of Distribution Licensee: M G V C L
A2: ='MG COVER PAGE'!A2 -> Quarter : Q-IV (Jan-Feb-Mar-2022-23)
A3: ='MG COVER PAGE'!A3 -> Year: 2022-23
A4: REGISTER FOR COMPILING THE COMPLAINTS CLASSIFICATIONWISE Q-I 2023
A5: Performa SoP 003 B: | E5: APPENDIX-B (already in the SoP regulation)
A6: Classification | B6: Nature of Complaints | C6: Pending complaints of previous qtr. | D6: Complaints received during the qtr. | E6: Total Complaints =2+3 | F6: No. of Complaints redressed during the quarter. | K6: Balance Complaints to be redressed. (4) – (9)
F7: In stipulated time | H7: Beyond stipulated time | J7: Total (5) to (8)
F8: Within 50% of stipulated time. | G8: Within stipulated time. | H8: Up to double the stipulated time | I8: More than double the stipulated time
B9: 1 | C9: 2 | D9: 3 | E9: 4 | F9: 5 | G9: 6 | H9: 7 | I9: 8 | J9: 9 | K9: 10
A10: A(i) | B10: Loose Connection | C10: 0 | D10: ='[25]MG SoP 03B (BC)'!D10+'[25]MG SoP 03B (BO)'!D10+'[25]MG SoP 03B (And)'!D10+'[25]MG SoP 03B (Nad)'!D10+'[25]MG SoP 03B (Gdr)'!D10 -> 60209 | E10: =C10+D10 -> 60209 | F10: ='[25]MG SoP 03B (BC)'!F10+'[25]MG SoP 03B (BO)'!F10+'[25]MG SoP 03B (And)'!F10+'[25]MG SoP 03B (Nad)'!F10+'[25]MG SoP 03B (Gdr)'!F10 -> 30322 | G10: ='[25]MG SoP 03B (BC)'!G10+'[25]MG SoP 03B (BO)'!G10+'[25]MG SoP 03B (And)'!G10+'[25]MG SoP 03B (Nad)'!G10+'[25]MG SoP 03B (Gdr)'!G10 -> 29887 | H10: 0 | I10: 0 | J10: =SUM(F10:I10) -> 60209 | K10: =E10-J10 -> 0
A11: A(ii) | B11: Intruption due to line Break down | C11: 0 | D11: ='[25]MG SoP 03B (BC)'!D11+'[25]MG SoP 03B (BO)'!D11+'[25]MG SoP 03B (And)'!D11+'[25]MG SoP 03B (Nad)'!D11+'[25]MG SoP 03B (Gdr)'!D11 -> 41447 | E11: =C11+D11 -> 41447 | F11: ='[25]MG SoP 03B (BC)'!F11+'[25]MG SoP 03B (BO)'!F11+'[25]MG SoP 03B (And)'!F11+'[25]MG SoP 03B (Nad)'!F11+'[25]MG SoP 03B (Gdr)'!F11 -> 19299 | G11: ='[25]MG SoP 03B (BC)'!G11+'[25]MG SoP 03B (BO)'!G11+'[25]MG SoP 03B (And)'!G11+'[25]MG SoP 03B (Nad)'!G11+'[25]MG SoP 03B (Gdr)'!G11 -> 22148 | H11: 0 | I11: 0 | J11: =SUM(F11:I11) -> 41447 | K11: =E11-J11 -> 0
A12: A(iii) | B12: Intruption due to T/C Fail | C12: 0 | D12: ='[25]MG SoP 03B (BC)'!D12+'[25]MG SoP 03B (BO)'!D12+'[25]MG SoP 03B (And)'!D12+'[25]MG SoP 03B (Nad)'!D12+'[25]MG SoP 03B (Gdr)'!D12 -> 5252 | E12: =C12+D12 -> 5252 | F12: ='[25]MG SoP 03B (BC)'!F12+'[25]MG SoP 03B (BO)'!F12+'[25]MG SoP 03B (And)'!F12+'[25]MG SoP 03B (Nad)'!F12+'[25]MG SoP 03B (Gdr)'!F12 -> 2880 | G12: ='[25]MG SoP 03B (BC)'!G12+'[25]MG SoP 03B (BO)'!G12+'[25]MG SoP 03B (And)'!G12+'[25]MG SoP 03B (Nad)'!G12+'[25]MG SoP 03B (Gdr)'!G12 -> 2372 | H12: 0 | I12: 0 | J12: =SUM(F12:I12) -> 5252 | K12: =E12-J12 -> 0
A13: B(i) | B13: Quality of power supply,ordinary case which require no Augmentation | C13: 0 | D13: ='[25]MG SoP 03B (BC)'!D13+'[25]MG SoP 03B (BO)'!D13+'[25]MG SoP 03B (And)'!D13+'[25]MG SoP 03B (Nad)'!D13+'[25]MG SoP 03B (Gdr)'!D13 -> 7556 | E13: =C13+D13 -> 7556 | F13: ='[25]MG SoP 03B (BC)'!F13+'[25]MG SoP 03B (BO)'!F13+'[25]MG SoP 03B (And)'!F13+'[25]MG SoP 03B (Nad)'!F13+'[25]MG SoP 03B (Gdr)'!F13 -> 4872 | G13: ='[25]MG SoP 03B (BC)'!G13+'[25]MG SoP 03B (BO)'!G13+'[25]MG SoP 03B (And)'!G13+'[25]MG SoP 03B (Nad)'!G13+'[25]MG SoP 03B (Gdr)'!G13 -> 2684 | H13: 0 | I13: 0 | J13: =SUM(F13:I13) -> 7556 | K13: =E13-J13 -> 0
A14: B(ii) | B14: Quality of power supply,ordinary case which require Augmentation | C14: 0 | D14: ='[25]MG SoP 03B (BC)'!D14+'[25]MG SoP 03B (BO)'!D14+'[25]MG SoP 03B (And)'!D14+'[25]MG SoP 03B (Nad)'!D14+'[25]MG SoP 03B (Gdr)'!D14 -> 4017 | E14: =C14+D14 -> 4017 | F14: ='[25]MG SoP 03B (BC)'!F14+'[25]MG SoP 03B (BO)'!F14+'[25]MG SoP 03B (And)'!F14+'[25]MG SoP 03B (Nad)'!F14+'[25]MG SoP 03B (Gdr)'!F14 -> 2034 | G14: ='[25]MG SoP 03B (BC)'!G14+'[25]MG SoP 03B (BO)'!G14+'[25]MG SoP 03B (And)'!G14+'[25]MG SoP 03B (Nad)'!G14+'[25]MG SoP 03B (Gdr)'!G14 -> 1983 | H14: 0 | I14: 0 | J14: =SUM(F14:I14) -> 4017 | K14: =E14-J14 -> 0
A15: C(i) | B15: Meters- Stoped/Defective meter | C15: 0 | D15: ='[25]MG SoP 03B (BC)'!D15+'[25]MG SoP 03B (BO)'!D15+'[25]MG SoP 03B (And)'!D15+'[25]MG SoP 03B (Nad)'!D15+'[25]MG SoP 03B (Gdr)'!D15 -> 13847 | E15: =C15+D15 -> 13847 | F15: ='[25]MG SoP 03B (BC)'!F15+'[25]MG SoP 03B (BO)'!F15+'[25]MG SoP 03B (And)'!F15+'[25]MG SoP 03B (Nad)'!F15+'[25]MG SoP 03B (Gdr)'!F15 -> 8667 | G15: ='[25]MG SoP 03B (BC)'!G15+'[25]MG SoP 03B (BO)'!G15+'[25]MG SoP 03B (And)'!G15+'[25]MG SoP 03B (Nad)'!G15+'[25]MG SoP 03B (Gdr)'!G15 -> 5180 | H15: 0 | I15: 0 | J15: =SUM(F15:I15) -> 13847 | K15: =E15-J15 -> 0
A16: C(ii) | B16: Meters- Billing on average basis for > two bills | C16: 0 | D16: ='[25]MG SoP 03B (BC)'!D16+'[25]MG SoP 03B (BO)'!D16+'[25]MG SoP 03B (And)'!D16+'[25]MG SoP 03B (Nad)'!D16+'[25]MG SoP 03B (Gdr)'!D16 -> 5388 | E16: =C16+D16 -> 5388 | F16: ='[25]MG SoP 03B (BC)'!F16+'[25]MG SoP 03B (BO)'!F16+'[25]MG SoP 03B (And)'!F16+'[25]MG SoP 03B (Nad)'!F16+'[25]MG SoP 03B (Gdr)'!F16 -> 3235 | G16: ='[25]MG SoP 03B (BC)'!G16+'[25]MG SoP 03B (BO)'!G16+'[25]MG SoP 03B (And)'!G16+'[25]MG SoP 03B (Nad)'!G16+'[25]MG SoP 03B (Gdr)'!G16 -> 2153 | H16: 0 | I16: 0 | J16: =SUM(F16:I16) -> 5388 | K16: =E16-J16 -> 0
A17: D(i) | B17: Over head lines - loose wires | C17: 0 | D17: ='[25]MG SoP 03B (BC)'!D17+'[25]MG SoP 03B (BO)'!D17+'[25]MG SoP 03B (And)'!D17+'[25]MG SoP 03B (Nad)'!D17+'[25]MG SoP 03B (Gdr)'!D17 -> 4717 | E17: =C17+D17 -> 4717 | F17: ='[25]MG SoP 03B (BC)'!F17+'[25]MG SoP 03B (BO)'!F17+'[25]MG SoP 03B (And)'!F17+'[25]MG SoP 03B (Nad)'!F17+'[25]MG SoP 03B (Gdr)'!F17 -> 2327 | G17: ='[25]MG SoP 03B (BC)'!G17+'[25]MG SoP 03B (BO)'!G17+'[25]MG SoP 03B (And)'!G17+'[25]MG SoP 03B (Nad)'!G17+'[25]MG SoP 03B (Gdr)'!G17 -> 2390 | H17: 0 | I17: 0 | J17: =SUM(F17:I17) -> 4717 | K17: =E17-J17 -> 0
A18: D(ii) | B18: Over head lines - in adiquate ground clearance | C18: 0 | D18: ='[25]MG SoP 03B (BC)'!D18+'[25]MG SoP 03B (BO)'!D18+'[25]MG SoP 03B (And)'!D18+'[25]MG SoP 03B (Nad)'!D18+'[25]MG SoP 03B (Gdr)'!D18 -> 930 | E18: =C18+D18 -> 930 | F18: ='[25]MG SoP 03B (BC)'!F18+'[25]MG SoP 03B (BO)'!F18+'[25]MG SoP 03B (And)'!F18+'[25]MG SoP 03B (Nad)'!F18+'[25]MG SoP 03B (Gdr)'!F18 -> 463 | G18: ='[25]MG SoP 03B (BC)'!G18+'[25]MG SoP 03B (BO)'!G18+'[25]MG SoP 03B (And)'!G18+'[25]MG SoP 03B (Nad)'!G18+'[25]MG SoP 03B (Gdr)'!G18 -> 467 | H18: 0 | I18: 0 | J18: =SUM(F18:I18) -> 930 | K18: =E18-J18 -> 0
A19: E(i) | B19: Bills- for current bills where no addl information required | C19: 0 | D19: ='[25]MG SoP 03B (BC)'!D19+'[25]MG SoP 03B (BO)'!D19+'[25]MG SoP 03B (And)'!D19+'[25]MG SoP 03B (Nad)'!D19+'[25]MG SoP 03B (Gdr)'!D19 -> 3262 | E19: =C19+D19 -> 3262 | F19: ='[25]MG SoP 03B (BC)'!F19+'[25]MG SoP 03B (BO)'!F19+'[25]MG SoP 03B (And)'!F19+'[25]MG SoP 03B (Nad)'!F19+'[25]MG SoP 03B (Gdr)'!F19 -> 2212 | G19: ='[25]MG SoP 03B (BC)'!G19+'[25]MG SoP 03B (BO)'!G19+'[25]MG SoP 03B (And)'!G19+'[25]MG SoP 03B (Nad)'!G19+'[25]MG SoP 03B (Gdr)'!G19 -> 1050 | H19: 0 | I19: 0 | J19: =SUM(F19:I19) -> 3262 | K19: =E19-J19 -> 0
A20: E(ii) | B20: Bills- for current bills where addl information required | C20: 0 | D20: ='[25]MG SoP 03B (BC)'!D20+'[25]MG SoP 03B (BO)'!D20+'[25]MG SoP 03B (And)'!D20+'[25]MG SoP 03B (Nad)'!D20+'[25]MG SoP 03B (Gdr)'!D20 -> 2559 | E20: =C20+D20 -> 2559 | F20: ='[25]MG SoP 03B (BC)'!F20+'[25]MG SoP 03B (BO)'!F20+'[25]MG SoP 03B (And)'!F20+'[25]MG SoP 03B (Nad)'!F20+'[25]MG SoP 03B (Gdr)'!F20 -> 1192 | G20: ='[25]MG SoP 03B (BC)'!G20+'[25]MG SoP 03B (BO)'!G20+'[25]MG SoP 03B (And)'!G20+'[25]MG SoP 03B (Nad)'!G20+'[25]MG SoP 03B (Gdr)'!G20 -> 1367 | H20: 0 | I20: 0 | J20: =SUM(F20:I20) -> 2559 | K20: =E20-J20 -> 0
A21: F(i) | B21: Service connections- where extention of mains is not required | C21: 0 | D21: ='[25]MG SoP 03B (BC)'!D21+'[25]MG SoP 03B (BO)'!D21+'[25]MG SoP 03B (And)'!D21+'[25]MG SoP 03B (Nad)'!D21+'[25]MG SoP 03B (Gdr)'!D21 -> 6508 | E21: =C21+D21 -> 6508 | F21: ='[25]MG SoP 03B (BC)'!F21+'[25]MG SoP 03B (BO)'!F21+'[25]MG SoP 03B (And)'!F21+'[25]MG SoP 03B (Nad)'!F21+'[25]MG SoP 03B (Gdr)'!F21 -> 4643 | G21: ='[25]MG SoP 03B (BC)'!G21+'[25]MG SoP 03B (BO)'!G21+'[25]MG SoP 03B (And)'!G21+'[25]MG SoP 03B (Nad)'!G21+'[25]MG SoP 03B (Gdr)'!G21 -> 1865 | H21: 0 | I21: 0 | J21: =SUM(F21:I21) -> 6508 | K21: =E21-J21 -> 0
... A26: H | B26: Others | C26: 0 | D26: ='[25]MG SoP 03B (BC)'!D26+'[25]MG SoP 03B (BO)'!D26+'[25]MG SoP 03B (And)'!D26+'[25]MG SoP 03B (Nad)'!D26+'[25]MG SoP 03B (Gdr)'!D26 -> 20422 | E26: =C26+D26 -> 20422 | F26: ='[25]MG SoP 03B (BC)'!F26+'[25]MG SoP 03B (BO)'!F26+'[25]MG SoP 03B (And)'!F26+'[25]MG SoP 03B (Nad)'!F26+'[25]MG SoP 03B (Gdr)'!F26 -> 9999 | G26: ='[25]MG SoP 03B (BC)'!G26+'[25]MG SoP 03B (BO)'!G26+'[25]MG SoP 03B (And)'!G26+'[25]MG SoP 03B (Nad)'!G26+'[25]MG SoP 03B (Gdr)'!G26 -> 10423 | H26: 0 | I26: 0 | J26: =SUM(F26:I26) -> 20422 | K26: =E26-J26 -> 0
B27: TOTAL | C27: 0 | D27: =SUM(D10:D26) -> 185598 | E27: =SUM(E10:E26) -> 185598 | F27: =SUM(F10:F26) -> 96344 | G27: =SUM(G10:G26) -> 89254 | H27: =SUM(H10:H26) -> 0 | I27: =SUM(I10:I26) -> 0 | J27: =SUM(J10:J26) -> 185598 | K27: =E27-J27 -> 0

Sheet MG SoP 04
A1: ='[25]MG SoP 01'!A1 -> Name of Distribution Licensee: M G V C L
A2: ='[25]MG SoP 01'!A2 -> Quarter : Q-IV (Jan-Feb-Mar-2022-23)
A3: ='[25]MG SoP 01'!A3 -> Year: 2022-23
A4: Performa SoP 004 : Publicity carried out while displaying the contact details of consumer complaints centers
A5: Particulars should also cover the details of consumer awareness program conducted, advertisement done through various media like TV, newspaper, radio, pamphlets & booklet distributions, Displays etc. The development of website and any medium through which public education is carried out can be included.
A7: Sr. No | B7: Actions or steps carried out by distribution licensee towards public awareness in the quarter | C7: Likely number of consumers influenced
A9: 1 | B9: RTI Officers Name is displayed at customer care centre on each office | C9: 3487443
A10: 2 | B10: Necessary information regarding time schedule for new connection and solving complaints is display on the board. | C10: 3487443
A11: 3 | B11: Contact nos. of various officers of the company for emergency contact is also displayed at customer care centre. | C11: 3487443
A12: 4 | B12: Displayed safety posters at various S/dn,Divisions | C12: 4800
A13: 5 | B13: Safety Meeting with Line Staff at various S/dn,Divisions on Every Monday (Line staff influenced) | C13: 3605

Sheet SOP-05
A1: ='[26]MG COVER PAGE'!A1 -> Name of Distribution Licensee: M G V C L
A2: SOP Q-IV
A3: Year :2022-23
A4: Performa – SoP 005 B: Action taken report by the Redressal Committee
A5: Sr. No | B5: Month | C5: Date and Time Meeting conducted | D5: No of complaints registered at the meeting | E5: No. of complaints pending at the end of the meeting
A6: 1 | B6: 1st Month of the quarter (Jan-23) | C6: NIL | D6: NIL | E6: NIL
A7: 2 | B7: 2nd Month of the quarter (Feb23) | C7: NIL | D7: NIL | E7: NIL
A8: 3 | B8: 3rd Month of the quarter (March23) | C8: 28.03.23 11:30 AM at corporate office vadodara | D8: 8 | E8: 0

Sheet MG SoP - 06
A1: Name of Distribution Licensee: M G V C L
A2: Financial Year: 2022-23
A3: Quarter : Q-IV (Jan-Feb-Mar-2023)
A4: Performa SoP 006: Failure of Distribution Transformer
A5: Sr. No. | B5: Name of Circle | C5: Nos. of existing Distribution Transformers at the start of the quarter | D5: Nos. of Distribution Transformers added during the quarter | E5: Total number of Distribution Transformers on end of quarter | F5: Total number of Distribution transformer failed during quarter-IV | G5: % failure rate of Distribution transformer
C6: A | D6: B | E6: C=A+B | F6: D | G6: H = (D)*100/C
A7: 1 | B7: Baroda O&M | C7: 53982 | D7: 2797 | E7: 56779 | F7: 588 | G7: 1.0355941
A8: 2 | B8: Baroda City | C8: 9368 | D8: 135 | E8: 9503 | F8: 9 | G8: 0.094706935
A9: 3 | B9: Anand | C9: 24872 | D9: 444 | E9: 25316 | F9: 133 | G9: 0.52535946
A10: 4 | B10: Nadiad | C10: 31870 | D10: 1035 | E10: 32905 | F10: 221 | G10: 0.67163045
A11: 5 | B11: Godhra | C11: 60881 | D11: 1006 | E11: 61887 | F11: 724 | G11: 1.1698741
B12: MGVCL | C12: 180973 | D12: 5417 | E12: 186390 | F12: 1675 | G12: 0.89865336

Sheet SoP008
A1: ='[27]MG COVER PAGE'!A1 -> Name of Distribution Licensee: M G V C L
A2: ='[27]MG COVER PAGE'!A2 -> Quarter : Q-4 (Jan-Feb-March- 2023)
A3: ='[27]MG COVER PAGE'!A3 -> Year: 2022-23
A4: Performa SoP 008: Sample Test result for Neutral Voltage
A6: Compliance Sample Test Report for Neutral Voltage
A7: -1 | B7: -2 | C7: -3 | D7: -4 | E7: -5 | F7: -6
A8: Sr. No | B8: Category of consumers | C8: Sample Size | D8: Standard specified in regulation | E8: Deviation of results from the sample test (Numbers) | F8: % age compliance
C9: (Numbers) | F9: (6) = (5)*100/(3)
B10: LT consumers | C10: =SUM(C11:C15) -> 1441 | D10: 2% | E10: =SUM(E11:E15) -> 0 | F10: =E10*100/C10 -> 0
A11: 1 | B11: Domestic | C11: 1023 | D11: 2% | E11: 0 | F11: =E11*100/C11 -> 0
A12: 2 | B12: Commercial | C12: 242 | D12: 2% | E12: 0 | F12: =E12*100/C12 -> 0
A13: 3 | B13: Industrial | C13: 23 | D13: 2% | E13: 0 | F13: =E13*100/C13 -> 0
A14: 4 | B14: Agricultural | C14: 143 | D14: 2% | E14: 0 | F14: 0
A15: 5 | B15: Public water works | C15: 10 | D15: 2% | E15: 0 | F15: 0
B16: HT consumers | D16: 2%
A17: 6 | B17: HT industrial | C17: 5 | D17: 2% | E17: 0 | F17: =E17*100/C17 -> 0

Sheet SoP009
A1: ='[27]MG COVER PAGE'!A1 -> Name of Distribution Licensee: M G V C L
A2: ='[27]MG COVER PAGE'!A2 -> Quarter : Q-4 (Jan-Feb-March- 2023)
A3: ='[27]MG COVER PAGE'!A3 -> Year: 2022-23
A4: Performa SoP 009: Sample Test result for Voltage variations
A5: Compliance Sample Test Report for voltage variations
A6: -1 | B6: -2 | C6: -3 | D6: -4 | E6: -5
A7: Voltage Level | B7: Sample Size (numbers) | C7: Limit or prescribed standard | D7: Deviation of results from the sample test (Numbers) | E7: % age compliance
E8: (5) = (4)*100/(2)
A9: Low Voltage | B9: 56 | C9: +6% to -6% | D9: 0 | E9: =D9*100/B9 -> 0
A10: High Voltage | B10: 24 | C10: +6% to -9% | D10: 0 | E10: 0
A11: Extra High Voltage | B11: 1 | C11: +10% to -12.50% | D11: 0 | E11: 0

Sheet SoP010
A1: ='[27]MG COVER PAGE'!A1 -> Name of Distribution Licensee: M G V C L
A2: ='[27]MG COVER PAGE'!A2 -> Quarter : Q-4 (Jan-Feb-March- 2023)
A3: ='[27]MG COVER PAGE'!A3 -> Year: 2022-23
A4: Performa SoP 010: Sample Test result for Harmonics
A5: Compliance Sample Test Report for Harmonics
A6: -1 | B6: -2 | C6: -3 | D6: -4 | E6: -5 | F6: -6
A7: Sr. No | B7: Category of consumers | C7: Sample size (Numbers) | D7: Limit or standard prescribed | E7: Deviation of results from the sample test (Numbers) | F7: %age compliance
F8: (6) = (5)*100/(3)
A9: 1 | B9: LT consumers | C9: 33 | D9: 0.035 | E9: 0 | F9: =E9*100/C9 -> 0
A10: 2 | B10: HT consumers | C10: 4 | D10: 0.03 | E10: 0 | F10: 0
A11: 3 | B11: EHT consumers | C11: 1 | D11: 0.03 | E11: 0 | F11: 0

Sheet 11A
A1: Q-4(Jan-Mar-23)
A2: Year: 2022-23
A3: SoP 011 –A: System Average Interruption Frequency Index (SAIFI)
A4: Sr. No | B4: Month | C4: Ni - Total no of customers for each momentary interruptions | D4: NT - Total no of customers served | H4: Past year corrosponding Month
A10: 1 | B10: 2 | C10: 3 | D10: 4 | E10: 5 | F10: 6=5/4
A11: 1 | B11: Jan' 23 | C11: 3297751 | D11: 3434122 | E11: 11036638 | F11: =E11/D11 -> 3.2138165 | H11: 3.5
A12: 2 | B12: Feb' 23 | C12: 3135440 | D12: 3475513 | E12: 6582908 | F12: =E12/D12 -> 1.8940824 | H12: 2.2
A13: 3 | B13: Mar' 23 | C13: 3222984 | D13: 3448694 | E13: 11105053 | F13: =E13/D13 -> 3.2200749 | H13: 2.21
D14: =SUM(D11:D13) -> 10358329 | E14: =SUM(E11:E13) -> 28724599 | F14: =E14/D14 -> 2.773092 | H14: 3.2242768

Sheet 11B
A1: ='11A'!A1 -> Q-4(Jan-Mar-23)
A2: ='11A'!A2 -> Year: 2022-23
A3: SoP 011 – B System Average Interruption Duration Index (SAIDI)
A4: Sr. No | B4: Month | C4: ri = Restoration Time for each interruption event | D4: Ni - no of interrupted customers for each sustained interruption event | E4: ri * Ni – Total customer interruption Duration | F4: ri=Restoration Time for each interruption event | G4: Ni= No of Interrupted customers for each sustained Interruption | H4: NT - Total no of customers served | I4: Customer Interruption Duration | M4: Past year corrosponding Months
J5: MINS. | K5: HRS.
A6: 1 | B6: 2 | C6: 3 | D6: 4 | E6: 5= 3 X 4 | F6: 3 | G6: 4 | H6: 5 | I6: 6 | J6: 7=4/3 | K6: 7A | M6: MINS. | N6: HRS.
A7: 1 | B7: ='11A'!B11 -> Jan' 23 | C7: July | F7: 688875 | G7: 3297751 | H7: 3434122 | I7: 932011757 | J7: =I7/H7 -> 271.39739 | K7: 0.18819444 | M7: 279 | N7: 0.19375
A8: 2 | B8: ='11A'!B12 -> Feb' 23 | C8: August | F8: 466309 | G8: 3135440 | H8: 3475513 | I8: 619450728 | J8: =I8/H8 -> 178.23289 | K8: 0.12361111 | M8: 229 | N8: 0.15902778
A9: 3 | B9: ='11A'!B13 -> Mar' 23 | F9: 503700 | G9: 3222984 | H9: 3448694 | I9: 584841739 | J9: =I9/H9 -> 169.58354 | K9: 0.11805556 | M9: 167 | N9: 0.11597222
G10: =SUM(G7:G9) -> 9656175 | H10: =SUM(H7:H9) -> 10358329 | I10: =SUM(I7:I9) -> 2136304224 | J10: =I10/H10 -> 206.24024 | K10: 3:43 | M10: =(M7+M8+M9)/3 -> 225 | N10: 0.15625

Sheet 11C
A1: ='11A'!A1 -> Q-4(Jan-Mar-23)
A2: ='11B'!A2 -> Year: 2022-23
A3: SoP 011 – C: Momentary Average Interruption Frequency Index (MAIFI)
A4: Sr. No | B4: Month | C4: Number of Momentary interruptions Imi | D4: Nmi - Total no of customers for each momentary interruptions | E4: NT - Total no of customers served | I4: Past year corrosponding Month
A5: 1 | B5: 2 | C5: 3 | D5: 4 | E5: 5 | F5: 6 | G5: 7
A6: 1 | B6: ='11A'!B11 -> Jan' 23 | C6: 20071 | D6: 3151427 | E6: 3434122 | F6: 35596422 | G6: =F6/E6 -> 10.365509 | I6: 10.8
A7: 2 | B7: ='11A'!B12 -> Feb' 23 | C7: 14790 | D7: 2827464 | E7: 3475513 | F7: 23090322 | G7: =F7/E7 -> 6.6437162 | I7: 6.64
A8: 3 | B8: ='11A'!B13 -> Mar' 23 | C8: 24550 | D8: 3041580 | E8: 3448694 | F8: 38926747 | G8: =F8/E8 -> 11.287388 | I8: 8.73
E9: =SUM(E6:E8) -> 10358329 | F9: =SUM(F6:F8) -> 97613491 | G9: =F9/E9 -> 9.4236716 | I9: 10.03

Sheet MG SoP - 13
B2: Name of Distribution Licensee: M G V C L
B3: ='MG SoP - 06'!A2 -> Financial Year: 2022-23
B4: Quarter : Q-IV (Jan-Feb-Mar-2023)
B5: Performa SoP 013: Faulty Meters Replacement
B6: Consumer Category | C6: No. of faulty meters at the start of the quarter | D6: No. of faulty meters added during the quarter | E6: Total no. of defective / faulty Meter | F6: No. of faulty Meters repaired and replaced | G6: No of faulty meters pending at the end of the quarter | H6: Remark
C7: 1 | D7: 2 | E7: (3)=(2)+(1) | F7: 4 | G7: (5)=(3)-(4)
B8: 1 PHASE
B9: MGVCL | C9: 5417 | D9: 23765 | E9: 29182 | F9: 22525 | G9: 6657
B10: 3 PHASE
B11: MGVCL | C11: 942 | D11: 2448 | E11: 3390 | F11: 2679 | G11: 711

Sheet SoP_15 
C2: Performa SoP 015: Release of New Connection status for FY 2022-23
C4: Qtr | D4: Consumer category | E4: Total no. of consumers connected at the beginning of half-year/year | F4: Pending at the Beginning of the of the Half year/year | G4: New Applications received during the half-year / year | H4: No. of connections released during the half-year / year | I4: No. of applications pending at the end of half-year / year | J4: Total no. of consumers connected at the end of half-year/year
C5: 2nd Half (Oct-March23)) | D5: Domestic | E5: 2818959 | F5: 1122 | G5: 34064 | H5: 26368 | I5: 1304 | J5: 2845327
D6: Commercial (NRGP_C+LTMD_C) | E6: 324529 | F6: 233 | G6: 7606 | H6: 7337 | I6: 304 | J6: 331866
D7: Industrial LT (NRGP_L+LTMD_L) | E7: 39782 | F7: 15 | G7: 909 | H7: 820 | I7: 164 | J7: 40602
D8: Agriculture (Total) | E8: 187315 | F8: 8775 | G8: 6376 | H8: 3616 | I8: 8099 | J8: =E8+H8 -> 190931
D9: Industrial HT | E9: 2822 | F9: 26 | G9: 136 | H9: 86 | I9: 64 | J9: 2869
D10: Total | E10: =SUM(E5:E9) -> 3373407 | F10: =SUM(F5:F9) -> 10171 | G10: =SUM(G5:G9) -> 49091 | H10: =SUM(H5:H9) -> 38227 | I10: =SUM(I5:I9) -> 9935 | J10: =SUM(J5:J9) -> 3411595

Sheet MG SoP 16
A1: ='[28]MG COVER PAGE'!A1 -> Name of Distribution Licensee: M G V C L
A2: ='[27]MG COVER PAGE'!A2 -> Quarter : Q-4 (Jan-Feb-March- 2023)
A3: ='[28]MG COVER PAGE'!A3 -> Year: 2022-23
A4: Performa SoP 016: Compensation details
A5: COMPENSATION DETAILS
A6: Sr.No. | B6: Event | C6: Compensation | D6: No of cases where compensation was given (in numbers) | E6: Amt of compensation paid (in Rs.)
A7: 1 | B7: Duty to provide supply | C7: Rs. 50 per day of delay from the limit specified in the performance regulations | D7: 0 | E7: 0
B8: a) New Connection | D8: 0 | E8: 0
B9: b) Additional Load | D9: 0 | E9: 0
B10: c) Temporary supply | D10: 0 | E10: 0
B11: d) Shifting service connection | D11: 0 | E11: 0
B12: e)Transfer of service connection | D12: 0 | E12: 0
B13: f) Change in tariff category of consumer | D13: 0 | E13: 0
A14: 2 | B14: Complaints in billing | C14: Rs. 50 for non reply within the period prescribed in Regulations | D14: 0 | E14: 0
A15: 3 | B15: Replacement of meters | C15: LT- Rs. 25 per day of delay - maximum Rs.2,500 and HT - Rs. 250 per day of delay - maximum of Rs.5,000 | D15: 0 | E15: 0
A16: 4 | B16: Interruption of supply | C16: LT- Rs. 25 for every 6 hrs of delay- maximum of Rs. 500 and HT- Rs. 50 for every 6 hrs delay- maximum Rs. 1000/- | D16: 0 | E16: 0
A17: 5 | B17: Voltage fluctuations and complaints | C17: Rs. 50 for failure to visit or convey findings within the stipulated period | D17: 0 | E17: 0
A18: 6 | B18: Responding to consumer's complaints | C18: Rs. 25 for each day of delay- maximum Rs. 500 | D18: 0 | E18: 0
A19: 7 | B19: Grievance Handling | C19: Rs.25 for failure in handling grievance | D19: 0 | E19: 0
A20: TOTAL | D20: =SUM(D7:D19) -> 0 | E20: =SUM(E7:E19) -> 0
