Workbook
Name \1: #REF!
Name \1: #REF!
Name \2: [1]TLPPOCT!#REF!
Name \2: [1]TLPPOCT!#REF!
Name \a: #REF!
Name \a: #REF!
Name \b: #REF!
Name \b: #REF!
Name \p: #REF!
Name \p: #REF!
Name __1_1_1: #REF!
Name __1_1_1: #REF!
Name __2_1_1_1: #REF!
Name __2_1_1_1: #REF!
Name _1: #REF!
Name _1: #REF!
Name _1_1: #REF!
Name _1_1: #REF!
Name _1_1_1: #REF!
Name _1_1_1: #REF!
Name _1_1_1_1: #REF!
Name _1_1_1_1: #REF!
Name _1_1_1_1_1: #REF!
Name _1_1_1_1_1: #REF!
Name _1_10: #REF!
Name _1_10: #REF!
Name _1_2: #REF!
Name _1_2: #REF!
Name _1_2_1: #REF!
Name _1_2_1: #REF!
Name _1_7: #REF!
Name _1_7: #REF!
Name _1_8: #REF!
Name _1_8: #REF!
Name _1_9: #REF!
Name _1_9: #REF!
Name _10Excel_BuiltIn__FilterDatabase_10_1: #REF!
Name _10Excel_BuiltIn__FilterDatabase_10_1: #REF!
Name _11Excel_BuiltIn__FilterDatabase_11_1: #REF!
Name _11Excel_BuiltIn__FilterDatabase_11_1: #REF!
Name _12Excel_BuiltIn__FilterDatabase_9_1: #REF!
Name _12Excel_BuiltIn__FilterDatabase_9_1: #REF!
Name _13Excel_BuiltIn_Database_1: #REF!
Name _13Excel_BuiltIn_Database_1: #REF!
Name _14Excel_BuiltIn_Database_1_1: #REF!
Name _14Excel_BuiltIn_Database_1_1: #REF!
Name _15Excel_BuiltIn_Database_1_11_1: #REF!
Name _15Excel_BuiltIn_Database_1_11_1: #REF!
Name _16Excel_BuiltIn_Database_1_6_1: #REF!
Name _16Excel_BuiltIn_Database_1_6_1: #REF!
Name _2: [1]TLPPOCT!#REF!
Name _2: [1]TLPPOCT!#REF!
Name _2_1: [1]TLPPOCT!#REF!
Name _2_1: [1]TLPPOCT!#REF!
Name _2_1_1: [1]TLPPOCT!#REF!
Name _2_1_1: [1]TLPPOCT!#REF!
Name _2_1_1_1: [1]TLPPOCT!#REF!
Name _2_1_1_1: [1]TLPPOCT!#REF!
Name _2_1_1_1_1: [1]TLPPOCT!#REF!
Name _2_1_1_1_1: [1]TLPPOCT!#REF!

Sheet MG COVER PAGE
A1: Name of Distribution Licensee: M G V C L
A2: Quarter : Q-III (Oct-Nov-Dec-2024)
A3: Year: 2024-25

Sheet MG SoP 01 
A1: Name of Distribution Licensee: M G V C L
A2: Quarter III (Oct-24 to Dec-24)
A3: Year:2024-25
A4: Performa - SoP 001: Fatal and Non-Fatal electrical accident report
A5: NUMBER OF ACCIDENTS FOR THE 3rd QUARTER OF 2024-25
A6: Sr. No | B6: Name of Area/Circle | C6: No of accidents in the quarter | H6: Cumulative since the first quarter of the current FY 2024-25
C7: Departmental | E7: Outside | H7: TOTAL
C8: FH | D8: NFH | E8: FH | F8: FA | G8: NFH | H8: FH | I8: FA | J8: NFH
A9: 1 | B9: Baroda (City) | C9: 0 | D9: 2 | E9: 0 | F9: 0 | G9: 0 | H9: 2 (1-Pvt) | I9: 3 | J9: 0
A10: 2 | B10: Baroda (O&M) | C10: 0 | D10: 0 | E10: 2 | F10: 2 | G10: 1 | H10: 9 | I10: 19 | J10: 4
A11: 3 | B11: Anand | C11: 0 | D11: 0 | E11: 1 | F11: 0 | G11: 0 | H11: 9 (4-Pvt) | I11: 5 | J11: 0
A12: 4 | B12: Godhra | C12: 0 | D12: 1 | E12: 5 (2-Pvt) | F12: 2 | G12: 1 | H12: 20 (5-Pvt) | I12: 41 | J12: 3
A13: 5 | B13: Nadiad | C13: 0 | D13: 2 | E13: 0 | F13: 4 | G13: 0 | H13: 6 | I13: 17 | J13: 3
B14: TOTAL | C14: 0 | D14: 5 | E14: 8 (2-Pvt) | F14: 8 | G14: 2 | H14: 46 (10-Pvt) | I14: 85 | J14: 10
A15: FH – Fatal Human, FA – Fatal Animal, NFH – Non-fatal Human | G15: =C14+D14+8+F14+G14 -> 23 | J15: =46+I14+J14 -> 141
A16: PVT - Private Premises Accident.

Sheet SoP 002
A1: Performa – SoP 002: Action taken report for safety measures complied for the accidents occurred
A5: 1 | B5: 2 | C5: =B5+1 -> 3 | D5: =C5+1 -> 4 | E5: 5 | F5: 6 | G5: =F5+1 -> 7 | H5: =G5+1 -> 8 | I5: =H5+1 -> 9 | J5: 10 | K5: =J5+1 -> 11 | L5: =K5+1 -> 12 | M5: =L5+1 -> 13 | N5: =M5+1 -> 14
A6: Sr. No | B6: Location of Accident and details of the victim | C6: Date of occurrence | D6: Type of Accident | E6: Cause of Accident | F6: Findings of CEI / EI / AEI | G6: Remedies suggested by CEI /EI / AEI in various cases | H6: Whether the remedy suggested is complied | I6: Action taken to avoid recurrence of such Accident | J6: Amount of compensation and date of compensation paid | K6: Circle office | L6: Division | M6: Sub-division | N6: Reason
A7: 1 | B7: Ramanbhai Chaganbhai Parmar,Opp. Smashan,Vill-Adlapur,Tal-Dabhoi,Dist-Vadodara | C7: 45567 | D7: FA | E7: Due to water logging near LT Pole fell down due to soil erosion with 4 Wi AG LT ABC Line.As a result the insulation of the LT ABC was damaged which may have caused the current to flow from the LT Line to land | F7: CEI report in this case is awaited | G7: NA | H7: NA | I7: One pole ercetED on long span and Ab cable stringing | K7: Baroda O & M | L7: Dabhoi O & M | M7: Dabhoi | N7: 1
A8: 2 | B8: Buffalow of Savitaben Bhanubhai Patel,Vill-Nandoli,Tal-Matar,Dist-Kheda | C8: 45573 | D8: FA | E8: On Dated 08.10.2024 around 3.00 PM Buffalo of Savitaben Bhanubhai Patel Passing near Talav and Dargah She got came in contact with Gi Wire Of LT Pole Near Dargah and accidentally she got electrocuted and died on the spot | F8: CEI report in this case is awaited | G8: NA | H8: NA | I8: LT Line Maintanance Carried Out | J8: 15000/-Dt-11.12.24 | K8: Nadiad | L8: Memdabad | M8: Limbasi | N8: 2
A9: 3 | B9: Meda Devabhai Nathabhai,Vala faliyu,Vill-Vadagam,Tal-Khanpur,Dist-Mahisagar | C9: 45577 | D9: FHO | E9: As per the eyewiness report,two nearby houses were without power due to an issue with a nearby lt pole. Instead of filling a complaint at mgvcl complain center, a nearby consumer contacted a private individual to perform repair work.the unauthorized person(victim) unauthorizely attempted to repair the service wire contacts without checking the power supply of the lt line and came into contact with the live lt line with his bare hand.this resulted in an electric shock and his death at site. | F9: CEI report in this case is awaited | H9: NA | I9: victim's relatives were Guided for not any operation himself on MGVCL Network . inform to lodge complaint at MGVCL compalint centre for rectification . | J9: NOT PAID | K9: Godhra | L9: Lunawada | M9: Bakor | N9: 6
A10: 4 | B10: Rathva Mukeshbhai Kuvarsinhbhai,Maruti Residency,Vill-Kanjari,Tal-Halol,Dist-Punchmahal | C10: 45578 | D10: FHO | E10: A Human Fatal accident occurred to Shri Mukeshbhai Kuvarsinhbhai Rathava at Maruti Residency, Kanjari Tal.: Halol Dist : Panchmahal. As per the primary report on 13-10-2024 at 14.15 P.M the victim was trying to construct hut residence for labour working for Maruti Residency vill. Kanjari Tal.: Halol. The victim climbed on the compound wall of Maruti Residency and raised iron rod TMT bar for the constuction of Hut residence for the Labour of Maruti residency, at that time iron rod TMT bar touch t | F10: CEI report in this case is awaited | G10: Na | H10: NA | I10: Instruction given to builder of maruti residency to Ffollow safty norms while working near 11 KV HT line and not to raise any conducting matrials near 11 KV HT line. | K10: Godhra | L10: Halol | M10: Halol T | N10: 2
A11: 5 | B11: Pratapsinh Abhsinh Bhabhor,Vill-Dahod,Tal-Dahod,Dist-Dahod | C11: 45580 | D11: NFHD-Mech | E11: Victim climb on tree from Railway wall and when he reache approx 13 feet height his hand released and his body unbalace and he fall down on ground.he had injured his back spine. | F11: CEI report in this case is awaited | G11: Na | H11: NA | I11: In saftey meetings, instructions are given to line staff to work patiently by following safety norms and using safety equipments. | K11: Godhra | L11: Dahod | M11: Dahod T | N11: 7
A12: 6 | B12: Vanitaben Rahulbhai Pargi,Vill-Vavdi,Tal-Fatepura,Dist-Dahod | C12: 45590 | D12: FHO-Pvt | E12: According to the preliminary investigation and witness statement, on 25.10.2024 around 7:00 PM, the victim took a bath in the open area next to the house in the western direction of his house. After that, the clothes were dried outside the house on an iron wire tied to wood on the roof. She must have been drying her clothes where she got electrocuted so she was rushed to a nearby government hospital where she was declared dead. | F12: CEI report in this case is awaited | G12: Na | H12: NA | I12: Pvt wire was disconnected. Also, guidelines provided to concerns for not using such iron wires for drying clothes. | K12: Godhra | L12: Dahod | M12: Fatepura | N12: 4
A13: 7 | B13: (1) Makwana Bhuneshwarbhai Laxmanbhai (2) Makwana Ashishbhai Laxmanbhai (3) Palas Ganpatbhai Narsingbhai,Vill-Bhandoi,Tal-Morvahadaf,Dist-Punchmahal | C13: 45592 | D13: FHO | E13: Fatal human (outsider) electrical accident occurred at methan-bhandoi road , bhandoi mandir faliya rcc road, on that road 11 kv bhandoi ag feeder is crosing. Pin insulator of top conductor of 11 kv bhandoi ag feeder is found punchured and hence that one conductor is found snapped and falled on the road. The victims are passing through by this road at midnight on one bike.they accidentally came in contact with the live conductor and might be leakage current flows through their bodies and got elec | F13: CEI report in this case is awaited | H13: NA | I13: 2 nos extention,guarding,pin replaced and d jumpuring work done | K13: Godhra | L13: Godhra | M13: Morva Hadaf | N13: 1
A14: 8 | B14: Shaktisinh Mohbbatsinh Sindha,Vill-Kalamsar,Tal-Khambhat,Dist-Anand | C14: 45592 | D14: FHO | E14: Shri Shaktisinh Mohbbatsinh Sindha Was Working As APP LM Under Undel Sdn Since 4 Months. Victim Has Taken Leave On Dated 27.10.24 To 28.10.24 Because Of His Grandfather Passed Away.On Dated 27.10.24 Victim's Friend Shri Jayendrasinh Dipsinh Sindha Residing At Kalamsar (Kanakpura) Call Him To Attain Power Fluctuation Complaints At His Home.So Victim Reached The Location And Tries To Solve The Complaint After Meter And Load Side But It Was Not Solved. So He Climbed The Pole To Check The Service Wi | F14: CEI report in this case is awaited | G14: CEI report awaited | H14: NA | I14: There is no any lacuna of mgvcl | K14: Anand | L14: Petlad | M14: Undel | N14: 6
A15: 9 | B15: Priteshbhai Fatabhai Rathod | C15: 45593 | D15: FA | E15: Due To Monkey Jumped On Open LT 2 Wire Line, LT Conductors Snapped And One Of Them Broken. At That Time Buffalo Grazing Near Line Accidently Came In Contact With Broken Live And Died On The Spot. | F15: CEI report in this case is awaited | G15: NA | H15: NA | I15: Lt arial bunched cable replaced by lt 2wire open line. | J15: 15000/-Dt-20.11.24 | K15: Nadiad | L15: Memdabad | M15: Memdabad | N15: 2
A16: 10 | B16: Sureshbhai Kanjibhai Chauhan,Vill-Varsola,Tal-Mehemdabad,Dist-Kheda | C16: 45594 | D16: NFHD | E16: During jumpering work suddenly felt shock and fall down. Actual cause of accidentrr is under investigation | F16: CEI report in this case is awaited | G16: NA | H16: NA | I16: Bypassed D.O. Fuses were taken in operation and discussed in safety meeting about root cause and precautions to prevent. | K16: Nadiad | L16: Memdabad | M16: Memdabad | N16: 8
A17: 11 | B17: Kanubhai Manganbhai Baraiya,Vill-Jitpura,Tal-Kathlal,Dist-Kheda | C17: 45594 | D17: FA | E17: On above Site She Buffalo was grazing At that time Leg Of Buffalo stuck At Stay Wire Of That Dodp Loaction And Due This Stay Wire Broken And This Broken Stay Wire Comes In Contact With One Of The Live Jumper Of That Dodp Loaction And Due To This Buffalo Got Electric Shock And Died On Spot | F17: CEI report in this case is awaited | G17: NA | H17: NA | I17: Stay removed | K17: Nadiad | L17: Memdabad | M17: Kathlal-1 | N17: 2
A18: 12 | B18: Mominrajja Riyaj Siddique,Vill-Manjusar,Tal-Vadodara,Dist-Vadodara | C18: 45594 | D18: FHO | E18: Hydraulic Trolly of Truck with having victim is came in contact with live feeder conductor | F18: CEI report in this case is awaited | G18: NA | H18: NA | I18: line clearance as per norms | K18: Baroda O&M | L18: Baroda O&M | M18: Manjusar | N18: 2
A19: 13 | B19: Nayaka Kuntiben Katubhai,Vill-Koraj,Tal-Chhotaudepur,Dist-Chhotaudepur | C19: 45600 | D19: FHO | E19: As per eye witness statement on dated 04.11.2024 04:30 pm Today, This afternoon, around 1:30 to 2:00 PM, laborers from Devaliya village had come for farm work on the property of Shri Kanubhai Mohanbhai Rathwa in Rojkuva village. The laborers were traveling in a tractor trolley loaded with grass for feeding animals. In the tractor, the driver was Shri Rathwa Vipinbhai Tersingbhai, Vipulbhai Mohanbhai Nayka, and Shri Kuntaben Katubhai Nayka, who where seated alongside in the tractor. While drivi | F19: CEI report in this case is awaited | G19: NA | H19: NA | I19: HT Line Maintanance Carried Out | K19: Baroda O & M | L19: Bodeli | M19: Tejgadh | N19: 8
A20: 14 | B20: Ajaysing Birjusing,Near Yogeswar Petrolpump,Vill-Dumad,Tal-Vadodara,Dist-Vadodara | C20: 45611 | D20: NFHO | E20: Ajaysing birjusing driver of truck no hr 37 f 7700 while parking his vehicleunder 11 kv vemali jgy fdr nr yogeshwar petrol pump near dumad chokadi top of the truck touched accidentally the side conductor of 11 kv line and all the tyres of truck blast and victim was electrocuted | F20: CEI report in this case is awaited | G20: NA | H20: NA | I20: 2 nos. Of new girdir pole erected under line | J20: N.A. - NON-FATAL HUMAN OUTSIDER | K20: Baroda O & M | L20: Baroda O & M | M20: Chhani | N20: 2
A21: 15 | B21: Owner of cow Mulajibhai Melabhai Rabari,Rabari Vas,Vill-Timba,Tal-Godhra,Dist-Panchmahal | C21: 45612 | D21: FA | E21: Due to snapping of steetlight conductor cow got electroculated and died on the spot | F21: CEI report in this case is awaited | G21: NA | H21: NA | I21: The snapped LT streetlight line was restringing properly. | K21: Godhra | L21: Godhra | M21: Timba | N21: 1
A22: 16 | B22: Harishbhai Bhadreshbhai Padhiyar,At Central Bus Stand,Vill-Vadodara,Tal-Vadodar,Dist-Vadodara | C22: 45615 | D22: NFHD(Mech) | E22: The victim was doing tree branches trimming work nr. Bel baug tc. While standing on a compound wall. The victim accidently lost his balance and fell on ground and hurt his leg. He was immediately taken to nearby orthopedic hospital where the doctor informed that the heel of his right leg is fractured & requires further treatement. | F22: CEI report in this case is awaited | G22: NA | H22: NA | I22: All line staff has been informed to carry out such kind of work with proper precaution | K22: Baroda City | L22: Vishwamitri W | M22: Alkapuri | N22: 7
A23: 17 | B23: Bharwad Hajanbhai Virambhai,Vill-Rinchol,Tal-Mehamdabad,Dist-Kheda | C23: 45624 | D23: FA | E23: As per the primary information recieved while two buffalo's grazing on the ground near rinchol chokadi canal road buffalos horns scrambles in broken guy wire of 11kv ab switch loc no.84/05 rinchol chokadi canal road and broken guy wire suddenly came in touch with live ab switch contact so two nos buffalo's was got electric shock and died on the spot at the place. | F23: CEI report in this case is awaited | G23: NA | H23: NA | I23: Guy wire cut and new guy installed at the accident place | K23: Nadiad | L23: Memdabad | M23: Haldarwas | N23: 2
A24: 18 | B24: Buffalo,Opp. Shivay Seren,Vill-Vermali,Tal-Vadodara,Dist-Vadodara | C24: 45632 | D24: FA | E24: Buffaloes were grazing buffaloes and taking to drink them water to asmall pond near lileriya,one of buffalo from them came in contact of girder pole of 11 KV d.p. ,got electrocuted and died at site. A low tension power was experienced on gider dp through stay wire which was in contact with nearby transformer's lt abc having deteriorated insulation at first location of nearby transformer. | F24: CEI report in this case is awaited | G24: NA | H24: NA | I24: 2 nos. Of new girdir pole erected under line | K24: Baroda O & M | L24: Baroda O & M | M24: Chhani | N24: 2
A25: 19 | B25: Shri Jayvilbhai Mukeshbhai Bhabhor,Varjangiya Faliya,Vill-Abhlod,Tal-Garbada,Dist-Dahod | C25: 45633 | D25: NFHO | E25: As per primary investigation information received from Villagers it has come to know that the victim was playing nearby 11kv Abhlod Ag electric pole. He saw a kite (patang) stuck on conductor of 11kv Abhlod Ag feeder location no ABL/AG/294/016.Victim was climbed on psc pole for getting stucked kite (patang) from live conductor. TT at time 11:52am has been recorded on 11kv Abhlod AG feeder at 66kv Vajelav substation. | F25: CEI report in this case is awaited | G25: NA | H25: NA | I25: Immediately the power supply of the feeder was made off by the line staffs. Also, the local people were made alert for not allowing the childrens to climb ht/lt line for getting kites. | K25: Godhra | L25: Dahod | M25: Garbada | N25: 2
A26: 20 | B26: Patel Dharmeshbhai Mohanbhai,Kodariya Faliya,Vill-Gollav,Tal-Godhra,Dist-Panchmahal | C26: 45643 | D26: FHO-Pvt | E26: As per primary investigation and eyewitness statment,the victim(dharmeshbhai) was doing some kind of work at meter room of his AG connection at the time his body part might have come in accident contact with faulty wiring of load side of the meter,due to which he got electric shock and was electrocuted. | F26: CEI report in this case is awaited | G26: NA | H26: NA | I26: As it was in private premises, guidelines were provided to victims relative to rectify open joints and to take care of it in future also. | K26: Godhra | L26: Dahod | M26: Devgadh Baria | N26: 6
A27: 21 | B27: Kirtankumar Natvarlal Patel,Vill-Leelaji Na Muvada,Tal-Kapadvanj,Dist-Kheda | C27: 45644 | D27: NFHD | E27: victim shri k.n.patel (EA) got the complain on mobile phone for not geetting power supply due to y phase jumper burnt of dodp of ishavarbhai naraji rathod.as per the complain victim went to acctident place for jumper work around 10:30 am.power supply of the main tapline is cut off by removal of drop out fuse of main tapline dodp..after that when the victim climb on the pole of dodp for jumper work suddnle he got the electrical shock on the right hand ,shoulder and fell down on the ground.he imm | F27: CEI report in this case is awaited | G27: NA | H27: NA | I27: All line staff has been informed to do the earthing while carry out HT/LT mainanance with proper precaution and follow safety norms | K27: Nadiad | L27: Memdabad | M27: Kapadwanj W | N27: 2
A28: 22 | B28: Dolatbhai Balasaheb Rathod,Alay Apartment,Alkapuri,At-Vadodara,Tal/dist-Vadodara | C28: 45649 | D28: NFHD | E28: On Dt. 23.11.2024 Sh. Dolatbhai Balasaheb Rathod (EA) along with Sh. Govindbhai Parmar (EA), were carrying out the work of meter disconnection at 302, Alay Apartment, Opp. 41-Nutan Bharat Soc., Alkapuri, Vadodara. While working with the wiring of the meter’s terminal block, the meter suddenly blasted/flashed and the victim Sh. Dolatbhai got burnt on his face & right forehand due to the heat of the blast/flash. | F28: CEI report in this case is awaited | G28: NA | H28: NA | I28: All line staff has been informed to carry out DC work and meter replacement work with proper precaution and follow safety norms | K28: Baroda City | L28: Vishvamitri W | M28: Alkapuri | N28: 8
A29: 23 | B29: Buffalow Of Rajeshbhai Pravinbhai Bhoi,Near kakanpur police station,Vill-Kakanpur,Tal-Godhra,Dist-Panchmahal | C29: 45652 | D29: FA | E29: while itching with lt pole , surrounded by water logging area, horn stuck to earthing wire of psc pole got electroculated and died on the spot | F29: CEI report in this case is awaited | G29: NA | H29: NA | I29: The damage LT ABC was replaced and wound with insulator properly. | K29: Godhra | L29: Godhra | M29: Timba | N29: 2

Sheet MG SoP 03
A1: SOP 3-00B - REGISTER FOR COMPILING THE COMPLAINTS - CLASSIFIFCATION WISE
A2: ='[25]MG COVER PAGE'!A2 -> Quarter of the year : Q-III (Oct-Nov-Dec-2024-25)
A3: Name of Office : MGVCL Corporate office
A4: Classification | B4: Nature of Complaints | C4: Pending complaints of previous qtr. | D4: Complaints received during the qtr. | E4: Total Complaints | F4: No. of Complaints redressed during the quarter. | I4: Balance Complaints to be redressed
F6: Within stipulated time. | G6: Beyond stipulated time. | H6: Total
B7: 1 | C7: 2 | D7: 3 | E7: 4=2+3 | F7: 5 | G7: 6 | H7: 7=5+6 | I7: 8=4-7
A8: A | B8: Interruption in power supply | C8: =SUM(C9:C13) -> 0 | D8: =SUM(D9:D13) -> 132452 | E8: =C8+D8 -> 132452 | F8: =SUM(F9:F13) -> 130242 | G8: =SUM(G9:G13) -> 2210 | H8: =F8+G8 -> 132452 | I8: =E8-H8 -> 0
A9: I | B9: Loose connections at meter, MCB or service line or from pole | C9: 0 | D9: =[25]ANC!D9+[25]BCC!D9+[25]BRD!D9+[25]GDC!D9+[25]NDC!D9 -> 63989 | E9: =C9+D9 -> 63989 | F9: =[25]ANC!F9+[25]BCC!F9+[25]BRD!F9+[25]GDC!F9+[25]NDC!F9 -> 63182 | G9: =[25]ANC!G9+[25]BCC!G9+[25]BRD!G9+[25]GDC!G9+[25]NDC!G9 -> 807 | H9: =F9+G9 -> 63989 | I9: =E9-H9 -> 0
A10: II | B10: Interruption due to line breakdown | C10: 0 | D10: =[25]ANC!D10+[25]BCC!D10+[25]BRD!D10+[25]GDC!D10+[25]NDC!D10 -> 34238 | E10: =C10+D10 -> 34238 | F10: =[25]ANC!F10+[25]BCC!F10+[25]BRD!F10+[25]GDC!F10+[25]NDC!F10 -> 33774 | G10: =[25]ANC!G10+[25]BCC!G10+[25]BRD!G10+[25]GDC!G10+[25]NDC!G10 -> 464 | H10: =F10+G10 -> 34238 | I10: =E10-H10 -> 0
A11: III | B11: No power complaint on account of blowing of HT/ DropOut (DO)/ LT fuse | C11: 0 | D11: =[25]ANC!D11+[25]BCC!D11+[25]BRD!D11+[25]GDC!D11+[25]NDC!D11 -> 21329 | E11: =C11+D11 -> 21329 | F11: =[25]ANC!F11+[25]BCC!F11+[25]BRD!F11+[25]GDC!F11+[25]NDC!F11 -> 20576 | G11: =[25]ANC!G11+[25]BCC!G11+[25]BRD!G11+[25]GDC!G11+[25]NDC!G11 -> 753 | H11: =F11+G11 -> 21329 | I11: =E11-H11 -> 0
A12: IV | B12: Interruption due to failure of transformer or distribution transformer MCB | C12: 0 | D12: =[25]ANC!D12+[25]BCC!D12+[25]BRD!D12+[25]GDC!D12+[25]NDC!D12 -> 3943 | E12: =C12+D12 -> 3943 | F12: =[25]ANC!F12+[25]BCC!F12+[25]BRD!F12+[25]GDC!F12+[25]NDC!F12 -> 3855 | G12: =[25]ANC!G12+[25]BCC!G12+[25]BRD!G12+[25]GDC!G12+[25]NDC!G12 -> 88 | H12: =F12+G12 -> 3943 | I12: =E12-H12 -> 0
A13: V | B13: Load shedding/ schedule outages | C13: 0 | D13: =[25]ANC!D13+[25]BCC!D13+[25]BRD!D13+[25]GDC!D13+[25]NDC!D13 -> 8953 | E13: =C13+D13 -> 8953 | F13: =[25]ANC!F13+[25]BCC!F13+[25]BRD!F13+[25]GDC!F13+[25]NDC!F13 -> 8855 | G13: =[25]ANC!G13+[25]BCC!G13+[25]BRD!G13+[25]GDC!G13+[25]NDC!G13 -> 98 | H13: =F13+G13 -> 8953 | I13: =E13-H13 -> 0
A14: B | B14: Quality of power supply | C14: =SUM(C15:C19) -> 0 | D14: =SUM(D15:D19) -> 10396 | E14: =C14+D14 -> 10396 | F14: =SUM(F15:F19) -> 10229 | G14: =SUM(G15:G19) -> 167 | H14: =F14+G14 -> 10396 | I14: =E14-H14 -> 0
A15: I | B15: Ordinary case, which requires no augmentation, | C15: 0 | D15: =[25]ANC!D15+[25]BCC!D15+[25]BRD!D15+[25]GDC!D15+[25]NDC!D15 -> 6345 | E15: =C15+D15 -> 6345 | F15: =[25]ANC!F15+[25]BCC!F15+[25]BRD!F15+[25]GDC!F15+[25]NDC!F15 -> 6321 | G15: =[25]ANC!G15+[25]BCC!G15+[25]BRD!G15+[25]GDC!G15+[25]NDC!G15 -> 24 | H15: =F15+G15 -> 6345 | I15: =E15-H15 -> 0
A16: II | B16: Where augmentation is required. | C16: 0 | D16: =[25]ANC!D16+[25]BCC!D16+[25]BRD!D16+[25]GDC!D16+[25]NDC!D16 -> 1884 | E16: =C16+D16 -> 1884 | F16: =[25]ANC!F16+[25]BCC!F16+[25]BRD!F16+[25]GDC!F16+[25]NDC!F16 -> 1818 | G16: =[25]ANC!G16+[25]BCC!G16+[25]BRD!G16+[25]GDC!G16+[25]NDC!G16 -> 66 | H16: =F16+G16 -> 1884 | I16: =E16-H16 -> 0
A17: III | B17: Harmonics related issue | C17: 0 | D17: =[25]ANC!D17+[25]BCC!D17+[25]BRD!D17+[25]GDC!D17+[25]NDC!D17 -> 41 | E17: =C17+D17 -> 41 | F17: =[25]ANC!F17+[25]BCC!F17+[25]BRD!F17+[25]GDC!F17+[25]NDC!F17 -> 39 | G17: =[25]ANC!G17+[25]BCC!G17+[25]BRD!G17+[25]GDC!G17+[25]NDC!G17 -> 2 | H17: =F17+G17 -> 41 | I17: =E17-H17 -> 0
A18: IV | B18: Neutral voltage related issue | C18: 0 | D18: =[25]ANC!D18+[25]BCC!D18+[25]BRD!D18+[25]GDC!D18+[25]NDC!D18 -> 551 | E18: =C18+D18 -> 551 | F18: =[25]ANC!F18+[25]BCC!F18+[25]BRD!F18+[25]GDC!F18+[25]NDC!F18 -> 539 | G18: =[25]ANC!G18+[25]BCC!G18+[25]BRD!G18+[25]GDC!G18+[25]NDC!G18 -> 12 | H18: =F18+G18 -> 551 | I18: =E18-H18 -> 0
A19: V | B19: Voltage variations related issue | C19: 0 | D19: =[25]ANC!D19+[25]BCC!D19+[25]BRD!D19+[25]GDC!D19+[25]NDC!D19 -> 1575 | E19: =C19+D19 -> 1575 | F19: =[25]ANC!F19+[25]BCC!F19+[25]BRD!F19+[25]GDC!F19+[25]NDC!F19 -> 1512 | G19: =[25]ANC!G19+[25]BCC!G19+[25]BRD!G19+[25]GDC!G19+[25]NDC!G19 -> 63 | H19: =F19+G19 -> 1575 | I19: =E19-H19 -> 0
A20: C | B20: Meters | C20: =SUM(C21:C26) -> 0 | D20: =SUM(D21:D26) -> 26752 | E20: =C20+D20 -> 26752 | F20: =SUM(F21:F26) -> 26203 | G20: =SUM(G21:G26) -> 549 | H20: =F20+G20 -> 26752 | I20: =E20-H20 -> 0
A21: I | B21: Stopped/Defective Meters. | C21: 0 | D21: =[25]ANC!D21+[25]BCC!D21+[25]BRD!D21+[25]GDC!D21+[25]NDC!D21 -> 14939 | E21: =C21+D21 -> 14939 | F21: =[25]ANC!F21+[25]BCC!F21+[25]BRD!F21+[25]GDC!F21+[25]NDC!F21 -> 14469 | G21: =[25]ANC!G21+[25]BCC!G21+[25]BRD!G21+[25]GDC!G21+[25]NDC!G21 -> 470 | H21: =F21+G21 -> 14939 | I21: =E21-H21 -> 0
A22: II | B22: Meter accuracy test (Fast/ Slow | C22: 0 | D22: =[25]ANC!D22+[25]BCC!D22+[25]BRD!D22+[25]GDC!D22+[25]NDC!D22 -> 1385 | E22: =C22+D22 -> 1385 | F22: =[25]ANC!F22+[25]BCC!F22+[25]BRD!F22+[25]GDC!F22+[25]NDC!F22 -> 1373 | G22: =[25]ANC!G22+[25]BCC!G22+[25]BRD!G22+[25]GDC!G22+[25]NDC!G22 -> 12 | H22: =F22+G22 -> 1385 | I22: =E22-H22 -> 0
A23: III | B23: Burnt Meter | C23: 0 | D23: =[25]ANC!D23+[25]BCC!D23+[25]BRD!D23+[25]GDC!D23+[25]NDC!D23 -> 981 | E23: =C23+D23 -> 981 | F23: =[25]ANC!F23+[25]BCC!F23+[25]BRD!F23+[25]GDC!F23+[25]NDC!F23 -> 946 | G23: =[25]ANC!G23+[25]BCC!G23+[25]BRD!G23+[25]GDC!G23+[25]NDC!G23 -> 35 | H23: =F23+G23 -> 981 | I23: =E23-H23 -> 0
A24: IV | B24: Stolen Meter | C24: 0 | D24: =[25]ANC!D24+[25]BCC!D24+[25]BRD!D24+[25]GDC!D24+[25]NDC!D24 -> 5 | E24: =C24+D24 -> 5 | F24: =[25]ANC!F24+[25]BCC!F24+[25]BRD!F24+[25]GDC!F24+[25]NDC!F24 -> 4 | G24: =[25]ANC!G24+[25]BCC!G24+[25]BRD!G24+[25]GDC!G24+[25]NDC!G24 -> 1 | H24: =F24+G24 -> 5 | I24: =E24-H24 -> 0
A25: V | B25: Billing on average basis for more than two hills | C25: 0 | D25: =[25]ANC!D25+[25]BCC!D25+[25]BRD!D25+[25]GDC!D25+[25]NDC!D25 -> 4141 | E25: =C25+D25 -> 4141 | F25: =[25]ANC!F25+[25]BCC!F25+[25]BRD!F25+[25]GDC!F25+[25]NDC!F25 -> 4128 | G25: =[25]ANC!G25+[25]BCC!G25+[25]BRD!G25+[25]GDC!G25+[25]NDC!G25 -> 13 | H25: =F25+G25 -> 4141 | I25: =E25-H25 -> 0
A26: VI | B26: Meter boxes/ metering system | C26: 0 | D26: =[25]ANC!D26+[25]BCC!D26+[25]BRD!D26+[25]GDC!D26+[25]NDC!D26 -> 5301 | E26: =C26+D26 -> 5301 | F26: =[25]ANC!F26+[25]BCC!F26+[25]BRD!F26+[25]GDC!F26+[25]NDC!F26 -> 5283 | G26: =[25]ANC!G26+[25]BCC!G26+[25]BRD!G26+[25]GDC!G26+[25]NDC!G26 -> 18 | H26: =F26+G26 -> 5301 | I26: =E26-H26 -> 0
A27: D | B27: Overhead lines | C27: =SUM(C28:C29) -> 0 | D27: =SUM(D28:D29) -> 5654 | E27: =C27+D27 -> 5654 | F27: =SUM(F28:F29) -> 5495 | G27: =SUM(G28:G29) -> 159 | H27: =F27+G27 -> 5654 | I27: =E27-H27 -> 0
A28: I | B28: Loose Wires | C28: 0 | D28: =[25]ANC!D28+[25]BCC!D28+[25]BRD!D28+[25]GDC!D28+[25]NDC!D28 -> 4471 | E28: =C28+D28 -> 4471 | F28: =[25]ANC!F28+[25]BCC!F28+[25]BRD!F28+[25]GDC!F28+[25]NDC!F28 -> 4316 | G28: =[25]ANC!G28+[25]BCC!G28+[25]BRD!G28+[25]GDC!G28+[25]NDC!G28 -> 155 | H28: =F28+G28 -> 4471 | I28: =E28-H28 -> 0
A29: II | B29: Inadequate ground clearance | C29: 0 | D29: =[25]ANC!D29+[25]BCC!D29+[25]BRD!D29+[25]GDC!D29+[25]NDC!D29 -> 1183 | E29: =C29+D29 -> 1183 | F29: =[25]ANC!F29+[25]BCC!F29+[25]BRD!F29+[25]GDC!F29+[25]NDC!F29 -> 1179 | G29: =[25]ANC!G29+[25]BCC!G29+[25]BRD!G29+[25]GDC!G29+[25]NDC!G29 -> 4 | H29: =F29+G29 -> 1183 | I29: =E29-H29 -> 0
A30: E | B30: Bills | C30: =SUM(C31:C34) -> 0 | D30: =SUM(D31:D34) -> 15370 | E30: =C30+D30 -> 15370 | F30: =SUM(F31:F34) -> 15250 | G30: =SUM(G31:G34) -> 120 | H30: =F30+G30 -> 15370 | I30: =E30-H30 -> 0
A31: I | B31: For current bills where no additional information is required | C31: 0 | D31: =[25]ANC!D31+[25]BCC!D31+[25]BRD!D31+[25]GDC!D31+[25]NDC!D31 -> 10481 | E31: =C31+D31 -> 10481 | F31: =[25]ANC!F31+[25]BCC!F31+[25]BRD!F31+[25]GDC!F31+[25]NDC!F31 -> 10400 | G31: =[25]ANC!G31+[25]BCC!G31+[25]BRD!G31+[25]GDC!G31+[25]NDC!G31 -> 81 | H31: =F31+G31 -> 10481 | I31: =E31-H31 -> 0
A32: II | B32: Where additional information relating to correctness of reading etc. is required, | C32: 0 | D32: =[25]ANC!D32+[25]BCC!D32+[25]BRD!D32+[25]GDC!D32+[25]NDC!D32 -> 4319 | E32: =C32+D32 -> 4319 | F32: =[25]ANC!F32+[25]BCC!F32+[25]BRD!F32+[25]GDC!F32+[25]NDC!F32 -> 4293 | G32: =[25]ANC!G32+[25]BCC!G32+[25]BRD!G32+[25]GDC!G32+[25]NDC!G32 -> 26 | H32: =F32+G32 -> 4319 | I32: =E32-H32 -> 0
A33: III | B33: Final bill for vacation of premises/ change of occupancy | C33: 0 | D33: =[25]ANC!D33+[25]BCC!D33+[25]BRD!D33+[25]GDC!D33+[25]NDC!D33 -> 272 | E33: =C33+D33 -> 272 | F33: =[25]ANC!F33+[25]BCC!F33+[25]BRD!F33+[25]GDC!F33+[25]NDC!F33 -> 260 | G33: =[25]ANC!G33+[25]BCC!G33+[25]BRD!G33+[25]GDC!G33+[25]NDC!G33 -> 12 | H33: =F33+G33 -> 272 | I33: =E33-H33 -> 0
A34: IV | B34: Change of Tariff | C34: 0 | D34: =[25]ANC!D34+[25]BCC!D34+[25]BRD!D34+[25]GDC!D34+[25]NDC!D34 -> 298 | E34: =C34+D34 -> 298 | F34: =[25]ANC!F34+[25]BCC!F34+[25]BRD!F34+[25]GDC!F34+[25]NDC!F34 -> 297 | G34: =[25]ANC!G34+[25]BCC!G34+[25]BRD!G34+[25]GDC!G34+[25]NDC!G34 -> 1 | H34: =F34+G34 -> 298 | I34: =E34-H34 -> 0
A35: F | B35: Service connections | C35: =SUM(C36:C44) -> 0 | D35: =SUM(D36:D44) -> 12681 | E35: =C35+D35 -> 12681 | F35: =SUM(F36:F44) -> 12542 | G35: =SUM(G36:G44) -> 139 | H35: =F35+G35 -> 12681 | I35: =E35-H35 -> 0
A36: I | B36: Where extension of LT line up to 150 Metre is required | C36: 0 | D36: =[25]ANC!D36+[25]BCC!D36+[25]BRD!D36+[25]GDC!D36+[25]NDC!D36 -> 3437 | E36: =C36+D36 -> 3437 | F36: =[25]ANC!F36+[25]BCC!F36+[25]BRD!F36+[25]GDC!F36+[25]NDC!F36 -> 3383 | G36: =[25]ANC!G36+[25]BCC!G36+[25]BRD!G36+[25]GDC!G36+[25]NDC!G36 -> 54 | H36: =F36+G36 -> 3437 | I36: =E36-H36 -> 0
A37: II | B37: Where extension of LT line of more than 150 Metre and/or augmentation of distribution transformer is required | C37: 0 | D37: =[25]ANC!D37+[25]BCC!D37+[25]BRD!D37+[25]GDC!D37+[25]NDC!D37 -> 1229 | E37: =C37+D37 -> 1229 | F37: =[25]ANC!F37+[25]BCC!F37+[25]BRD!F37+[25]GDC!F37+[25]NDC!F37 -> 1228 | G37: =[25]ANC!G37+[25]BCC!G37+[25]BRD!G37+[25]GDC!G37+[25]NDC!G37 -> 1 | H37: =F37+G37 -> 1229 | I37: =E37-H37 -> 0
A38: III | B38: Where erection of new distribution transformer is required | C38: 0 | D38: =[25]ANC!D38+[25]BCC!D38+[25]BRD!D38+[25]GDC!D38+[25]NDC!D38 -> 1128 | E38: =C38+D38 -> 1128 | F38: =[25]ANC!F38+[25]BCC!F38+[25]BRD!F38+[25]GDC!F38+[25]NDC!F38 -> 1113 | G38: =[25]ANC!G38+[25]BCC!G38+[25]BRD!G38+[25]GDC!G38+[25]NDC!G38 -> 15 | H38: =F38+G38 -> 1128 | I38: =E38-H38 -> 0
A39: IV | B39: Where erection of new HT line and distribution transformer is required and/ or existing HT line network is required to be augmented. | C39: 0 | D39: =[25]ANC!D39+[25]BCC!D39+[25]BRD!D39+[25]GDC!D39+[25]NDC!D39 -> 2299 | E39: =C39+D39 -> 2299 | F39: =[25]ANC!F39+[25]BCC!F39+[25]BRD!F39+[25]GDC!F39+[25]NDC!F39 -> 2299 | G39: =[25]ANC!G39+[25]BCC!G39+[25]BRD!G39+[25]GDC!G39+[25]NDC!G39 -> 0 | H39: =F39+G39 -> 2299 | I39: =E39-H39 -> 0
A40: V | B40: Where EHT level line and/ or Sub-station is required to be erected and/ or augmented | C40: 0 | D40: =[25]ANC!D40+[25]BCC!D40+[25]BRD!D40+[25]GDC!D40+[25]NDC!D40 -> 0 | E40: =C40+D40 -> 0 | F40: =[25]ANC!F40+[25]BCC!F40+[25]BRD!F40+[25]GDC!F40+[25]NDC!F40 -> 0 | G40: =[25]ANC!G40+[25]BCC!G40+[25]BRD!G40+[25]GDC!G40+[25]NDC!G40 -> 0 | H40: =F40+G40 -> 0 | I40: =E40-H40 -> 0
A41: VI | B41: Modification in connected load | C41: 0 | D41: =[25]ANC!D41+[25]BCC!D41+[25]BRD!D41+[25]GDC!D41+[25]NDC!D41 -> 1880 | E41: =C41+D41 -> 1880 | F41: =[25]ANC!F41+[25]BCC!F41+[25]BRD!F41+[25]GDC!F41+[25]NDC!F41 -> 1829 | G41: =[25]ANC!G41+[25]BCC!G41+[25]BRD!G41+[25]GDC!G41+[25]NDC!G41 -> 51 | H41: =F41+G41 -> 1880 | I41: =E41-H41 -> 0
A42: VII | B42: Name change/reconnection/ change of category | C42: 0 | D42: =[25]ANC!D42+[25]BCC!D42+[25]BRD!D42+[25]GDC!D42+[25]NDC!D42 -> 2559 | E42: =C42+D42 -> 2559 | F42: =[25]ANC!F42+[25]BCC!F42+[25]BRD!F42+[25]GDC!F42+[25]NDC!F42 -> 2541 | G42: =[25]ANC!G42+[25]BCC!G42+[25]BRD!G42+[25]GDC!G42+[25]NDC!G42 -> 18 | H42: =F42+G42 -> 2559 | I42: =E42-H42 -> 0
A43: VIII | B43: In case connection is denied after payment against demand note | C43: 0 | D43: =[25]ANC!D43+[25]BCC!D43+[25]BRD!D43+[25]GDC!D43+[25]NDC!D43 -> 39 | E43: =C43+D43 -> 39 | F43: =[25]ANC!F43+[25]BCC!F43+[25]BRD!F43+[25]GDC!F43+[25]NDC!F43 -> 39 | G43: =[25]ANC!G43+[25]BCC!G43+[25]BRD!G43+[25]GDC!G43+[25]NDC!G43 -> 0 | H43: =F43+G43 -> 39 | I43: =E43-H43 -> 0
A44: IX | B44: Transfer of connection | C44: 0 | D44: =[25]ANC!D44+[25]BCC!D44+[25]BRD!D44+[25]GDC!D44+[25]NDC!D44 -> 110 | E44: =C44+D44 -> 110 | F44: =[25]ANC!F44+[25]BCC!F44+[25]BRD!F44+[25]GDC!F44+[25]NDC!F44 -> 110 | G44: =[25]ANC!G44+[25]BCC!G44+[25]BRD!G44+[25]GDC!G44+[25]NDC!G44 -> 0 | H44: =F44+G44 -> 110 | I44: =E44-H44 -> 0
A45: G | B45: Request for reconnection/ consumer wanting disconnection | C45: 0 | D45: =[25]ANC!D45+[25]BCC!D45+[25]BRD!D45+[25]GDC!D45+[25]NDC!D45 -> 1759 | E45: =C45+D45 -> 1759 | F45: =[25]ANC!F45+[25]BCC!F45+[25]BRD!F45+[25]GDC!F45+[25]NDC!F45 -> 1736 | G45: =[25]ANC!G45+[25]BCC!G45+[25]BRD!G45+[25]GDC!G45+[25]NDC!G45 -> 23 | H45: =F45+G45 -> 1759 | I45: =E45-H45 -> 0
A46: H | B46: Refund of amount due in regard to temporary connection | C46: 0 | D46: =[25]ANC!D46+[25]BCC!D46+[25]BRD!D46+[25]GDC!D46+[25]NDC!D46 -> 700 | E46: =C46+D46 -> 700 | F46: =[25]ANC!F46+[25]BCC!F46+[25]BRD!F46+[25]GDC!F46+[25]NDC!F46 -> 699 | G46: =[25]ANC!G46+[25]BCC!G46+[25]BRD!G46+[25]GDC!G46+[25]NDC!G46 -> 1 | H46: =F46+G46 -> 700 | I46: =E46-H46 -> 0
A47: I | B47: Street Light complaint | C47: 0 | D47: =[25]ANC!D47+[25]BCC!D47+[25]BRD!D47+[25]GDC!D47+[25]NDC!D47 -> 438 | E47: =C47+D47 -> 438 | F47: =[25]ANC!F47+[25]BCC!F47+[25]BRD!F47+[25]GDC!F47+[25]NDC!F47 -> 434 | G47: =[25]ANC!G47+[25]BCC!G47+[25]BRD!G47+[25]GDC!G47+[25]NDC!G47 -> 4 | H47: =F47+G47 -> 438 | I47: =E47-H47 -> 0
A48: J | B48: Others | C48: 0 | D48: =[25]ANC!D48+[25]BCC!D48+[25]BRD!D48+[25]GDC!D48+[25]NDC!D48 -> 21280 | E48: =C48+D48 -> 21280 | F48: =[25]ANC!F48+[25]BCC!F48+[25]BRD!F48+[25]GDC!F48+[25]NDC!F48 -> 21276 | G48: =[25]ANC!G48+[25]BCC!G48+[25]BRD!G48+[25]GDC!G48+[25]NDC!G48 -> 4 | H48: =F48+G48 -> 21280 | I48: =E48-H48 -> 0
A49: TOTAL | C49: =SUM(C48,C47,C46,C45,C35,C30,C27,C20,C14,C8) -> 0 | D49: =SUM(D48,D47,D46,D45,D35,D30,D27,D20,D14,D8) -> 227482 | E49: =SUM(E48,E47,E46,E45,E35,E30,E27,E20,E14,E8) -> 227482 | F49: =SUM(F48,F47,F46,F45,F35,F30,F27,F20,F14,F8) -> 224106 | G49: =SUM(G48,G47,G46,G45,G35,G30,G27,G20,G14,G8) -> 3376 | H49: =F49+G49 -> 227482 | I49: =E49-H49 -> 0
A50: The format is to be sent quarterly The quarterly reporting of the year means reporting for the period 1st Quarter as Apr-Jun, 2nd Quarter as Jul-Sep, 3rd Quarter as Oct – Dec and 4th Quarter as Jan - Mar of the financial Year. For any other complaints not mentioned in the classification, the sequence for J can be used.

Sheet MG SoP 04
A1: ='[25]MG COVER PAGE'!A1 -> Name of Distribution Licensee: M G V C L
A2: ='[25]MG SoP 03B '!A2:I2 -> Quarter of the year : Q-III (Oct-Nov-Dec-2024-25)
A3: ='[25]MG COVER PAGE'!A3 -> Year: 2024-25
A4: Performa SoP 004 : Publicity carried out while displaying the contact details of consumer complaints centers.
A5: Particulars should also cover the details of publication of “Manual of Practice for Handling Complaint/ Consumer Charter/ Complaint Charter”, consumer awareness program conducted, advertisement done through various media like TV, newspaper, radio, pamphlets & booklet distributions, Displays etc. The development of website and any medium through which public education is carried out can be included.
A7: Sr. No. (1) | B7: Actions or steps carried out by distribution licensee towards public awareness in the quarter (2) | C7: Likely number of consumers influenced (3) | D7: Details about Media (4)
D8: the Media
A9: 1 | B9: RTI Officers Name is displayed at customer care centre on each office | C9: 3631424 | D9: -
A10: 2 | B10: Necessary information regarding time schedule for new connection and solving complaints is display on the board. | C10: 3631424 | D10: -
A11: 3 | B11: Contact nos. of various officers of the company for emergency contact is also displayed at customer care centre. | C11: 3631424 | D11: Website/ News paper
A12: 4 | B12: Safety Meeting with Line Staff at various S/dn,Divisions on Every Monday (Line staff influenced) | C12: 27519 | D12: Meeting/ line staff infulenced
A13: The format is to be sent quarterly. The column 2 shall depict any steps taken by licensee in direction of consumer awareness and educating the consumer through conducting of seminars, meetings, distribution of pamphlets, through guidelines placed on website, formulating team that visit rural area educating consumers on billing, safety measures and procedures for grievance redressal, etc. The quarterly reporting of the year means reporting for the period 1st Quarter as Apr – Jun, 2nd Quarter as Jul – Sep, 3rd Quarter as Oct – Dec and 4th Quarter as Jan – Mar of the financial year.

Sheet MG SoP - 05 
A1: Name of Distribution Licensee: M G V C L
A2: Financial Year: 2024-25
A3: Quarter : Q-III (Oct to Dec-2024)
A4: Performa SoP 005: Failure of Distribution Transformer
A5: Sr. No. | B5: Name of Circle | C5: Nos. of existing Distribution Transformers at the start of the quarter | D5: Nos. of Distribution Transformers added during the quarter | E5: Total number of Distribution Transformers on end of quarter | F5: Total number of Distribution transformer failed during quarter | G5: % failure rate of Distribution transformer
C6: A | D6: B | E6: C=A+B | F6: D | G6: H = (D)*100/C
A7: 1 | B7: Baroda O&M | C7: 59521 | D7: =E7-C7 -> 2172 | E7: 61693 | F7: ='[26]SDn Data'!$BW150+'[26]SDn Data'!$BX150+'[26]SDn Data'!$BY150 -> 1375 | G7: =F7*100/E7 -> 2.228778
A8: 2 | B8: Baroda City | C8: 10909 | D8: =E8-C8 -> 238 | E8: 11147 | F8: ='[26]SDn Data'!$BW151+'[26]SDn Data'!$BX151+'[26]SDn Data'!$BY151 -> 24 | G8: =F8*100/E8 -> 0.21530457
A9: 3 | B9: Anand | C9: 27850 | D9: =E9-C9 -> 587 | E9: 28437 | F9: ='[26]SDn Data'!$BW152+'[26]SDn Data'!$BX152+'[26]SDn Data'!$BY152 -> 258 | G9: =F9*100/E9 -> 0.9072687
A10: 4 | B10: Nadiad | C10: 36134 | D10: =E10-C10 -> 793 | E10: 36927 | F10: ='[26]SDn Data'!$BW153+'[26]SDn Data'!$BX153+'[26]SDn Data'!$BY153 -> 384 | G10: =F10*100/E10 -> 1.0398895
A11: 5 | B11: Godhra | C11: 63855 | D11: =E11-C11 -> 1518 | E11: 65373 | F11: ='[26]SDn Data'!$BW154+'[26]SDn Data'!$BX154+'[26]SDn Data'!$BY154 -> 1307 | G11: =F11*100/E11 -> 1.9992963
B12: MGVCL | C12: =SUM(C7:C11) -> 198269 | D12: =SUM(D7:D11) -> 5308 | E12: 203577 | F12: =SUM(F7:F11) -> 3348 | G12: =F12/E12*100 -> 1.6445866

Sheet SoP007
A1: ='[27]MG COVER PAGE'!A1 -> Name of Distribution Licensee: M G V C L
A2: ='[27]MG COVER PAGE'!A2 -> Quarter : Q-III (Oct-Nov-Dec-2024)
A3: ='[27]MG COVER PAGE'!A3 -> Year: 2024-25
A4: Performa SoP 007: Sample Test result for Neutral Voltage
A6: Compliance Sample Test Report for Neutral Voltage
A7: -1 | B7: -2 | C7: -3 | D7: -4 | E7: -5 | F7: -6
A8: Sr. No | B8: Category of consumers | C8: Sample Size | D8: Standard specified in regulation | E8: Deviation of results from the sample test (Numbers) | F8: % age compliance
C9: (Numbers) | F9: (6) = (5)*100/(3)
B10: LT consumers | C10: =SUM(C11:C15) -> 1441 | D10: 2% | E10: =SUM(E11:E15) -> 0 | F10: =E10*100/C10 -> 0
A11: 1 | B11: Domestic | C11: 1023 | D11: 2% | E11: 0 | F11: =E11*100/C11 -> 0
A12: 2 | B12: Commercial | C12: 242 | D12: 2% | E12: 0 | F12: =E12*100/C12 -> 0
A13: 3 | B13: Industrial | C13: 23 | D13: 2% | E13: 0 | F13: =E13*100/C13 -> 0
A14: 4 | B14: Agricultural | C14: 143 | D14: 2% | E14: 0 | F14: 0
A15: 5 | B15: Public water works | C15: 10 | D15: 2% | E15: 0 | F15: 0
B16: HT consumers | D16: 2%
A17: 6 | B17: HT industrial | C17: 5 | D17: 2% | E17: 0 | F17: =E17*100/C17 -> 0

Sheet SoP008
A1: ='[27]MG COVER PAGE'!A1 -> Name of Distribution Licensee: M G V C L
A2: ='[27]MG COVER PAGE'!A2 -> Quarter : Q-III (Oct-Nov-Dec-2024)
A3: ='[27]MG COVER PAGE'!A3 -> Year: 2024-25
A4: Performa SoP 008: Sample Test result for Voltage variations
A5: Compliance Sample Test Report for voltage variations
A6: -1 | B6: -2 | C6: -3 | D6: -4 | E6: -5
A7: Voltage Level | B7: Sample Size (numbers) | C7: Limit or prescribed standard | D7: Deviation of results from the sample test (Numbers) | E7: % age compliance
E8: (5) = (4)*100/(2)
A9: Low Voltage | B9: 56 | C9: +6% to -6% | D9: 0 | E9: =D9*100/B9 -> 0
A10: High Voltage | B10: 24 | C10: +6% to -9% | D10: 0 | E10: 0
A11: Extra High Voltage | B11: 1 | C11: +10% to -12.50% | D11: 0 | E11: 0

Sheet SoP009
A1: ='[27]MG COVER PAGE'!A1 -> Name of Distribution Licensee: M G V C L
A2: ='[27]MG COVER PAGE'!A2 -> Quarter : Q-III (Oct-Nov-Dec-2024)
A3: ='[27]MG COVER PAGE'!A3 -> Year: 2024-25
A4: Performa SoP 009: Sample Test result for Harmonics
A5: Compliance Sample Test Report for Harmonics
A6: -1 | B6: -2 | C6: -3 | D6: -4 | E6: -5 | F6: -6
A7: Sr. No | B7: Category of consumers | C7: Sample size (Numbers) | D7: Limit or standard prescribed | E7: Deviation of results from the sample test (Numbers) | F7: %age compliance
F8: (6) = (5)*100/(3)
A9: 1 | B9: LT consumers | C9: 33 | D9: 0.035 | E9: 0 | F9: =E9*100/C9 -> 0
A10: 2 | B10: HT consumers | C10: 4 | D10: 0.03 | E10: 0 | F10: 0
A11: 3 | B11: EHT consumers | C11: 1 | D11: 0.03 | E11: 0 | F11: 0
A13: Note: The licensee shall also submit along with the above harmonic data, the records of customer wise drawls of harmonic currents measured at various strategic points.
A15: The formats SoP 008, SoP 009 and SoP 010 have to be sent annually.
A16: For the purpose of annual submissions, the year end has to be considered as the end of December month of a particular year.

Sheet SOP 10
A1: Q-3 (Oct-Dec-24)
A2: Year: 2024-25
A3: SoP 010 – A System Average Interruption Frequency Index (SAIFI)
A4: Sr. No | B4: Month | C4: Number of Sustained Interruptions during the Reporting Period = Ai | D4: Number of Interrupted Customers for Sustained Interruption events during the Reporting Period = Ni | E4: Total number of Customers Served for the Areas = Nt | F4: Total Number of Interrupted Customers for Sustained Interruption events during the Reporting Period = Σ (Ai x Ni) | G4: SAIFI = Σ (Ai x Ni) /Nt
A5: 1 | B5: 2 | C5: 3 | D5: 4 | E5: 5 | F5: 6 = Σ (3 x 4) | G5: 7 = 6 / 5
A6: 1 | B6: =[28]Saifi!B8 -> 45566 | C6: =[28]Saifi!C8 -> 31355 | D6: =[28]Saifi!D8 -> 3342681 | E6: =[28]Saifi!E8 -> 3621399 | F6: =[28]Saifi!F8 -> 36070735 | G6: =[28]Saifi!G8 -> 9.96
A7: 2 | B7: =[28]Saifi!B9 -> 45597 | C7: =[28]Saifi!C9 -> 25156 | D7: =[28]Saifi!D9 -> 3280350 | E7: =[28]Saifi!E9 -> 3624033 | F7: =[28]Saifi!F9 -> 28386447 | G7: =[28]Saifi!G9 -> 7.83
A8: 3 | B8: =[28]Saifi!B10 -> 45627 | C8: =[28]Saifi!C10 -> 23709 | D8: =[28]Saifi!D10 -> 3288295 | E8: =[28]Saifi!E10 -> 3631424 | F8: =[28]Saifi!F10 -> 29004689 | G8: =[28]Saifi!G10 -> 7.99
C9: =SUM(C6:C8) -> 80220 | D9: =SUM(D6:D8) -> 9911326 | E9: =SUM(E6:E8) -> 10876856 | F9: =SUM(F6:F8) -> 93461871 | G9: =F9/E9 -> 8.5927285

Sheet SOP 11
A1: ='SOP 10'!A1 -> Q-3 (Oct-Dec-24)
A2: ='SOP 10'!A2 -> Year: 2024-25
A3: SoP 011 – System Average Interruption Duration Index (SAIDI)
A4: Sr. No | B4: Month | C4: Number of Sustained Interruptions during the Reporting Period = Ai (Nos) | D4: Total Outage Duration (Hr : Min) | E4: Restoration time for each Interruption Event = Ri (Hr : Min) | F4: Number of Interrupted Customers for Sustained Interruption events during the Reporting Period = Ni (Nos) | G4: Total Customer Interruption Duration = Ri x Ni (Hr : Min) | H4: Total Number of Customers Served for the Areas = Nt (Nos) | I4: Cumulative Customer Interruptions Duration = Σ(Ri x Ni) (Hr : Min) | J4: SAIDI = Σ (Ri x Ni) / Nt (Hr : Min)
A5: 1 | B5: 2 | C5: 3 | D5: 4 | E5: 5 = 4 / 3 | F5: 6 | G5: 7 = 5 x 6 | H5: 8 | I5: 9 = Σ (5 x 6) | J5: 10 = 9 /8
A6: 1 | B6: =[28]Saidi!B8 -> 45566 | C6: =[28]Saidi!C8 -> 31355 | D6: =[28]Saidi!D8 -> 16867:07 | E6: =[28]Saidi!E8 -> 0.022222222 | F6: =[28]Saidi!F8 -> 3342681 | G6: =E6*F6 -> 74281.8 | H6: =[28]Saidi!H8 -> 3621399 | I6: =[28]Saidi!I8 -> 1691600:14 | J6: =[28]Saidi!K8 -> 0.019444444
A7: 2 | B7: =[28]Saidi!B9 -> 45597 | C7: =[28]Saidi!C9 -> 25156 | D7: =[28]Saidi!D9 -> 13189:15 | E7: =[28]Saidi!E9 -> 0.021527778 | F7: =[28]Saidi!F9 -> 3280350 | G7: =E7*F7 -> 70618.646 | H7: =[28]Saidi!H9 -> 3624033 | I7: =[28]Saidi!I9 -> 1368143:47 | J7: =[28]Saidi!K9 -> 0.015972222
A8: 3 | B8: =[28]Saidi!B10 -> 45627 | C8: =[28]Saidi!C10 -> 23709 | D8: =[28]Saidi!D10 -> 15270:27 | E8: =[28]Saidi!E10 -> 0.027083333 | F8: =[28]Saidi!F10 -> 3288295 | G8: =E8*F8 -> 89057.99 | H8: =[28]Saidi!H10 -> 3631424 | I8: =[28]Saidi!I10 -> 1657757:45 | J8: =[28]Saidi!K10 -> 0.01875
C9: =SUM(C6:C8) -> 80220 | D9: 45326:49 | E9: 0.070833333 | F9: =SUM(F6:F8) -> 9911326 | G9: 5615002:27 | H9: =SUM(H6:H8) -> 10876856 | I9: 4717501:46 | J9: =AVERAGE(J6:J8) -> 0.018055556

Sheet SOP 12
A1: ='SOP 10'!A1 -> Q-3 (Oct-Dec-24)
A2: ='SOP 11'!A2 -> Year: 2024-25
A3: SoP 012 – : Momentary Average Interruption Frequency Index (MAIFI)
A4: Sr. No | B4: Month | C4: Total Number of Momentary interruptions = Imi | D4: Total Number of Consumers affected due to Momentary Interruption Events during the Reporting Period = Nmi | E4: Number of Customer Momentary Interruptions = IMi * Nmi | F4: Total Number of Customers Served for the Areas = Nt | G4: Cumulative Momentary Customer Interruptions = Σ (Imi x Nmi) | H4: MAIFI = Σ (IMi x Nmi)/ Nt
A5: 1 | B5: 2 | C5: 3 | D5: 4 | E5: 5=3*4 | F5: 6 | G5: 7 = Σ (3 x 4) | H5: 8=7/6
A6: 1 | B6: =[28]Maifi!B8 -> 45566 | C6: =[28]Maifi!C8 -> 58810 | D6: =[28]Maifi!D8 -> 3118810 | E6: =[28]Maifi!E8 -> 183417216100 | F6: =[28]Maifi!F8 -> 3621399 | G6: =[28]Maifi!G8 -> 79642134 | H6: =[28]Maifi!H8 -> 21.99
A7: 2 | B7: =[28]Maifi!B9 -> 45597 | C7: =[28]Maifi!C9 -> 54718 | D7: =[28]Maifi!D9 -> 3067272 | E7: =[28]Maifi!E9 -> 167834989296 | F7: =[28]Maifi!F9 -> 3624033 | G7: =[28]Maifi!G9 -> 70647471 | H7: =[28]Maifi!H9 -> 19.49
A8: 3 | B8: =[28]Maifi!B10 -> 45627 | C8: =[28]Maifi!C10 -> 45597 | D8: =[28]Maifi!D10 -> 3114248 | E8: =[28]Maifi!E10 -> 142000366056 | F8: =[28]Maifi!F10 -> 3631424 | G8: =[28]Maifi!G10 -> 60796541 | H8: =[28]Maifi!H10 -> 16.74
C9: =SUM(C6:C8) -> 159125 | D9: =SUM(D6:D8) -> 9300330 | E9: =SUM(E6:E8) -> 493252571452 | F9: =SUM(F5:F8) -> 10876862 | G9: =SUM(G5:G8) -> 211086146 | H9: =G9/F9 -> 19.406898

Sheet SOP 13
A1: ='SOP 10'!A1 -> Q-3 (Oct-Dec-24)
A2: ='SOP 11'!A2 -> Year: 2024-25
A3: SoP 013 – : Customer Average Interruption Duration Index (CAIDI)
A4: Sr. No | B4: Month | C4: Total Number of Sustained Interruptions during the Reporting Period = Σ Ai | D4: Total Restoration time for Interruption Events = Σ Ri (Hr : Min) | E4: Total Number of Interrupted Customers for Sustained Interruption events during the Reporting Period = Σni | F4: CAIDI=Σ (Ri x Ni) / Σ (Ai x Ni) = SAIDI/ SAIFI
A5: 1 | B5: 2 | C5: 3 | D5: 4 | E5: 5 | F5: 6 = (4 x 5) / (3 x 5)
A6: 1 | B6: =[28]Caidi!B8 -> 45566 | C6: =[28]Caidi!C8 -> 31355 | D6: 0.022222222 | E6: =[28]Caidi!E8 -> 3342681 | F6: =[28]Caidi!F8 -> 2.81
A7: 2 | B7: =[28]Caidi!B9 -> 45597 | C7: =[28]Caidi!C9 -> 25156 | D7: 0.021527778 | E7: =[28]Caidi!E9 -> 3280350 | F7: =[28]Caidi!F9 -> 2.94
A8: 3 | B8: =[28]Caidi!B10 -> 45627 | C8: =[28]Caidi!C10 -> 23709 | D8: 0.027083333 | E8: =[28]Caidi!E10 -> 3288295 | F8: =[28]Caidi!F10 -> 3.38
C9: =SUM(C6:C8) -> 80220 | D9: =SUM(D6:D8) -> 0.070833333 | E9: =SUM(E6:E8) -> 9911326 | F9: =AVERAGE(F6:F8) -> 3.0433333

Sheet  SoP - 15 
B2: Name of Distribution Licensee: M G V C L
B3: Financial Year: 2024-25
B4: Quarter : Q-III (Oct to Dec-2024)
B5: Performa SoP 015: Faulty Meters Replacement
B6: Consumer Category | C6: No. of faulty meters at the start of the quarter | D6: No. of faulty meters added during the quarter | E6: Total no. of defective / faulty Meter | F6: No. of faulty Meters repaired and replaced | G6: No of faulty meters pending at the end of the quarter | H6: Remark
C7: 1 | D7: 2 | E7: (3)=(2)+(1) | F7: 4 | G7: (5)=(3)-(4)
B8: Single Phase | C8: 6502 | D8: 22912 | E8: =D8+C8 -> 29414 | F8: 23441 | G8: =E8-F8 -> 5973
B9: Three Phase | C9: 2322 | D9: 5928 | E9: =C9+D9 -> 8250 | F9: 6302 | G9: =E9-F9 -> 1948

Sheet  SoP 16
A1: ='[27]MG COVER PAGE'!A1 -> Name of Distribution Licensee: M G V C L
A2: ='[27]MG COVER PAGE'!A2 -> Quarter : Q-III (Oct-Nov-Dec-2024)
A3: ='[27]MG COVER PAGE'!A3 -> Year: 2024-25
A4: Performa SoP 016: Compensation details
A5: COMPENSATION DETAILS
A6: Sr. No. | B6: Service Area | C6: Compensation payable to | D6: Claimed | F6: Payable
C7: consumer for the period of default in case of violation of standard | D7: No. of cases | E7: Amount (Rs.) | F7: No. of cases in which compensation is payable | G7: Amount payable (Rs.) | H7: Amount paid (Rs.)
A8: 1 | B8: Registration of complaint and intimation of Unique complaint Number to the Complainant | C8: Rs. 50/- for each default | D8: 0 | E8: 0 | F8: 0 | G8: 0 | H8: 0
A9: 2 | B9: Issuance of Demand Note for New Connection, Load Enhancement, Shifting of connection at other premises, Conversion of Service, Temporary Supply, Shifting of Service Connection in exiting premises, Deviation of line and Shifting of equipments | C9: Rs. 50 for each day of default. | D9: 0 | E9: 0 | F9: 0 | G9: 0 | H9: 0
A10: 3 | B10: New Connection, Load Enhancement, Shifting of connection at other premises and Conversion of Service where no Network erection and/or augmentation is required. | C10: Rs. 50 for each day of default. | D10: 0 | E10: 0 | F10: 0 | G10: 0 | H10: 0
A11: 4 | B11: New Connection, Load Enhancement, Shifting of connection at other premises and Conversion of Service where Network erection and/or augmentation is required. | C11: Rs. 50 for each day of default. | D11: 0 | E11: 0 | F11: 0 | G11: 0 | H11: 0
A12: 5 | B12: Release of temporary supply | C12: Rs. 50 for each day of default. | D12: 0 | E12: 0 | F12: 0 | G12: 0 | H12: 0
A13: 6 | B13: Shifting of meter/services in the existing premises | C13: Rs. 50 for each day of default. | D13: 0 | E13: 0 | F13: 0 | G13: 0 | H13: 0
A14: 7 | B14: Shifting of LT/HT lines | D14: 0 | E14: 0 | F14: 0 | G14: 0 | H14: 0
A15: 8 | B15: Shifting of Transformer structures | D15: 0 | E15: 0 | F15: 0 | G15: 0 | H15: 0
A16: 9 | B16: Settlement of amount for refunding of excess amount after completion of work. | D16: 0 | E16: 0 | F16: 0 | G16: 0 | H16: 0
A17: 10 | B17: Transfer of Service Connection with respect to change of name or change of ownership | C17: Rs. 50 for each day of default. | D17: 0 | E17: 0 | F17: 0 | G17: 0 | H17: 0
A18: 11 | B18: Application from consumer requesting Change in Tariff Class/Category. | C18: Rs. 50 for each day of default. | D18: 0 | E18: 0 | F18: 0 | G18: 0 | H18: 0
A19: 12 | B19: Complaint Related to Billing | C19: Rs. 50 for each day of default. | D19: 0 | E19: 0 | F19: 0 | G19: 0 | H19: 0
A20: 13 | B20: Replacement of Meter | C20: Rs. 25/- for each day of default subject to maximum of Rs. 1500/- for LT connections and Rs. 250/- for each day of default subject to maximum of Rs. 2500/- for HT connections. | D20: 0 | E20: 0 | F20: 0 | G20: 0 | H20: 0
A21: 14 | B21: Reconnection of Supply | C21: Rs. 25/- for each six hours (or part thereof) of delay in restoration of supply subject to maximum Rs. 500/- for LT connection and Rs. 50/- for each six hours (or part thereof) of delay in restoration of supply subject to maximum Rs. 1000/- for HT connection. | D21: 0 | E21: 0 | F21: 0 | G21: 0 | H21: 0
A22: 15 | B22: More than 2 interruptions in a day to the consumer for the reasons not attributable to the nature of fault as mentioned in Clause 8.4 of these Regulations. | C22: Rs. 25/- for each interruption subject to maximum Rs. 500/- for LT connection and Rs. 50/- for each interruption subject to maximum Rs. 1000/- for HT connection. | D22: 0 | E22: 0 | F22: 0 | G22: 0 | H22: 0
A23: 16 | B23: Failure to restore power supply in case of blowing of fuse of LT side distribution transformer, at consumer premises, trouble of MCB of distribution transformer, loose connection at pole, MCB or meter, etc. | C23: Rs. 50/- per hour per Consumer for the first two hours of default. Thereafter Rs. 100/- per hour per Consumer subject to maximum of Rs. 500/- per day for LT consumer and maximum of Rs. 2000/- per day for HT consumer. | D23: 0 | E23: 0 | F23: 0 | G23: 0 | H23: 0
A24: 17 | B24: Failure to restore power supply in case of blowing of HT side fuse of distribution transformer | D24: 0 | E24: 0 | F24: 0 | G24: 0 | H24: 0
A25: 18 | B25: Failure to restore power supply in case of HT and LT line fault | D25: 0 | E25: 0 | F25: 0 | G25: 0 | H25: 0
A26: 19 | B26: Failure to restore power supply in case of Distribution transformer failure | D26: 0 | E26: 0 | F26: 0 | G26: 0 | H26: 0
A27: 20 | B27: Failure to restore power supply in case of failure of underground service or underground HT/LT cable | D27: 0 | E27: 0 | F27: 0 | G27: 0 | H27: 0
A28: 21 | B28: Scheduled Power Outage | C28: Rs. 50/- per hour per Consumer for the first two hours of default. Thereafter Rs. 100/- per hour per Consumer | D28: 0 | E28: 0 | F28: 0 | G28: 0 | H28: 0
A29: 22 | B29: Site Visit and Intimation to the Consumer about likely time to resolve the complaint related to voltage fluctuation. | C29: Rs. 200/- for each instance for each complaint. | D29: 0 | E29: 0 | F29: 0 | G29: 0 | H29: 0
A30: 23 | B30: Complaint of Neutral Voltage | C30: Rs. 250/- for each complaint | D30: 0 | E30: 0 | F30: 0 | G30: 0 | H30: 0
A31: 24 | B31: Complaint regarding Voltage variations at the point of commencement of supply. | C31: Rs. 25/- for each day of default subject to maximum of Rs. 500/- | D31: 0 | E31: 0 | F31: 0 | G31: 0 | H31: 0

Sheet  SoP 17
A1: Performa SoP 017: Individual Complaint where Compensation has been paid (To be submitted Quarterly)
A2: Sr. No. | B2: Complaint No. | C2: Date of filing Complaint/ Automatic Compensation | D2: Consumer No. and Name and Address of the Consumer | E2: Nature of Complaint | F2: Reference Standard of Performance | G2: Amount of compensation (Rs.) | H2: Whether Compensation paid automatically or Consumer has to approach CGRF to get compensation | I2: Whether CGRF has upheld demand of Consumer of Compensation and if Yes, date of order of CGRF and date of compensation paid
B3: 0 | C3: 0 | D3: 0 | E3: 0 | F3: 0 | G3: 0 | H3: 0 | I3: 0

Sheet SOP 18
A1: 3rd Quaterly October 2024 to December 2024 Report
A3: 1. Unauthorised use of Electricity (To be submitted quaterly)
A4: No. of cases Booked | B4: No. of cases where UUE is established by the Licensee | C4: No. of cases where appeal filed by the consumer before the Apellate Authority | D4: No. of cases decided by the Appellate Authority in favour of the the Licensee | E4: No. of cases decided by the Appellate Authority in favour of the the Consumer
A5: 194 | B5: 194
A6: 158 | B6: 158
A7: 187 | B7: 187 | C7: 4 | D7: 0 | E7: 0
A8: 313 | B8: 313
A9: 2762 | B9: 2762 | C9: 1 | D9: 0 | E9: 1
A10: =SUM(A5:A9) -> 3614 | B10: =SUM(B5:B9) -> 3614 | C10: =SUM(C5:C9) -> 5 | D10: =SUM(D5:D9) -> 0 | E10: =SUM(E5:E9) -> 1

Sheet SOP 19
A1: 3rd Quaterly October 2024 to December 2024 Report
A6: 2. Theft of Electricity (To be submitted quaterly)
A7: No. of cases Booked | B7: No. of complaints filed by the Licensee in Police Station | C7: No. of cases in which the judgement delivered by the Special Court | D7: No. of cases decided by the Special Court in favour of Licensee | E7: No. of cases decided by the Special Court in favour of Consumer
A8: 602 | B8: 602
A9: 116 | B9: 116
A10: 564 | B10: 564
A11: 792 | B11: 792
A12: 5867 | B12: 5867 | C12: 0 | D12: 0 | E12: 0
A13: =SUM(A8:A12) -> 7941 | B13: =SUM(B8:B12) -> 7941 | C13: =SUM(C8:C12) -> 0 | D13: =SUM(D8:D12) -> 0 | E13: =SUM(E8:E12) -> 0
