Workbook
Name \1: #REF!
Name \1: #REF!
Name \1: #REF!
Name \2: [1]TLPPOCT!#REF!
Name \2: [1]TLPPOCT!#REF!
Name \2: [1]TLPPOCT!#REF!
Name \a: #REF!
Name \a: #REF!
Name \a: #REF!
Name \b: #REF!
Name \b: #REF!
Name \b: #REF!
Name \p: #REF!
Name \p: #REF!
Name __1_1_1: #REF!
Name __1_1_1: #REF!
Name __2_1_1_1: #REF!
Name __2_1_1_1: #REF!
Name _1: #REF!
Name _1: #REF!
Name _1_1: #REF!
Name _1_1: #REF!
Name _1_1_1: #REF!
Name _1_1_1: #REF!
Name _1_1_1_1: #REF!
Name _1_1_1_1: #REF!
Name _1_1_1_1_1: #REF!
Name _1_1_1_1_1: #REF!
Name _1_10: #REF!
Name _1_10: #REF!
Name _1_2: #REF!
Name _1_2: #REF!
Name _1_2_1: #REF!
Name _1_2_1: #REF!
Name _1_7: #REF!
Name _1_7: #REF!
Name _1_8: #REF!
Name _1_8: #REF!
Name _1_9: #REF!
Name _1_9: #REF!
Name _10Excel_BuiltIn__FilterDatabase_10_1: #REF!
Name _10Excel_BuiltIn__FilterDatabase_10_1: #REF!
Name _11Excel_BuiltIn__FilterDatabase_11_1: #REF!
Name _11Excel_BuiltIn__FilterDatabase_11_1: #REF!
Name _12Excel_BuiltIn__FilterDatabase_9_1: #REF!
Name _12Excel_BuiltIn__FilterDatabase_9_1: #REF!
Name _13Excel_BuiltIn_Database_1: #REF!
Name _13Excel_BuiltIn_Database_1: #REF!
Name _14Excel_BuiltIn_Database_1_1: #REF!
Name _14Excel_BuiltIn_Database_1_1: #REF!
Name _15Excel_BuiltIn_Database_1_11_1: #REF!
Name _15Excel_BuiltIn_Database_1_11_1: #REF!
Name _16Excel_BuiltIn_Database_1_6_1: #REF!
Name _16Excel_BuiltIn_Database_1_6_1: #REF!
Name _2: [1]TLPPOCT!#REF!
Name _2: [1]TLPPOCT!#REF!
Name _2_1: [1]TLPPOCT!#REF!
Name _2_1: [1]TLPPOCT!#REF!
Name _2_1_1: [1]TLPPOCT!#REF!
Name _2_1_1: [1]TLPPOCT!#REF!

Sheet MG COVER PAGE
A1: Name of Distribution Licensee: M G V C L
A2: Quarter : Q-III (Oct-Nov-Dec- 2022)
A3: Year: 2022-23

Sheet MG SoP 01 
A1: Name of Distribution Licensee: M G V C L
A2: Quarter III (OCT-22 to DEC-22)
A3: Year:2022-23
A4: Performa - SoP 001: Fatal and Non-Fatal electrical accident report
A5: NUMBER OF ACCIDENTS FOR THE 3rd QUARTER OF 2022-23
A6: Sr.No | B6: Name of Area/Circle | C6: No of accidents in the quarter | H6: Cumulative since the first quarter of the current FY 2020-21 | K6: Cumulative since the first quarter of the Last FY 2021-22
C7: Departmental | E7: Outside | H7: TOTAL | K7: TOTAL
C8: FH | D8: NFH | E8: FH | F8: FA | G8: NFH | H8: FH | I8: FA | J8: NFH | K8: FH | L8: FA | M8: NFH
A9: 1 | B9: Baroda (City) | C9: 0 | D9: 2 | E9: 0 | F9: 0 | G9: 0 | H9: 1 | I9: 0 | J9: ='[25]MG SoP 01'!I9+'[25]MG SoP 01'!L9 -> 2 | K9: 1 | L9: 4 | M9: 1
A10: 2 | B10: Baroda (O&M) | C10: 0 | D10: 4 | E10: 2 | F10: 4 | G10: 0 | H10: 8 (1-Pvt) | I10: 19 | J10: ='[25]MG SoP 01'!I10+'[25]MG SoP 01'!L10 -> 11 | K10: 8 | L10: 26 | M10: 8
A11: 3 | B11: Anand | C11: 0 | D11: 1 | E11: 0 | F11: 1 | G11: 0 | H11: 2 | I11: 4 | J11: ='[25]MG SoP 01'!I11+'[25]MG SoP 01'!L11 -> 2 | K11: 7 | L11: 11 | M11: 3
A12: 4 | B12: Godhra | C12: 0 | D12: 1 | E12: 1 | F12: 3 | G12: 3 | H12: 16 (9-Pvt) | I12: 24 (2-Pvt) | J12: ='[25]MG SoP 01'!I12+'[25]MG SoP 01'!L12 -> 8 | K12: 10 (1-Pvt) | L12: 35 | M12: 5 (1-Pvt)
A13: 5 | B13: Nadiad | C13: 0 | D13: 0 | E13: 1 | F13: 3 | G13: 0 | H13: 9 (2-Pvt) | I13: 22 | J13: ='[25]MG SoP 01'!I13+'[25]MG SoP 01'!L13 -> 8 | K13: 7 | L13: 17 | M13: 3
B14: TOTAL | C14: =SUM(C9:C13) -> 0 | D14: =SUM(D9:D13) -> 8 | E14: =SUM(E9:E13) -> 4 | F14: =SUM(F9:F13) -> 11 | G14: =SUM(G9:G13) -> 3 | H14: 36 (12-Pvt) | I14: 69 (2-Pvt) | J14: =SUM(J9:J13) -> 31 | K14: 33 (1-Pvt) | L14: =SUM(L9:L13) -> 93 | M14: 20 (1-Pvt)
A15: FH – Fatal Human, FA – Fatal Animal, NFH – Non-fatal Human | G15: =C14+D14+E14+F14+G14 -> 26 | J15: =36+69+J14 -> 136 | M15: =33+L14+20 -> 146
A16: PVT - Private Premises Accident.

Sheet MG SOP2
A1: Performa – SoP 003: Action taken report for safety measures complied for the electrical accidents occurred
A3: ACTION TAKEN REPORT FOR SAFETY MEASURES COMPLIED FOR THE ELECTRICAL ACCIDENTS OCCURED IN THE Third QUARTER OF FY 2022-23
A5: 1 | B5: 2 | E5: 3 | F5: 4 | L5: 5 | M5: 6 | N5: 7 | O5: 8 | P5: 9 | Q5: 10
A6: Sr. No | B6: Location of Accident and details of the victim | C6: Address | D6: sdn | E6: Date of occurrence | F6: Type of Accident | G6: Installation | I6: Accident Type | L6: Cause of Accident | M6: Findings of CEI / EI / AEI | N6: Remedies suggested by CEI /EI / AEI in various cases | O6: Whether the remedy suggested is complied | P6: Action taken to avoid recurrence of such Accident | Q6: Circle office
A7: 1 | B7: Bhavinbhai Matabhai Meda, Sharda Meda faliya, Tal-Zalod, Dist-Dahod | E7: 44835 | F7: NFHO | L7: As per the information rceived from Sarpanc Shri GP at.Sharda meda faliya,The accident was occur.As per statement of eye witness victim was passing at location,the victim was thrown away.At the time of side visit NO Direct Leakage current found on the X | M7: AWAITED | N7: NA | O7: NA | P7: HT AND TC MAINTENANCE CARRIED OUT | Q7: No
A8: 2 | B8: SUNIL RAMDAYAL SUTHAR, Premises of Lakhraj Dharamsinh Gor, Vill/Taluka-Dabhoi, Dist-Vadodara | E8: 44836 | F8: FHO | L8: Victim was fitting the elevation aluminium board frame by screw to iron shade by standing on woolen palk.accidently victim loss his balance and victim’s left hand may came contact with live open conductor of 11kv dabhoi town feeder, he was fall down and | M8: Awaited | N8: NA | O8: NA | P8: No action required | Q8: NO
A9: 3 | B9: Sh. Hathibhai Sardarbhai Khant, RAVNA FALIYA, Vill-Kamrol, Tal-Waghodia, Dist-Vadodara | E9: 44837 | F9: FHO | L9: Sh. Hathibhai Sardarbhai Khant was working as conductor on vehicle on GJ01 ET1549 dumper truck. Near Ravna faliya of village kamrol driver parked the under 11KV line of kotambi AG feeder and raised the trolley to unload querry metal in road side in this p | M9: Awaited | N9: NA | O9: NA | P9: No action required | Q9: NO
A10: 4 | B10: Bull of RATHAVA AMBUBHAI DHANIYABHAI, SAYADA FALIYU, Vill-Bhilpur, Tal/Dist-Chhotaudepur | E10: 44838 | F10: FA | L10: The accident occured due to cyclone & heavy wind come at village bhilpur (Sayada Faliyu) due to which 03 nos of HT pole & 01 nos TC structure of HT tap line of 11 KV Siloj AG feeder broken with live conductors & fall down on ground.Live conductors snapped | M10: Awaited | N10: NA | O10: NA | P10: RCTIFICATION WORK DONE | Q10: NO
A11: 5 | B11: Buffalo of Bharvad Anilkumar Ramubhai, Lunawada,near kanka TALAV, Tal-Lunawada, Dist-Mahisagar | E11: 44839 | F11: FA | L11: LT 2 wire abc touch with gaurding and damage abc 2wire and puncture . due to this situation current pass though gaurding wire to psc pole earthing wire and earthing wire also damged to bottom ground leveal and touch with iron fancing and accident occure3d | M11: AWAITED | N11: NA | O11: NA | P11: GUARDING REMOVED ,EARTHING RE ACTIVATION DONE | Q11: No
A12: 6 | B12: SHE BUFFALO of Ramabhai V Zala, Vill-DHULIYA VASNA, Tal-Kapadwanj, Dist-Kheda | E12: 44841 | F12: FA | L12: DUETO HEAVY RAINING BIG TREE BRANCH FALLEN ON LT LINE OF KRISHNA JGY FEEDER TC NO:12 LT LINE,BECAUSE OF THAT NE CONDUCTORE SNAPPED AND FALLEN ON GOUND.DURING GRAZING SHE BUFFAO CAME IN CONTACT WITH BROKEN LT OPEN CONDUCTOR AND ELECTUDE AND ACCIDENT OCCURE | M12: Tree branch fallen on LT Line | N12: Electric asset to be maintained regularly for safty purpose. | O12: yes | P12: Maintenace was carried out. | Q12: Yes
A13: 7 | B13: ASHWINBHAI NARANBHAI RATHWA, NEAR THE TEMPLE OF PANDHRA VILLAGE, Tal-Bodeli, Dist-Chhotaudepur | E13: 44841 | F13: NFHD | L13: JUMPER OF 11KV SURYA JGY DODP AT VILLAGE PANDHRA WAS BURNT.SO VICTIM WAS REPARING THE JUMPER ON DODP.POWER WAS CUT OFF BY REMOVING THE DO OF DODP AT VILLAGE VISADI AND EARTHING WAS ALSO DONE BY VICTIM.SOMEHOW POWER WAS COME TO DODP AND VICTIM WAS GET ELEC | M13: Awaited | N13: NA | O13: NA | P13: REJUMPERING WORK DONE AND ALL LINE STAFF WERE INSTRUCTED DO EARTHING ON BOTH SIDE AND SHORT ALL 3 CONDUCTOR | Q13: NO
A14: 8 | B14: Govind K Katara, Navinagari pachhal, Vill-Patod, Tal-Padra, Dist-Vadodara | E14: 44842 | F14: NFHD | L14: Under the supervision of Shri A C Baria(LM), AB Swich of Zaveripura Tapline of 11 KV Chansad AG was cut by Shri A R Vasava(EA) and Earthing done on incoming side of next AB swich where jumpering work was going on. One of three jumper work has been done. | M14: Awaited | N14: NA | O14: NA | P14: 2 CROSSING ATTEND | Q14: NO
A15: 9 | B15: COW of Maniya Narsing Waljibhai, MUNIYA FALIYA, Vill-LILVA THAKOR, Tal-Zalod, Dist-Dahod | E15: 44842 | F15: FA | L15: As Per Information Recieved From Sarpanch Shri Gp Lilva Thakor ,The Accident Was Occur Due To Heavy Rain And Wind 11Kv Malvasi Jgy Fdr Conductor Slipped On 11Kv Pin Insulator And Touch On 11 Kv Vcross Arm ,Loose 11Kv Span Due To Sliped Conductor From Pin | M15: AWAITED | N15: NA | O15: NA | P15: Re Stringing And Re Binding Of Conductor As Well As Maintenance Carried Out. | Q15: No
A16: 10 | B16: RITESHBHAI HASANBHAI RATHWA, Vill-Kosum, Tal-Pavijetpur, Dist-Chhotaudepur | E16: 44842 | F16: NFHD | L16: VICTIM HAS CLIMBED THE LT PSC POLE FOR LT ABC DISMANTLING. ACCIDENTLY A TREE BRANCH FELL ON THE LT LINE & THE LINE SPRUNG AND CAME IN CONTACT WITH THE LIVE HT LINE OF SAJVA AG FEEDER WHICH WAS CROSSING & HENCE GOT ELECTROCUTED. | M16: Awaited | N16: NA | O16: NA | P16: Dismentaling and stringing of LT line work was done on next day, in safety meeting all line staff were instructed to do earthing onboth side and short all 3 conductor | Q16: NO
A17: 11 | B17: BALVANTBHAI DOLABHAI BHARVAD'S HE BUFFELOW, NR CHAVLA HOTEL, ON CANAL, Vill-Dabhan, Tal-Nadiad, Dist-Kheda | E17: 44844 | F17: FA | L17: DUE TO HEAVY WIND LT LINE CONDUCTOR OF DEGAM AG SNAPPED AND FALL DOWN ON LAND AT THAT TIME HE BUFFELOW OF BALVANTBHAI DOLABHAI BHARVAD PASSING FROM THAT AND HE BUFFELOW COME TO CONTACT WITH CONDUCTOR AND GET ELECTROCUTED AND DIED | M17: AWAITED | N17: NA | O17: NA | P17: Conductor jointed and maintenance carrie out | Q17: NO
A18: 12 | B18: BUFFALO OF SH BARIYA ABHESINGBHAI JESINGBHAI, JEKOT CHHANGHATI, Tal/Dist-Dahod | E18: 44845 | F18: FA | L18: AS PER INFORMARION RECEIVED IN THE MORNING SH BARIYA ABHESINGBHAI JESINGBHAI WAS TAKING HIS FOUR BUFFALOES TO THE GORGR FOR DRINKING OF WATER.AT THAT TIME ONE BUFFALO WAS ACCIDENTLY TOUCHED THE STAY WIRE AND GOT SHOCK.IT THEN TOUCHED THE BARBED WIRE FENCE | M18: AWAITED | N18: NA | O18: NA | P18: REJUMPERING OF DODP STRUCTURE DONE,PIN INSULATOR WAS INSTALLED | Q18: No
... A32: 26 | B32: Laxmanbhai Bhlabhai Pagi, Vill-Bakor, Tal-Khanpur, Dist-Mahisagar | E32: 44917 | F32: FHO | L32: Victim doing tree cutting on Tree where 11 KV line is passing and during tree cutting got electric shock. | M32: AWAITED | N32: NA | O32: NA | P32: Tree cutting & maintenace work done | Q32: NO

Sheet MG SOP3
A1: ='MG COVER PAGE'!A1 -> Name of Distribution Licensee: M G V C L
A2: ='MG COVER PAGE'!A2 -> Quarter : Q-III (Oct-Nov-Dec- 2022)
A3: ='MG COVER PAGE'!A3 -> Year: 2022-23
A4: REGISTER FOR COMPILING THE COMPLAINTS CLASSIFICATIONWISE Q-I 2022-23
A5: Performa SoP 003 B: | E5: APPENDIX-B (already in the SoP regulation)
A6: Classification | B6: Nature of Complaints | C6: Pending complaints of previous qtr. | D6: Complaints received during the qtr. | E6: Total Complaints =2+3 | F6: No. of Complaints redressed during the quarter. | K6: Balance Complaints to be redressed. (4) – (9)
F7: In stipulated time | H7: Beyond stipulated time | J7: Total (5) to (8)
F8: Within 50% of stipulated time. | G8: Within stipulated time. | H8: Up to double the stipulated time | I8: More than double the stipulated time
B9: 1 | C9: 2 | D9: 3 | E9: 4 | F9: 5 | G9: 6 | H9: 7 | I9: 8 | J9: 9 | K9: 10
A10: A(i) | B10: Loose Connection | C10: 0 | D10: ='[26]MG SoP 03B (BC)'!D10+'[26]MG SoP 03B (BO)'!D10+'[26]MG SoP 03B (And)'!D10+'[26]MG SoP 03B (Nad)'!D10+'[26]MG SoP 03B (Gdr)'!D10 -> 65722.346 | E10: =C10+D10 -> 65722.346 | F10: ='[26]MG SoP 03B (BC)'!F10+'[26]MG SoP 03B (BO)'!F10+'[26]MG SoP 03B (And)'!F10+'[26]MG SoP 03B (Nad)'!F10+'[26]MG SoP 03B (Gdr)'!F10 -> 32458.212 | G10: ='[26]MG SoP 03B (BC)'!G10+'[26]MG SoP 03B (BO)'!G10+'[26]MG SoP 03B (And)'!G10+'[26]MG SoP 03B (Nad)'!G10+'[26]MG SoP 03B (Gdr)'!G10 -> 33264.135 | H10: 0 | I10: 0 | J10: =SUM(F10:I10) -> 65722.346 | K10: 0
A11: A(ii) | B11: Intruption due to line Break down | C11: 0 | D11: ='[26]MG SoP 03B (BC)'!D11+'[26]MG SoP 03B (BO)'!D11+'[26]MG SoP 03B (And)'!D11+'[26]MG SoP 03B (Nad)'!D11+'[26]MG SoP 03B (Gdr)'!D11 -> 40138.284 | E11: =C11+D11 -> 40138.284 | F11: ='[26]MG SoP 03B (BC)'!F11+'[26]MG SoP 03B (BO)'!F11+'[26]MG SoP 03B (And)'!F11+'[26]MG SoP 03B (Nad)'!F11+'[26]MG SoP 03B (Gdr)'!F11 -> 18386.742 | G11: ='[26]MG SoP 03B (BC)'!G11+'[26]MG SoP 03B (BO)'!G11+'[26]MG SoP 03B (And)'!G11+'[26]MG SoP 03B (Nad)'!G11+'[26]MG SoP 03B (Gdr)'!G11 -> 21751.542 | H11: 0 | I11: 0 | J11: =SUM(F11:I11) -> 40138.284 | K11: 0
A12: A(iii) | B12: Intruption due to T/C Fail | C12: 0 | D12: ='[26]MG SoP 03B (BC)'!D12+'[26]MG SoP 03B (BO)'!D12+'[26]MG SoP 03B (And)'!D12+'[26]MG SoP 03B (Nad)'!D12+'[26]MG SoP 03B (Gdr)'!D12 -> 4863.387 | E12: =C12+D12 -> 4863.387 | F12: ='[26]MG SoP 03B (BC)'!F12+'[26]MG SoP 03B (BO)'!F12+'[26]MG SoP 03B (And)'!F12+'[26]MG SoP 03B (Nad)'!F12+'[26]MG SoP 03B (Gdr)'!F12 -> 2387.5403 | G12: ='[26]MG SoP 03B (BC)'!G12+'[26]MG SoP 03B (BO)'!G12+'[26]MG SoP 03B (And)'!G12+'[26]MG SoP 03B (Nad)'!G12+'[26]MG SoP 03B (Gdr)'!G12 -> 2475.8468 | H12: 0 | I12: 0 | J12: =SUM(F12:I12) -> 4863.387 | K12: 0
A13: B(i) | B13: Quality of power supply,ordinary case which require no Augmentation | C13: 0 | D13: ='[26]MG SoP 03B (BC)'!D13+'[26]MG SoP 03B (BO)'!D13+'[26]MG SoP 03B (And)'!D13+'[26]MG SoP 03B (Nad)'!D13+'[26]MG SoP 03B (Gdr)'!D13 -> 6650.7896 | E13: =C13+D13 -> 6650.7896 | F13: ='[26]MG SoP 03B (BC)'!F13+'[26]MG SoP 03B (BO)'!F13+'[26]MG SoP 03B (And)'!F13+'[26]MG SoP 03B (Nad)'!F13+'[26]MG SoP 03B (Gdr)'!F13 -> 4352.6307 | G13: ='[26]MG SoP 03B (BC)'!G13+'[26]MG SoP 03B (BO)'!G13+'[26]MG SoP 03B (And)'!G13+'[26]MG SoP 03B (Nad)'!G13+'[26]MG SoP 03B (Gdr)'!G13 -> 2298.1589 | H13: 0 | I13: 0 | J13: =SUM(F13:I13) -> 6650.7896 | K13: 0
A14: B(ii) | B14: Quality of power supply,ordinary case which require Augmentation | C14: 0 | D14: ='[26]MG SoP 03B (BC)'!D14+'[26]MG SoP 03B (BO)'!D14+'[26]MG SoP 03B (And)'!D14+'[26]MG SoP 03B (Nad)'!D14+'[26]MG SoP 03B (Gdr)'!D14 -> 4089.2087 | E14: =C14+D14 -> 4089.2087 | F14: ='[26]MG SoP 03B (BC)'!F14+'[26]MG SoP 03B (BO)'!F14+'[26]MG SoP 03B (And)'!F14+'[26]MG SoP 03B (Nad)'!F14+'[26]MG SoP 03B (Gdr)'!F14 -> 2285.3969 | G14: ='[26]MG SoP 03B (BC)'!G14+'[26]MG SoP 03B (BO)'!G14+'[26]MG SoP 03B (And)'!G14+'[26]MG SoP 03B (Nad)'!G14+'[26]MG SoP 03B (Gdr)'!G14 -> 1803.8118 | H14: 0 | I14: 0 | J14: =SUM(F14:I14) -> 4089.2087 | K14: 0
A15: C(i) | B15: Meters- Stoped/Defective meter | C15: 0 | D15: ='[26]MG SoP 03B (BC)'!D15+'[26]MG SoP 03B (BO)'!D15+'[26]MG SoP 03B (And)'!D15+'[26]MG SoP 03B (Nad)'!D15+'[26]MG SoP 03B (Gdr)'!D15 -> 14726.973 | E15: =C15+D15 -> 14726.973 | F15: ='[26]MG SoP 03B (BC)'!F15+'[26]MG SoP 03B (BO)'!F15+'[26]MG SoP 03B (And)'!F15+'[26]MG SoP 03B (Nad)'!F15+'[26]MG SoP 03B (Gdr)'!F15 -> 8639.9315 | G15: ='[26]MG SoP 03B (BC)'!G15+'[26]MG SoP 03B (BO)'!G15+'[26]MG SoP 03B (And)'!G15+'[26]MG SoP 03B (Nad)'!G15+'[26]MG SoP 03B (Gdr)'!G15 -> 6087.0413 | H15: 0 | I15: 0 | J15: =SUM(F15:I15) -> 14726.973 | K15: 0
A16: C(ii) | B16: Meters- Billing on average basis for > two bills | C16: 0 | D16: ='[26]MG SoP 03B (BC)'!D16+'[26]MG SoP 03B (BO)'!D16+'[26]MG SoP 03B (And)'!D16+'[26]MG SoP 03B (Nad)'!D16+'[26]MG SoP 03B (Gdr)'!D16 -> 5470.399 | E16: =C16+D16 -> 5470.399 | F16: ='[26]MG SoP 03B (BC)'!F16+'[26]MG SoP 03B (BO)'!F16+'[26]MG SoP 03B (And)'!F16+'[26]MG SoP 03B (Nad)'!F16+'[26]MG SoP 03B (Gdr)'!F16 -> 3335.2415 | G16: ='[26]MG SoP 03B (BC)'!G16+'[26]MG SoP 03B (BO)'!G16+'[26]MG SoP 03B (And)'!G16+'[26]MG SoP 03B (Nad)'!G16+'[26]MG SoP 03B (Gdr)'!G16 -> 2135.1575 | H16: 0 | I16: 0 | J16: =SUM(F16:I16) -> 5470.399 | K16: 0
A17: D(i) | B17: Over head lines - loose wires | C17: 0 | D17: ='[26]MG SoP 03B (BC)'!D17+'[26]MG SoP 03B (BO)'!D17+'[26]MG SoP 03B (And)'!D17+'[26]MG SoP 03B (Nad)'!D17+'[26]MG SoP 03B (Gdr)'!D17 -> 5111.9407 | E17: =C17+D17 -> 5111.9407 | F17: ='[26]MG SoP 03B (BC)'!F17+'[26]MG SoP 03B (BO)'!F17+'[26]MG SoP 03B (And)'!F17+'[26]MG SoP 03B (Nad)'!F17+'[26]MG SoP 03B (Gdr)'!F17 -> 2666.667 | G17: ='[26]MG SoP 03B (BC)'!G17+'[26]MG SoP 03B (BO)'!G17+'[26]MG SoP 03B (And)'!G17+'[26]MG SoP 03B (Nad)'!G17+'[26]MG SoP 03B (Gdr)'!G17 -> 2445.2737 | H17: 0 | I17: 0 | J17: =SUM(F17:I17) -> 5111.9407 | K17: 0
A18: D(ii) | B18: Over head lines - in adiquate ground clearance | C18: 0 | D18: ='[26]MG SoP 03B (BC)'!D18+'[26]MG SoP 03B (BO)'!D18+'[26]MG SoP 03B (And)'!D18+'[26]MG SoP 03B (Nad)'!D18+'[26]MG SoP 03B (Gdr)'!D18 -> 1518.1995 | E18: =C18+D18 -> 1518.1995 | F18: ='[26]MG SoP 03B (BC)'!F18+'[26]MG SoP 03B (BO)'!F18+'[26]MG SoP 03B (And)'!F18+'[26]MG SoP 03B (Nad)'!F18+'[26]MG SoP 03B (Gdr)'!F18 -> 1041.5823 | G18: ='[26]MG SoP 03B (BC)'!G18+'[26]MG SoP 03B (BO)'!G18+'[26]MG SoP 03B (And)'!G18+'[26]MG SoP 03B (Nad)'!G18+'[26]MG SoP 03B (Gdr)'!G18 -> 476.61723 | H18: 0 | I18: 0 | J18: =SUM(F18:I18) -> 1518.1995 | K18: 0
A19: E(i) | B19: Bills- for current bills where no addl information required | C19: 0 | D19: ='[26]MG SoP 03B (BC)'!D19+'[26]MG SoP 03B (BO)'!D19+'[26]MG SoP 03B (And)'!D19+'[26]MG SoP 03B (Nad)'!D19+'[26]MG SoP 03B (Gdr)'!D19 -> 3967.0519 | E19: =C19+D19 -> 3967.0519 | F19: ='[26]MG SoP 03B (BC)'!F19+'[26]MG SoP 03B (BO)'!F19+'[26]MG SoP 03B (And)'!F19+'[26]MG SoP 03B (Nad)'!F19+'[26]MG SoP 03B (Gdr)'!F19 -> 3024.3254 | G19: ='[26]MG SoP 03B (BC)'!G19+'[26]MG SoP 03B (BO)'!G19+'[26]MG SoP 03B (And)'!G19+'[26]MG SoP 03B (Nad)'!G19+'[26]MG SoP 03B (Gdr)'!G19 -> 942.72656 | H19: 0 | I19: 0 | J19: =SUM(F19:I19) -> 3967.0519 | K19: 0
A20: E(ii) | B20: Bills- for current bills where addl information required | C20: 0 | D20: ='[26]MG SoP 03B (BC)'!D20+'[26]MG SoP 03B (BO)'!D20+'[26]MG SoP 03B (And)'!D20+'[26]MG SoP 03B (Nad)'!D20+'[26]MG SoP 03B (Gdr)'!D20 -> 2903.6215 | E20: =C20+D20 -> 2903.6215 | F20: ='[26]MG SoP 03B (BC)'!F20+'[26]MG SoP 03B (BO)'!F20+'[26]MG SoP 03B (And)'!F20+'[26]MG SoP 03B (Nad)'!F20+'[26]MG SoP 03B (Gdr)'!F20 -> 1640.4276 | G20: ='[26]MG SoP 03B (BC)'!G20+'[26]MG SoP 03B (BO)'!G20+'[26]MG SoP 03B (And)'!G20+'[26]MG SoP 03B (Nad)'!G20+'[26]MG SoP 03B (Gdr)'!G20 -> 1263.1939 | H20: 0 | I20: 0 | J20: =SUM(F20:I20) -> 2903.6215 | K20: 0
A21: F(i) | B21: Service connections- where extention of mains is not required | C21: 0 | D21: ='[26]MG SoP 03B (BC)'!D21+'[26]MG SoP 03B (BO)'!D21+'[26]MG SoP 03B (And)'!D21+'[26]MG SoP 03B (Nad)'!D21+'[26]MG SoP 03B (Gdr)'!D21 -> 8480.7532 | E21: =C21+D21 -> 8480.7532 | F21: ='[26]MG SoP 03B (BC)'!F21+'[26]MG SoP 03B (BO)'!F21+'[26]MG SoP 03B (And)'!F21+'[26]MG SoP 03B (Nad)'!F21+'[26]MG SoP 03B (Gdr)'!F21 -> 6018.7476 | G21: ='[26]MG SoP 03B (BC)'!G21+'[26]MG SoP 03B (BO)'!G21+'[26]MG SoP 03B (And)'!G21+'[26]MG SoP 03B (Nad)'!G21+'[26]MG SoP 03B (Gdr)'!G21 -> 2462.0057 | H21: 0 | I21: 0 | J21: =SUM(F21:I21) -> 8480.7532 | K21: 0
... A26: H | B26: Others | C26: 0 | D26: ='[26]MG SoP 03B (BC)'!D26+'[26]MG SoP 03B (BO)'!D26+'[26]MG SoP 03B (And)'!D26+'[26]MG SoP 03B (Nad)'!D26+'[26]MG SoP 03B (Gdr)'!D26 -> 20590.016 | E26: =C26+D26 -> 20590.016 | F26: ='[26]MG SoP 03B (BC)'!F26+'[26]MG SoP 03B (BO)'!F26+'[26]MG SoP 03B (And)'!F26+'[26]MG SoP 03B (Nad)'!F26+'[26]MG SoP 03B (Gdr)'!F26 -> 10555.551 | G26: ='[26]MG SoP 03B (BC)'!G26+'[26]MG SoP 03B (BO)'!G26+'[26]MG SoP 03B (And)'!G26+'[26]MG SoP 03B (Nad)'!G26+'[26]MG SoP 03B (Gdr)'!G26 -> 10034.465 | H26: 0 | I26: 0 | J26: =SUM(F26:I26) -> 20590.016 | K26: 0
B27: TOTAL | C27: 0 | D27: =SUM(D10:D26) -> 195322 | E27: =SUM(E10:E26) -> 195322 | F27: =SUM(F10:F26) -> 101963.4 | G27: =SUM(G10:G26) -> 93358.598 | H27: =SUM(H10:H26) -> 0 | I27: =SUM(I10:I26) -> 0 | J27: =SUM(J10:J26) -> 195322 | K27: =SUM(K10:K26) -> 0
A28: The format is to be sent quarterly
A30: The quarterly reporting of the year means reporting for the period 1st Quarter as Jan – Mar, 2nd Quarter as Apr – Jun, 3rd Quarter as Jul – Sep and 4th Quarter as Oct – Dec of the year.
A32: For any other complaints not mentioned in the classification, the sequence for (H) can be used.

Sheet MG SoP 04
A1: ='[26]MG SoP 01'!A1 -> Name of Distribution Licensee: M G V C L
A2: ='[26]MG SoP 01'!A2 -> Quarter : Q-IV (Oct-Nov-Dec- 2022)
A3: ='[26]MG SoP 01'!A3 -> Year: 2022-23
A4: Performa SoP 004 : Publicity carried out while displaying the contact details of consumer complaints centers
A5: Particulars should also cover the details of consumer awareness program conducted, advertisement done through various media like TV, newspaper, radio, pamphlets & booklet distributions, Displays etc. The development of website and any medium through which public education is carried out can be included.
A7: Sr. No | B7: Actions or steps carried out by distribution licensee towards public awareness in the quarter | C7: Likely number of consumers influenced
A9: 1 | B9: RTI Officers Name is displayed at customer care centre on each office | C9: 3462678
A10: 2 | B10: Necessary information regarding time schedule for new connection and solving complaints is display on the board. | C10: 3462678
A11: 3 | B11: Contact nos. of various officers of the company for emergency contact is also displayed at customer care centre. | C11: 3462678
A12: 4 | B12: Displayed safety posters at various S/dn,Divisions | C12: 5000
A13: 5 | B13: Safety Meeting with Line Staff at various S/dn,Divisions on Every Monday (Line staff influenced) | C13: 13800

Sheet SOP-05
A1: ='[27]MG COVER PAGE'!A1 -> Name of Distribution Licensee: M G V C L
A2: SOP Q-III (oct-Nov-Dec-22)
A3: Year :2022-23
A4: Performa – SoP 005 B: Action taken report by the Redressal Committee
A5: Sr. No | B5: Month | C5: Date and Time Meeting conducted | D5: No of complaints registered at the meeting | E5: No. of complaints pending at the end of the meeting
A6: 1 | B6: 1st Month of the quarter (Oct'22) | C6: 28.10.22,11.30 am at Corporate Office | D6: 4 | E6: 0
A7: 2 | B7: 2nd Month of the quarter (Nov'22) | C7: 24.11.22,11.30 am at Godhra Office | D7: 2 | E7: 0
A8: 3 | B8: 3rd Month of the quarter (Dec'22) | C8: 17.12.22,11.30 am at Corporate Office | D8: 4 | E8: 0

Sheet MG SoP - 06
A1: Name of Distribution Licensee: M G V C L
A2: Financial Year: 2022-23
A3: Quarter : Q-III (Oct-Nov-Dec-2022 )
A4: Performa SoP 006: Failure of Distribution Transformer
A5: Sr. No. | B5: Name of Circle | C5: Nos. of existing Distribution Transformers at the start of the quarter | D5: Nos. of Distribution Transformers added during the quarter | E5: Total number of Distribution Transformers on end of quarter | F5: Total number of Distribution transformer failed during quarter-III | G5: % failure rate of Distribution transformer
C6: A | D6: B | E6: C=A+B | F6: D | G6: H = (D)*100/C
A7: 1 | B7: Baroda O&M | C7: 53182 | D7: =E7-C7 -> 800 | E7: 53982 | F7: 1086 | G7: =F7*100/E7 -> 2.0117817
A8: 2 | B8: Baroda City | C8: 9191 | D8: =E8-C8 -> 177 | E8: 9368 | F8: 17 | G8: =F8*100/E8 -> 0.18146883
A9: 3 | B9: Anand | C9: 24454 | D9: =E9-C9 -> 418 | E9: 24872 | F9: 155 | G9: =F9*100/E9 -> 0.62319074
A10: 4 | B10: Nadiad | C10: 31174 | D10: =E10-C10 -> 696 | E10: 31870 | F10: 307 | G10: =F10*100/E10 -> 0.96328836
A11: 5 | B11: Godhra | C11: 59587 | D11: =E11-C11 -> 1294 | E11: 60881 | F11: 1205 | G11: =F11*100/E11 -> 1.979271
B12: MGVCL | C12: =SUM(C7:C11) -> 177588 | D12: =SUM(D7:D11) -> 3385 | E12: =SUM(E7:E11) -> 180973 | F12: =SUM(F7:F11) -> 2770 | G12: =F12/E12*100 -> 1.5306151

Sheet SoP008
A1: ='[28]MG COVER PAGE'!A1 -> Name of Distribution Licensee: M G V C L
A2: SOP:Qtr.III(OCT-NOV-DEC-22)
A3: YEAR:2022-2023
A4: Performa SoP 008: Sample Test result for Neutral Voltage
A6: Compliance Sample Test Report for Neutral Voltage
A7: -1 | B7: -2 | C7: -3 | D7: -4 | E7: -5 | F7: -6
A8: Sr. No | B8: Category of consumers | C8: Sample Size | D8: Standard specified in regulation | E8: Deviation of results from the sample test (Numbers) | F8: % age compliance
C9: (Numbers) | F9: (6) = (5)*100/(3)
B10: LT consumers | C10: 1368 | D10: 2% | E10: =SUM(E11:E15) -> 0 | F10: =E10*100/C10 -> 0
A11: 1 | B11: Domestic | C11: 975 | D11: 2% | E11: 0 | F11: =E11*100/C11 -> 0
A12: 2 | B12: Commercial | C12: 190 | D12: 2% | E12: 0 | F12: =E12*100/C12 -> 0
A13: 3 | B13: Industrial | C13: 12 | D13: 2% | E13: 0 | F13: =E13*100/C13 -> 0
A14: 4 | B14: Agricultural | C14: 97 | D14: 2% | E14: 0 | F14: 0
A15: 5 | B15: Public water works | C15: 6 | D15: 2% | E15: 0 | F15: 0
B16: HT consumers | D16: 2%
A17: 6 | B17: HT industrial | C17: 6 | D17: 2% | E17: 0 | F17: =E17*100/C17 -> 0

Sheet SoP009
A1: ='[28]MG COVER PAGE'!A1 -> Name of Distribution Licensee: M G V C L
A2: SOP:Qtr.III(OCT-NOV-DEC-22)
A3: YEAR:2022-2023
A4: Performa SoP 009: Sample Test result for Voltage variations
A5: Compliance Sample Test Report for voltage variations
A6: -1 | B6: -2 | C6: -3 | D6: -4 | E6: -5
A7: Voltage Level | B7: Sample Size (numbers) | C7: Limit or prescribed standard | D7: Deviation of results from the sample test (Numbers) | E7: % age compliance
E8: (5) = (4)*100/(2)
A9: Low Voltage | B9: 5 | C9: +6% to -6% | D9: 0 | E9: =D9*100/B9 -> 0
A10: High Voltage | B10: 2 | C10: +6% to -9% | D10: 0 | E10: 0
A11: Extra High Voltage | B11: 1 | C11: +10% to -12.50% | D11: 0 | E11: 0

Sheet SoP010
A1: ='[28]MG COVER PAGE'!A1 -> Name of Distribution Licensee: M G V C L
A2: SOP:Qtr.III(OCT-NOV-DEC-22)
A3: YEAR:2022-2023
A4: Performa SoP 010: Sample Test result for Harmonics
A5: Compliance Sample Test Report for Harmonics
A6: -1 | B6: -2 | C6: -3 | D6: -4 | E6: -5 | F6: -6
A7: Sr. No | B7: Category of consumers | C7: Sample size (Numbers) | D7: Limit or standard prescribed | E7: Deviation of results from the sample test (Numbers) | F7: %age compliance
F8: (6) = (5)*100/(3)
A9: 1 | B9: LT consumers | C9: 16 | D9: 0.035 | E9: 0 | F9: =E9*100/C9 -> 0
A10: 2 | B10: HT consumers | C10: 2 | D10: 0.03 | E10: 0 | F10: 0
A11: 3 | B11: EHT consumers | C11: 1 | D11: 0.03 | E11: 0 | F11: 0
A13: Note: The licensee shall also submit along with the above harmonic data, the records of customer wise drawls of harmonic currents measured at various strategic points.
A15: The formats SoP 008, SoP 009 and SoP 010 have to be sent annually.
A16: For the purpose of annual submissions, the year end has to be considered as the end of December month of a particular year.

Sheet 11A
A1: Q-3(Oct-Dec-22)
A2: Year: 2022-23
A3: SoP 011 –A: System Average Interruption Frequency Index (SAIFI)
A4: Sr. No | B4: Month | C4: Ni - Total no of customers for each momentary interruptions | D4: NT - Total no of customers served | H4: Past year corrosponding Month
A10: 1 | B10: 2 | C10: 3 | D10: 4 | E10: 5 | F10: 6=5/4
A11: 1 | B11: Oct' 22 | C11: 3172447 | D11: 3445410 | E11: 11285658 | F11: =E11/D11 -> 3.2755631 | H11: 3.7029497
A12: 2 | B12: Nov' 22 | C12: 3161852 | D12: 3458582 | E12: 8375291 | F12: =E12/D12 -> 2.4215968 | H12: 2.6591824
A13: 3 | B13: Dec' 22 | C13: 3182318 | D13: 3462678 | E13: 7842856 | F13: =E13/D13 -> 2.2649683 | H13: 3.3131685
D14: =SUM(D11:D13) -> 10366670 | E14: =SUM(E11:E13) -> 27503805 | F14: =E14/D14 -> 2.6530993 | H14: 3.2242768

Sheet 11B
A1: ='11A'!A1 -> Q-3(Oct-Dec-22)
A2: ='11A'!A2 -> Year: 2022-23
A3: SoP 011 – B System Average Interruption Duration Index (SAIDI)
A4: Sr. No | B4: Month | C4: ri = Restoration Time for each interruption event | D4: Ni - no of interrupted customers for each sustained interruption event | E4: ri * Ni – Total customer interruption Duration | F4: ri=Restoration Time for each interruption event | G4: Ni= No of Interrupted customers for each sustained Interruption | H4: NT - Total no of customers served | I4: Customer Interruption Duration | M4: Past year corrosponding Months
J5: MINS. | K5: HRS.
A6: 1 | B6: 2 | C6: 3 | D6: 4 | E6: 5= 3 X 4 | F6: 3 | G6: 4 | H6: 5 | I6: 6 | J6: 7=4/3 | K6: 7A | M6: MINS. | N6: HRS.
A7: 1 | B7: ='11A'!B11 -> Oct' 22 | C7: July | F7: 674254 | G7: 3172447 | H7: 3445410 | I7: 804235072 | J7: =I7/H7 -> 233.42217 | K7: 0.16180556 | M7: 297.25817 | N7: 0.20625
A8: 2 | B8: ='11A'!B12 -> Nov' 22 | C8: August | F8: 614612 | G8: 3161852 | H8: 3458582 | I8: 785896490 | J8: =I8/H8 -> 227.23084 | K8: 0.15763889 | M8: 227.72678 | N8: 0.15833333
A9: 3 | B9: ='11A'!B13 -> Dec' 22 | F9: 551485 | G9: 3182318 | H9: 3462678 | I9: 680027792 | J9: =I9/H9 -> 196.38782 | K9: 0.13611111 | M9: 236.26343 | N9: 0.16388889
G10: =SUM(G7:G9) -> 9516617 | H10: =SUM(H7:H9) -> 10366670 | I10: =SUM(I7:I9) -> 2270159354 | J10: =I10/H10 -> 218.98636 | K10: 3.64 | M10: 253.69896 | N10: 0.17638889

Sheet 11C
A1: ='[29]11A'!A1 -> Q-3(Oct-Dec-22)
A2: ='[29]11B'!A2 -> Year: 2022-23
A3: SoP 011 – C: Momentary Average Interruption Frequency Index (MAIFI)
A4: Sr. No | B4: Month | C4: Number of Momentary interruptions Imi | D4: Nmi - Total no of customers for each momentary interruptions | E4: NT - Total no of customers served | I4: Past year corrosponding Month
A5: 1 | B5: 2 | C5: 3 | D5: 4 | E5: 5 | F5: 6 | G5: 7
A6: 1 | B6: ='[29]11A'!B11 -> Oct' 22 | C6: 22671 | D6: 2982664 | E6: 3445410 | F6: 35437406 | G6: =F6/E6 -> 10.285396 | I6: 9.7870805
A7: 2 | B7: ='[29]11A'!B12 -> Nov' 22 | C7: 19245 | D7: 2935378 | E7: 3458582 | F7: 29507855 | G7: =F7/E7 -> 8.5317783 | I7: 8.8206956
A8: 3 | B8: ='[29]11A'!B13 -> Dec' 22 | C8: 17625 | D8: 2957731 | E8: 3462678 | F8: 27955571 | G8: =F8/E8 -> 8.0733961 | I8: 8.5417735
E9: =SUM(E6:E8) -> 10366670 | F9: =SUM(F6:F8) -> 92900832 | G9: =F9/E9 -> 8.9614922 | I9: 9.0491972

Sheet MG SoP - 13
B2: Name of Distribution Licensee: M G V C L
B3: ='[30]MG SoP - 06'!A2 -> Financial Year: 2022-23
B4: ='[30]MG SoP - 06'!A3 -> Quarter : Q-III (Oct-Nov-Dec-2022 )
B5: Performa SoP 013: Faulty Meters Replacement
B6: Consumer Category | C6: No. of faulty meters at the start of the quarter | D6: No. of faulty meters added during the quarter | E6: Total no. of defective / faulty Meter | F6: No. of faulty Meters repaired and replaced | G6: No of faulty meters pending at the end of the quarter | H6: Remark
C7: 1 | D7: 2 | E7: (3)=(2)+(1) | F7: 4 | G7: (5)=(3)-(4)
B8: 1 PHASE
B9: MGVCL | C9: 6469 | D9: =26017+916 -> 26933 | E9: =D9+C9 -> 33402 | F9: 26150 | G9: =E9-F9 -> 7252
B10: 3 PHASE
B11: MGVCL | C11: 1620 | D11: =3462-51 -> 3411 | E11: =C11+D11 -> 5031 | F11: 4421 | G11: =E11-F11 -> 610

Sheet MG SoP 16
A1: ='[31]MG COVER PAGE'!A1 -> Name of Distribution Licensee: M G V C L
A2: ='[32]MG COVER PAGE'!A2 -> Quarter : Q-3 (Oct-Nov-Dec- 2022)
A3: ='[31]MG COVER PAGE'!A3 -> Year: 2022-23
A4: Performa SoP 016: Compensation details
A5: COMPENSATION DETAILS
A6: Sr.No. | B6: Event | C6: Compensation | D6: No of cases where compensation was given (in numbers) | E6: Amt of compensation paid (in Rs.)
A7: 1 | B7: Duty to provide supply | C7: Rs. 50 per day of delay from the limit specified in the performance regulations | D7: 0 | E7: 0
B8: a) New Connection | D8: 0 | E8: 0
B9: b) Additional Load | D9: 0 | E9: 0
B10: c) Temporary supply | D10: 0 | E10: 0
B11: d) Shifting service connection | D11: 0 | E11: 0
B12: e)Transfer of service connection | D12: 0 | E12: 0
B13: f) Change in tariff category of consumer | D13: 0 | E13: 0
A14: 2 | B14: Complaints in billing | C14: Rs. 50 for non reply within the period prescribed in Regulations | D14: 0 | E14: 0
A15: 3 | B15: Replacement of meters | C15: LT- Rs. 25 per day of delay - maximum Rs.2,500 and HT - Rs. 250 per day of delay - maximum of Rs.5,000 | D15: 0 | E15: 0
A16: 4 | B16: Interruption of supply | C16: LT- Rs. 25 for every 6 hrs of delay- maximum of Rs. 500 and HT- Rs. 50 for every 6 hrs delay- maximum Rs. 1000/- | D16: 0 | E16: 0
A17: 5 | B17: Voltage fluctuations and complaints | C17: Rs. 50 for failure to visit or convey findings within the stipulated period | D17: 0 | E17: 0
A18: 6 | B18: Responding to consumer's complaints | C18: Rs. 25 for each day of delay- maximum Rs. 500 | D18: 0 | E18: 0
A19: 7 | B19: Grievance Handling | C19: Rs.25 for failure in handling grievance | D19: 0 | E19: 0
A20: TOTAL | D20: =SUM(D7:D19) -> 0 | E20: =SUM(E7:E19) -> 0
