Workbook
Name \1: #REF!
Name \1: #REF!
Name \1: #REF!
Name \1: #REF!
Name \2: [1]TLPPOCT!#REF!
Name \2: [1]TLPPOCT!#REF!
Name \2: [1]TLPPOCT!#REF!
Name \2: [1]TLPPOCT!#REF!
Name \a: #REF!
Name \a: #REF!
Name \a: #REF!
Name \a: #REF!
Name \b: #REF!
Name \b: #REF!
Name \b: #REF!
Name \b: #REF!
Name \p: #REF!
Name \p: #REF!
Name \p: #REF!
Name \p: #REF!
Name __1_1_1: #REF!
Name __1_1_1: #REF!
Name __1_1_1: #REF!
Name __1_1_1: #REF!
Name __2_1_1_1: #REF!
Name __2_1_1_1: #REF!
Name __2_1_1_1: #REF!
Name __2_1_1_1: #REF!
Name _1: #REF!
Name _1: #REF!
Name _1: #REF!
Name _1: #REF!
Name _1_1: #REF!
Name _1_1: #REF!
Name _1_1: #REF!
Name _1_1: #REF!
Name _1_1_1: #REF!
Name _1_1_1: #REF!
Name _1_1_1: #REF!
Name _1_1_1: #REF!
Name _1_1_1_1: #REF!
Name _1_1_1_1: #REF!
Name _1_1_1_1: #REF!
Name _1_1_1_1: #REF!
Name _1_1_1_1_1: #REF!
Name _1_1_1_1_1: #REF!
Name _1_1_1_1_1: #REF!
Name _1_1_1_1_1: #REF!
Name _1_10: #REF!
Name _1_10: #REF!
Name _1_10: #REF!
Name _1_10: #REF!
Name _1_2: #REF!
Name _1_2: #REF!
Name _1_2: #REF!
Name _1_2: #REF!
Name _1_2_1: #REF!
Name _1_2_1: #REF!
Name _1_2_1: #REF!
Name _1_2_1: #REF!

Sheet Cum sop (Extra)
A1: Name of Distribution Licensee: MGVCL
A2: Quarter | B2: 2nd | C2: Jul'25-Sept'25
A3: Break up of accident for Jul 2025
A4: Sr.No | B4: Name of Circle | C4: Departmental | E4: Outsider | H4: Total | K4: Sr.No | L4: Name of Circle | M4: Departmental | O4: Outsider | R4: Total
C5: FH | D5: NFH | E5: FH | F5: FA | G5: NFH | M5: FH | N5: NFH | O5: FH | P5: FA | Q5: NFH
A6: 1 | B6: Baroda City | H6: 0 | K6: 1 | L6: Baroda City | R6: =SUM(M6:Q6) -> 0
A7: 2 | B7: Baroda (O&M) | F7: 2 | H7: 2 | K7: 2 | L7: Baroda (O&M) | P7: 2 | R7: =SUM(M7:Q7) -> 2
A8: 3 | B8: Anand | E8: 1 | H8: 1 | K8: 3 | L8: Anand | O8: 1 | R8: =SUM(M8:Q8) -> 1
A9: 4 | B9: Godhra | C9: 1 | E9: 3(1-Pvt) | F9: 6 | G9: 2 | H9: 12(1-Pvt) | K9: 4 | L9: Godhra | M9: 1 | O9: 3 | P9: 6 | Q9: 2 | R9: =SUM(M9:Q9) -> 12
A10: 5 | B10: Nadiad | F10: 5 | G10: 1 | H10: 6 | K10: 5 | L10: Nadiad | P10: 5 | Q10: 1 | R10: =SUM(M10:Q10) -> 6
B11: TOTAL | C11: 1 | D11: 0 | E11: 4(1-Pvt) | F11: 13 | G11: 3 | H11: 21(1-Pvt) | L11: TOTAL | M11: =SUM(M6:M10) -> 1 | N11: =SUM(N6:N10) -> 0 | O11: =SUM(O6:O10) -> 4 | P11: =SUM(P6:P10) -> 13 | Q11: =SUM(Q6:Q10) -> 3 | R11: =SUM(R6:R10) -> 21
A12: Break up of accident for Aug 2025
A13: Sr.No | B13: Name of Circle | C13: Departmental | E13: Outsider | H13: Total | K13: Sr.No | L13: Name of Circle | M13: Departmental | O13: Outsider | R13: Total
C14: FH | D14: NFH | E14: FH | F14: FA | G14: NFH | M14: FH | N14: NFH | O14: FH | P14: FA | Q14: NFH
A15: 1 | B15: Baroda City | D15: 1 | E15: 1 | H15: 2 | K15: 1 | L15: Baroda City | N15: 1 | O15: 1 | R15: =SUM(M15:Q15) -> 2
A16: 2 | B16: Baroda (O&M) | E16: 1 | F16: 2 | H16: 3 | K16: 2 | L16: Baroda (O&M) | O16: 1 | P16: 2 | R16: =SUM(M16:Q16) -> 3
A17: 3 | B17: Anand | C17: 2 | E17: 2 | F17: 2 | H17: 6 | K17: 3 | L17: Anand | M17: 2 | O17: 2 | P17: 2 | R17: =SUM(M17:Q17) -> 6
A18: 4 | B18: Godhra | E18: 2(1-Pvt) | F18: 5 | H18: 7(1-Pvt) | K18: 4 | L18: Godhra | O18: 2 | P18: 5 | R18: =SUM(M18:Q18) -> 7
A19: 5 | B19: Nadiad | E19: 1 | F19: 6 | G19: 2 | H19: 9 | K19: 5 | L19: Nadiad | O19: 1 | P19: 6 | Q19: 2 | R19: =SUM(M19:Q19) -> 9
B20: TOTAL | C20: 2 | D20: 1 | E20: 7(1-Pvt) | F20: 15 | G20: 2 | H20: 27(1-Pvt) | L20: TOTAL | M20: =SUM(M15:M19) -> 2 | N20: =SUM(N15:N19) -> 1 | O20: =SUM(O15:O19) -> 7 | P20: =SUM(P15:P19) -> 15 | Q20: =SUM(Q15:Q19) -> 2 | R20: =SUM(R15:R19) -> 27
A21: Break up of accident for Sept 2025
A22: Sr.No | B22: Name of Circle | C22: Departmental | E22: Outsider | H22: Total | K22: Sr.No | L22: Name of Circle | M22: Departmental | O22: Outsider | R22: Total
C23: FH | D23: NFH | E23: FH | F23: FA | G23: NFH | M23: FH | N23: NFH | O23: FH | P23: FA | Q23: NFH
A24: 1 | B24: Baroda City | E24: 2 | H24: 2 | K24: 1 | L24: Baroda City | O24: 2 | R24: =SUM(M24:Q24) -> 2
A25: 2 | B25: Baroda (O&M) | E25: 1 | F25: 4 | H25: 5 | K25: 2 | L25: Baroda (O&M) | O25: 1 | P25: 4 | R25: =SUM(M25:Q25) -> 5
A26: 3 | B26: Anand | E26: 1 | F26: 2 | H26: 3 | K26: 3 | L26: Anand | O26: 1 | P26: 2 | R26: =SUM(M26:Q26) -> 3
A27: 4 | B27: Godhra | E27: 2 | F27: 4 | H27: 6 | K27: 4 | L27: Godhra | O27: 2 | P27: 4 | R27: =SUM(M27:Q27) -> 6
A28: 5 | B28: Nadiad | F28: 3 | G28: 1 | H28: 4 | K28: 5 | L28: Nadiad | P28: 3 | Q28: 1 | R28: =SUM(M28:Q28) -> 4
B29: TOTAL | C29: 0 | D29: 0 | E29: 6 | F29: 13 | G29: 1 | H29: 20 | L29: TOTAL | M29: =SUM(M24:M28) -> 0 | N29: =SUM(N24:N28) -> 0 | O29: =SUM(O24:O28) -> 6 | P29: =SUM(P24:P28) -> 13 | Q29: =SUM(Q24:Q28) -> 1 | R29: =SUM(R24:R28) -> 20
A31: Cummulative
A32: Sr.No | B32: Name of Circle | C32: Departmental | E32: Outsider | H32: Total | K32: Sr.No | L32: Name of Circle | M32: Departmental | O32: Outsider | R32: Total
C33: FH | D33: NFH | E33: FH | F33: FA | G33: NFH | M33: FH | N33: NFH | O33: FH | P33: FA | Q33: NFH
A34: 1 | B34: Baroda City | C34: 0 | D34: 1 | E34: 3 | F34: 0 | G34: 0 | H34: 4 | K34: 1 | L34: Baroda City | M34: =M6+M15+M24 -> 0 | N34: =N6+N15+N24 -> 1 | O34: =O6+O15+O24 -> 3 | P34: =P6+P15+P24 -> 0 | Q34: =Q6+Q15+Q24 -> 0 | R34: =SUM(M34:Q34) -> 4
A35: 2 | B35: Baroda (O&M) | C35: 0 | D35: 0 | E35: 2 | F35: 8 | G35: 0 | H35: 10 | K35: 2 | L35: Baroda (O&M) | M35: =M7+M16+M25 -> 0 | N35: =N7+N16+N25 -> 0 | O35: =O7+O16+O25 -> 2 | P35: =P7+P16+P25 -> 8 | Q35: =Q7+Q16+Q25 -> 0 | R35: =SUM(M35:Q35) -> 10
A36: 3 | B36: Anand | C36: 2 | D36: 0 | E36: 4 | F36: 4 | G36: 0 | H36: 10 | K36: 3 | L36: Anand | M36: =M8+M17+M26 -> 2 | N36: =N8+N17+N26 -> 0 | O36: =O8+O17+O26 -> 4 | P36: =P8+P17+P26 -> 4 | Q36: =Q8+Q17+Q26 -> 0 | R36: =SUM(M36:Q36) -> 10
A37: 4 | B37: Godhra | C37: 1 | D37: 0 | E37: 7(2-Pvt) | F37: 15 | G37: 2 | H37: 25(2-Pvt) | K37: 4 | L37: Godhra | M37: =M9+M18+M27 -> 1 | N37: =N9+N18+N27 -> 0 | O37: =O9+O18+O27 -> 7 | P37: =P9+P18+P27 -> 15 | Q37: =Q9+Q18+Q27 -> 2 | R37: =SUM(M37:Q37) -> 25
A38: 5 | B38: Nadiad | C38: 0 | D38: 0 | E38: 1 | F38: 14 | G38: 4 | H38: 19 | K38: 5 | L38: Nadiad | M38: =M10+M19+M28 -> 0 | N38: =N10+N19+N28 -> 0 | O38: =O10+O19+O28 -> 1 | P38: =P10+P19+P28 -> 14 | Q38: =Q10+Q19+Q28 -> 4 | R38: =SUM(M38:Q38) -> 19
B39: TOTAL | C39: 3 | D39: 1 | E39: 17(2-Pvt) | F39: 41 | G39: 6 | H39: 68(2-Pvt) | L39: TOTAL | M39: =SUM(M34:M38) -> 3 | N39: =SUM(N34:N38) -> 1 | O39: =SUM(O34:O38) -> 17 | P39: =SUM(P34:P38) -> 41 | Q39: =SUM(Q34:Q38) -> 6 | R39: =SUM(R34:R38) -> 68

Sheet MG SoP 01 (GERC)
A1: Name of Distribution Licensee: M G V C L
A2: Quarter I (Apr-25 to Jun-25)
A3: Year:2025-26
A4: Performa - SoP 001: Fatal and Non-Fatal electrical accident report
A5: NUMBER OF ACCIDENTS FOR THE 1st QUARTER OF 2025-26
A6: Sr. No | B6: Name of Area/Circle | C6: No of accidents in the quarter | H6: Cumulative since the first quarter of the current FY 2024-25
C7: Departmental | E7: Outside | H7: TOTAL
C8: FH | D8: NFH | E8: FH | F8: FA | G8: NFH | H8: FH | I8: FA | J8: NFH
A9: 1 | B9: Baroda (City) | E9: 2 | F9: 1 | H9: 2 | I9: 1
A10: 2 | B10: Baroda (O&M) | D10: 1 | E10: 8 | F10: 12 | H10: 8 | I10: 12
A11: 3 | B11: Anand | D11: 1 | E11: 4 | F11: 8 | G11: 2 | H11: 4 | I11: 8 | J11: 2
A12: 4 | B12: Godhra | E12: 6(1-Pvt) | F12: 15 | G12: 3 | H12: 6(1-Pvt) | I12: 15 | J12: 3
A13: 5 | B13: Nadiad | D13: 2 | E13: 6 | F13: 7 | G13: 1 | H13: 6 | I13: 7 | J13: 1
B14: TOTAL | C14: 0 | D14: 4 | E14: 26 (1-Pvt) | F14: 43 | G14: 6 | H14: 26 (1-Pvt) | I14: =I9+I10+I11+I12+I13 -> 43 | J14: =J9+J10+J11+J12+J13 -> 6
A15: FH – Fatal Human, FA – Fatal Animal, NFH – Non-fatal Human | G15: =C14+D14+26+F14+G14 -> 79 | J15: =26+I14+J14 -> 75
A16: PVT - Private Premises Accident.

Sheet MG COVER PAGE
A1: Name of Distribution Licensee: M G V C L
A2: Quarter : Q-I (Jul-Aug-Sep-2025)
A3: Year: 2025-26

Sheet MG SoP 01 
A1: Name of Distribution Licensee: M G V C L
A2: Quarter II (Jul-25 to Sept-25)
A3: Year:2025-26
A4: Performa - SoP 001: Fatal and Non-fatal accident report
A5: NUMBER OF ACCIDENTS FOR THE SECOND QUARTER 2025-26
A6: Sr. No | B6: Name of Area/Circle | C6: No of accidents in the quarter | H6: Cumulative since the first quarter of the current FY year
C7: Departmental | E7: Outsider | H7: Departmental | J7: Outsider
C8: FH | D8: NFH | E8: FH | F8: FA | G8: NFH | H8: FH | I8: NFH | J8: FH | K8: FA | L8: NFH
A9: 1 | B9: Baroda City | C9: 0 | D9: 1 | E9: 3 | F9: 0 | G9: 0 | I9: 1 | J9: 5 | K9: 1
A10: 2 | B10: Baroda (O&M) | C10: 0 | D10: 0 | E10: 2 | F10: 8 | G10: 0 | I10: 1 | J10: 10 | K10: 20
A11: 3 | B11: Anand | C11: 2 | D11: 0 | E11: 4 | F11: 4 | G11: 0 | H11: 2 | I11: 1 | J11: 8 | K11: 12 | L11: 2
A12: 4 | B12: Godhra | C12: 1 | D12: 0 | E12: 7 (2-Pvt) | F12: 15 | G12: 2 | H12: 1 | J12: 13(3-Pvt) | K12: 30 | L12: 5
A13: 5 | B13: Nadiad | C13: 0 | D13: 0 | E13: 1 | F13: 14 | G13: 4 | I13: 2 | J13: 7 | K13: 21 | L13: 5
B14: TOTAL | C14: =C9+C10+C11+C12+C13 -> 3 | D14: =D9+D10+D11+D12+D13 -> 1 | E14: 17 (2-Pvt) | F14: =F9+F10+F11+F12+F13 -> 41 | G14: =G9+G10+G11+G12+G13 -> 6 | H14: =H9+H10+H11+H12+H13 -> 3 | I14: =I9+I10+I11+I12+I13 -> 5 | J14: 43 (1-Pvt) | K14: =K9+K10+K11+K12+K13 -> 84 | L14: =L9+L10+L11+L12+L13 -> 12
G15: =C14+D14+F14+G14+17 -> 68 | L15: =H14+I14+43+K14+L14 -> 147
A16: FH – Fatal Human, FA – Fatal Animal, NFH – Non-fatal Human
A17: The format is to be sent quarterly

Sheet SoP 002
A1: Performa – SoP 002: Action taken report for safety measures complied for the accidents occurred
A5: 1 | B5: 2 | C5: =B5+1 -> 3 | D5: =C5+1 -> 4 | E5: =D5+1 -> 5 | F5: =E5+1 -> 6 | G5: =F5+1 -> 7 | H5: =G5+1 -> 8 | I5: =H5+1 -> 9 | J5: 5 | K5: =J5+1 -> 6 | L5: =K5+1 -> 7 | M5: =L5+1 -> 8 | N5: =M5+1 -> 9 | O5: =N5+1 -> 10 | P5: =O5+1 -> 11 | Q5: 6 | R5: =Q5+1 -> 7 | S5: =R5+1 -> 8 | T5: =S5+1 -> 9 | U5: 10 | V5: =U5+1 -> 11 | W5: =V5+1 -> 12 | X5: =W5+1 -> 13 | Y5: =X5+1 -> 14
A6: Sr. No | B6: Location of Accident and details of the victim | C6: Date of occurrence | D6: Type of Accident | E6: Installation | G6: Accident Type | J6: Cause of Accident | K6: Findings of CEI / EI / AEI | L6: Remedies suggested by CEI /EI / AEI in various cases | M6: Whether the remedy suggested is complied | N6: Action taken to avoid recurrence of such Accident | O6: CEI REPORT received YES/NO | P6: If No then , mention letter no. and date written to CEI/EI/AEI office. | Q6: Findings of CEI / EI / AEI | R6: Remedies suggested by CEI /EI / AEI in various cases | S6: Whether the remedy suggested is complied | T6: Action taken to avoid recurrence of such Accident | U6: Amount of compensation and date of compensation paid | V6: Circle office | W6: Division | X6: Sub-division | Y6: Reason
A7: 1 | B7: She Cow of Baria Rajubhai Bhratbhai,Vill-Narsingpura,Ta-Bodeli,Dist-Chotaudepur | C7: 45839 | D7: FA | J7: Cow was grazing and passing nearby line of 11kv sagva ag ht pole which is crossing with lt line of narsingpura village. Due to monsoon ht line pole tilted and touch with lt line and return current passed in line of 11kv sagva ag. At that same time cow came in contact with that pole earthing wire while grazing and got electrocuted. | Q7: Not Received yet | R7: NA | S7: NA | T7: HT Line of 11 KV Sagva AG one Span Removed near by LT line After rectification No leakage found. | U7: 15000-/ & CV NO:26 BY NEFT 06-09-2025 & Final Compensation in in process DBD/ET/600/F.C/25/4175 DT: 09-10-2025 | V7: Baroda O & M | W7: Dabhoi | X7: Sankheda
A8: 2 | B8: Pateliya Monghiben Prabhatsinh,Pateliya Faliyu,Vill-Tadva,Ta-Shahera,Dist-Punchmahal | C8: 45839 | D8: FHO | J8: A tragic incident occurred in the early morning darkness in a cyclonic-hit area, when an elderly woman lost her life due to electrocution. As per eyewitness statement, the victim had stepped out around 5:00 am to attend to a nature’s call. During this time, she accidently came into contact with a broken bare neutral wire lying on the ground, which was broken by falling of branches of baval(acacia) tree during late night cyclone with heavy and wind rain. The neutral wire had snapped from a psc po | Q8: AWAITED | R8: N/A | S8: N/A | T8: Open Bare conductor wire are replaced with LT AB cable. | U8: 100000 | V8: Godhra | W8: Godhra | X8: Sehera
A9: 3 | B9: Cow of Hardikbhai Govindbhai Desai,Vill-Itola,Ta-Vadodara,Dist-Vadodara | C9: 45841 | D9: FA | J9: During site inspection it came to knowledge that at accidently place 11 kv mahadev ag feeder is passing by. And area is found waterlogged. Due to persistent water accumulation, land become wet and soft. And as a result, psc pole tilted at place. But due to conductor support v-cross arm did not touch the ground. And feeder didn't get tripped and remain in power on condition. | Q9: Not Received yet | R9: NA | S9: NA | T9: tilted pole plumbed line stringing done. | U9: not paid | V9: Baroda O & M | W9: Jambuva | X9: Jambuva
A10: 4 | B10: Bullock of Tadvi Manubhai Madiabhai,Nishal faliuyu,Vill-Chedia,Ta-Limkheda,Dist-Dahod | C10: 45843 | D10: FA | J10: While ploughning the field the bullock came in contact with wet soil or pole where leakage power from lt pole was there. And got electrocuted | Q10: Awaited | R10: N/A | S10: N/A | T10: POLE NEW EARTHING DONE WITH EARTHING PIPE , AND NEW SCHAKLE PROVIDED CABLE BINDING WORK DONE | U10: N/A | V10: Godhra | W10: Dahod | X10: Dhanpur
A11: 5 | B11: Pathan Ajruddin Babukhan,Near Dairy,Vill-Bechri,Ta-Umreth,Dist-Anand | C11: 45843 | D11: FHO | J11: While carrying of julpukar in mahoram victim got unbalanced and the bambu of vans is contact with 11 kv line in rainy season | Q11: Not received | R11: NA | S11: NA | T11: NA | U11: NA | V11: Anand | W11: Anand | X11: Umreth R
A12: 6 | B12: Cow of Gabhubhai Laxmanbhai Bharwad,Vill-Vachawad,Ta-Kalol,Dist-Panchmahal | C12: 45845 | D12: FA | J12: On dtd. 07.07.2025 around 11:00hrs, bunch of cows of shri gabhubhai laxmanbhai bharwad were grazing at the farm of shri. Udabhai bathabhai at village vachawad. One cows of them grazing towards double pole structure of 11kv sureli agdom feeder and accidentally she got electrolucted and fell down on land and died on spot. Cause of death and detail investigation is in process. Fir copy, postmotrtem report and police panchnama reports are still awaiting from officials. | Q12: Awaited | R12: N/A | S12: N/A | T12: Broken stay Set removed | U12: 15000/14.10.2025 | V12: Godhra | W12: Vejalpur | X12: Halol
A13: 7 | B13: Patelia Jayantibhai Bhemabhai,Vill-Panchmahudi,Ta-Lunawada,Dist-Mahisagar | C13: 45848 | D13: NFHO | J13: On dated 10.07.2025 at about 11:30 am, victim shree pateliya jayantibhai bhemabhai were plowing with the help of bullocks in the farm of shree patel jayantibhai maganbhai at panchmahudiya. While plowing the filed with bullocks, sh pateliya jayantibhai bhemabhai came in cantact with an iron fence carrying electric current. The current had flown through a damaged lt abc line, via gi wire connected to the fencing. The bullocks got a shock near the fence and jumped,causing the plough to touch the li | Q13: Awaited | R13: NA | S13: NA | T13: At the place of accident, iron fencing wire disconnected from gi wire. also 4w ltbc taken outside of u clamp on psc and messanger wire binded with lt shackle insulator. | U13: Pending | V13: Godhra | W13: Lunawada | X13: Lunawada-I
A14: 8 | B14: Virabhai Kohyabhai Baria,Near forest depo,Vill-Lunawada,Ta-Lunawada,Dist-Mahisagar | C14: 45848 | D14: FHO | J14: After information received visited site but no one there (victim & other ) so,further investigated and found that on dt-10.7.2025 at about 12:pm victim was cleaning gutter line with help of iron pipe approx 15 ft length like used in mandap decoration and by mistake ,when iron pipe lifted upward side ,iron pipe might be touched with 11 kv line conductor above this gutter line and might got electrocuted and passed away at genereal hospital ,lunawada. Pm report awaited. | Q14: Awaited | R14: NA | S14: NA | T14: At The Place Of Accident Danger Board installed On Pole For Safety Awareness | U14: Pending | V14: Godhra | W14: Lunawada | X14: Lunawada-II
A15: 9 | B15: 1) Manojkumar Ravjibhai Solanki 2) Ranchhodbhai Rameshbhai Rathod,Kathlal town Bus-stand,Vill-Kathlal,Ta-Kathlal,Dist-Kheda | C15: 45848 | D15: NFHO | J15: They were doing maintenance work on hoardings. While erecting an iron pole of hoarding, it came into contact with nearby passing 11kv kathlal(town) urban feeder line and both victim got electrocuted. They were immediatly taken to kathlal civil hospital for further treatment | Q15: Awaited | R15: NA | S15: NA | T15: safety awareness programme conducted in school | U15: NA | V15: Nadiad | W15: Mehmdabad | X15: Kathlal-I
A16: 10 | B16: Shri Vallabhbhai Gangjibhai Taviyad,Nr pathar factory switch,Vill-Ranjitpura,Ta-Khanpur,Dist-Mahisagar | C16: 45845 | D16: FHD | J16: On july 7, 2025, according to incident,66 kv limbadiya substation operator the 11 kv degamda ag feeder under bakor sdn. Was under p.f at 10:28 am.then he informed to bakor fault center and k.c rathod (ea).therefore k.c. Rathod(ea) initially contacted with conference call to r.s. Patel (alm), who is working under lunawada-2 sdn, to isolate his section (nasroli switch) of the this feeder. Following the section's isolation, r.s patel (alm) replied to k.c. Rathod, who then attempted a feeder trial | Q16: Awaited | R16: NA | S16: NA | T16: Proper AB Switch Maintenance Was Done and new Pole Erthinng made at site And Rectified The Cause Of Accident | U16: NA | V16: Godhra | W16: Lunawada | X16: Bakor
A17: 11 | B17: Bullock of Fatesinh Jokhnabhai Baria,Patel Faliyu,Vill-Vadelav,Ta-Godhra,Dist-Panchmahal | C17: 45846 | D17: FA | J17: On 8.7.25 at approximately 8.00 am a bullock belonging to fatesinh jokhnabhai baria electructed while farming in field owned by shri vaghabhai somabhai patel . The bullock came into contact with earthing wire of lt line (bhamaiya jgy) conductor that had been in touch with u clamp . | Q17: Awaited | R17: N/A | S17: N/A | T17: Restringing Of LT Conductor Done And Properly Binding With Shackle Insulator. | U17: Pending | V17: Godhra | W17: Godhra | X17: Godhra R
A18: 12 | B18: Vinodbhai Vakhatbhai Baria,Mandir faliyu,Vill-Kadavia,Ta-Kalol,Dist-Panchmahal | C18: 45856 | D18: FHO(Pvt) | J18: On dtd. 18.07.2025 around 15:00hrs, late victim shri vinodbhai vakhatbhai baria was returning to his home after completion of farming work from his farm which is loacated against his home. While entering into his verandah he feel sweating and trying to turn on the ceiling fan by plugging the hanging wire into the switchboard socket. Suddenly he got electrocuted and shouted . After hearing the shouts her sister in law came fast and get seaparated him from electrical contact by using wooden stick | Q18: Awaited | R18: N/A | S18: N/A | T18: After issuance of the notice, the party has submitted a wiring OK certificate i.e TEST REPORT | U18: Pending | V18: Godhra | W18: Halol | X18: Vejalpur
A19: 13 | B19: Buffalo,Banana Muvada,Vill-Antisar,Ta-Kapadwanj,Dist-Kheda | C19: 45857 | D19: FA | J19: On dated 19.07.2025 at village antisar banana muvada 2 wire lt pole coductor passing opp the parmar rameshbhai adabhai house.out of 2 lt open wire one wire snapped form shacle isnsulator and touched with the psc pole earthing wire.so earthing wire made live wire.sunddnly buffalo came to near the psc pole and contect with this live earthing wire and buffalo diad on the spot. | Q19: Loose binding of conductor | R19: To follow Reg 14 of Regulations 2023 | S19: Yes | T19: Lt Open Wire Placed And Binding With Shackle Isulatoron Psc Pole Lt Line And Line Was Started. | U19: 30000/16.09.2025 | V19: Nadiad | W19: Mehmdabad | X19: Kapadwanj (E)
A20: 14 | B20: Calf of Mahesh Lalchand Damor,Damor faliyu,Vill-Delsar,Ta-Dahod,Dist-Dahod | C20: 45857 | D20: FA | J20: On date19.07.2025,at approximately 9:00 telephonic complaint recieved from from kamplesh damor about animal accident near arihant mill.owner had sent her buffaloes to near by field for grazing.at that time one buffalo had gone to graze near arihant mill tc structure .while grazing that one calf accidently touched incomming cable of tc ditribution box and gote electrocuted. | Q20: Awaited | R20: N/A | S20: N/A | T20: TRANSFORMER AND LTDB BOX MAINTENACE DONE | U20: NOTE LIABLE AS PER POLICE LATTER NO-4691/23.9.2025 PP NOT DONE | V20: Godhra | W20: Dahod | X20: Dahod R
... A27: 21 | B27: Cow,Vill-Uttarsanda,Ta-Nadiad,Dist-Kheda | C27: 45867 | D27: FA | J27: Cow came in contact with earthing wire which was energized due to lt 4 w abc was unbind from lt shackle & cutted lt abc was on u clamp.cow got eletrocuted and fell down &died | Q27: NO | R27: NA | S27: NA | T27: New Earthing was has been carried out by installing a PVC Pipe,and damaged portion of the LT Abc wire has been taped and properly bound with LT shackle. | U27: 15000/20.9.25 (Initial Payement done) | V27: Nadiad | W27: Nadiad City | X27: Chaklasi
A28: 22 | B28: Firozbhai I Vohra,Vill-Khorvad,Tal-Umreth,Dist-Anand | C28: Accident Date:- 08-05-2025 Became FHD Date:-08-08-25 | D28: FHD | J28: Upon receiving the complaint, Shri Firojbhai Vora visited the site to attend to the issue. At the location, two Drop Out (DO) fuses were found to be in a blown condition. While attempting to rectify the issue, it is suspected that his hand accidentally came in contact with the 11 KV side DO or its jumper, resulting in an electric shock. He fell to the ground due to electrocution. | Q28: Not received | R28: NA | S28: NA | T28: NA | U28: NA | V28: Anand | W28: Anand | X28: Anand S
A29: 23 | B29: Arjunbhai Pratapbhai Baria,Samidhas faliyu,Vill-Saniyada,Ta-Goghamba,Dist-Panchmahal | C29: 45836 | D29: FA | J29: Buffalo started rubbing against the psc pole and due to that pole got damage broken and the live lt wire came in contact with buffalo and got electrocuted | Q29: Awaited | R29: N/A | S29: N/A | T29: A new pole has been erected. | U29: Pending | V29: Godhra | W29: Halol | X29: Ghoghamba
A30: 24 | B30: Buffalo,Vill-Gopari,Ta-Desar,Dist-Vadodara | C30: 45836 | D30: FA | J30: By primary inspection at the place it come to know that while buffalo leg touching with fencing border of farm that is far away 30 feet's from lt pole as per witness statement lt abc wire cut by farm's owner direct connected to fencing border for protection against pig and buffalo leg touch it and electrocuted | Q30: Not Received yet | R30: NA | S30: NA | T30: SDO had checked, tested and verified LT pole and its earthing GI Wire at said accident location, but no any current leakage found. As well as, it is not clearly proven by their report that accident has been occurred due to MGVCL network. | U30: NA | V30: Baroda O & M | W30: Baroda O&M | X30: Desar
A31: 25 | B31: Safin Rajik Ahmed Sheikh,Vill-Vadodara,Ta-Vadodara,Dist-Vadodara | C31: 45836 | D31: FHO | J31: As per Complaint Received at Control Center, On Dtd 28/06/2025 Time 11:04 a fatal incident occurred near an electrical pole, resulting in the death of an individual due to leakage current from the pole. The victim's body was promptly shifted to SSG Hospital for a postmortem examination. The postmortem report is currently awaited for further details on the cause of death. | Q31: not received | R31: N.A. | S31: N.A. | T31: Lt dropper jumper wire removed from RSJ pole & tree cutting and maintenance done at that pole. | U31: civil suit | V31: Baroda City | W31: Vishvamitri E | X31: Khodiyarnagar
A32: 26 | B32: Bull Male,Todi faliyu,Vill-Sarswa,Ta-Fatepura,Dist-Dahod | C32: 45837 | D32: FA | J32: According To The Eyewitness Statment ,On 29.06.2025 Around 12:00Pm At Chandana Kahjibhai Mavjibhai Called The Local Wireman In Person To Report The Fatal Accident That Had Be Fallen His Bull.He Reported That The High Voltage Power Line Of 11Kv Dungar And 11Kv Salra Passed Through The Accident Site,Due To The Rain The Wire Of Simla Tree Fell On The Main Line Causing The Wire Of 11Kv Dungar And 11Kv Salra Feeder To Broken.The Bull Which Was Tied To A Teak Fence About 10Mtr Away Fell On The Bull An | Q32: Awaited | R32: N/A | S32: N/A | T32: 11KV LINE ERECTED AND MIANTENANCE WORK DONE | U32: N/A | V32: Godhra | W32: Dahod | X32: Fatepura
A33: 27 | B33: Manish Rajubhai Kharva,Ranpipli Vistar,Vill-Ankhol,Ta-Vadodara,Dist-Vadodara | C33: 45862 | D33: FHO | J33: On Date: 24.07.2025, victim along with his coworker Shri Prakash Govindbhai Parmar were working for CCTV cable laying work at Ishanti Vandan under construction site, during cable laying work victim climbed on the advertisement board of Ishanti Vandan Society which was erected under the 11 KV line of Shiv JGY feeder. As per statement of eye witness, it is possible that during cable laying work victim accidently touches the live 11 KV wire of Shiv JGY feeder and got electrocuted and fall down on e | Q33: Not Received yet | R33: NA | S33: NA | T33: Advertisement board Removed from site. | U33: not paid | V33: Baroda O & M | W33: Jambuva | X33: Khatamba
A34: 28 | B34: Hiteshbhai Rajubhai Padhiyar,Ranpipli Vistar,Vill-Anklav,Ta-Anklav,Dist-Anand | C34: 45871 | D34: FHO | J34: On date 02.08.2025 approx 15:30 hrs victim sh hiteshbhai rajubhai padhiyar was working for road by loading-unloading dust on dirt road(i.e send) by tractor with trolley he kept eleveted trolley and unloading dust suddenly he came in contact with live wire of 11 kv bhanpura ag feeder ht line hence that wire broken and fall down on tractor | Q34: CEI NOT RECEIVED/ VISIT PENDING | R34: NA | S34: NA | T34: NA | U34: NO ANY COMPENSATION PAID , COURT CASE | V34: Anand | W34: Borsad | X34: Anklav
A35: 29 | B35: Mohsinbhai Yunusbhai Vahora,Juna Char rasta, Nr BSNL,Vill-Anand,Ta-Anand,Dist-Anand | C35: 45872 | D35: FHD | J35: After site verification above said departmental fatal accident was occurred due to return power from generator at bharat sanchar nigam limited. | Q35: letter from sdn outward no:-SDR/TECH/ACCIDENT/2551 DT.:-07.08.2025report awaited. | R35: letter from sdn outward no:-SDR/TECH/ACCIDENT/2551 DT.:-07.08.2025report awaited. | S35: letter from sdn outward no:-SDR/TECH/ACCIDENT/2551 DT.:-07.08.2025report awaited. | T35: LETTER WRITTEN TO BSNL OFFICE FOR APPROVAL OF GENERATOR. | U35: NA | V35: Anand | W35: Anand City | X35: Sardar
A36: 30 | B36: Shri Jayeshbhai Bharatbhai Ninama,Vill-Vavdi Bujurg,Ta-Godhra,Dist-Panchmahal | C36: 45872 | D36: FHO(Pvt) | J36: On 03.8.25 around 8.30 pm late victim shri jayeshbhai bharatbhai ninama who was working as a labour at a newly under construction residential society named ekant . At the time of incident , he was engaged in plaster work on the interior ceiling of one of the houses in the society. While operating an electric machine for ceiling work (tanca) he accidentally came into contact with a live electric wire which was extend from existing temporary connection . Despite immediate attempts to assist him h | Q36: Awaited | R36: N/A | S36: N/A | T36: Private premises | U36: Pending | V36: Godhra | W36: Godhra | X36: Godhra R
A37: 31 | B37: Chauhan Sanjaybhai Kanjibhai,Vill-Javol,Ta-Nadiad,Dist-Kheda | C37: 45874 | D37: NFHO | J37: Unauthorized work of transformer do by victim | Q37: NO | R37: NA | S37: NA | T37: Thy have been informed that electrical work is to be carried out only by an authorized person. | U37: NA | V37: Nadiad | W37: Nadiad City | X37: Chaklasi
A38: 32 | B38: Miteshbhai Mahendrabhai Parmar,Chari Vistar,Vill-Gunthali,Ta-Balasinor,Dist-Mahisagar | C38: 45877 | D38: NFHO | J38: Accident took place on date 08.08.2025 at gunthli chari vistar while victim miteshbhai mahendrabhai parmar doing crop cutting at that time accidently he contacted with broken stay wire (either he broke or previously broken) also spotted dark burn spot on stay wire upper side and this broken stay wire touched with live 11 kv felsani ag feeder dodp jumper and got electrocuted. He reffered to baroda parul hospital and now in stable condition. During visit other eye witness was not present. | Q38: AWAITING | R38: NA | S38: NA | T38: The stay wire is newly installed.The victim was was informed to be careful near the electric structure and instructed to report is any such broken/damaged electric fittings found to the nearest Sdo. | U38: NA | V38: Nadiad | W38: Nadiad | X38: Balasinor-II
A39: 33 | B39: Buffalo,Nishal Faliyu,Vill-Nathudi,Ta-Devgadhbaria,Dist-Dahod | C39: 45879 | D39: FA | J39: The owner was grazing the buffalo on the side of the road, at that time,when it rained the buffalo run away because the rop came loose from his hard.the buffalo ran towards the tc structure and it’s leg touched to earthing wire.due to leakage current on gi wire it got electrocuted. | Q39: Awaited | R39: N/A | S39: N/A | T39: TRANSFORMER MAINTENACE DONE NEW EARTHING DONE | U39: N/A | V39: Godhra | W39: Dahod | X39: Devghad Baria
A40: 34 | B40: Cow,Nimrali Na Muvada,Vill-Dudhatal,Ta-Kapadwanj,Dist-Kheda | C40: 45881 | D40: FA | J40: On dated 12.08.2025 around 8:00 a.m cow of owner ishvarbhai merabhai parmar(age-4 years)was tied with lt psc pole through rope and all of sudden it got electric shock and died on spot. Upon investigation it has been found that 4 wire lt abc cable was fell down on u clamp and one phase insulation was damaged and in touch with lt u clamp. Due to this current circulated to earth via earthing wire live earthing wire portion as it was tied with psc pole. Through earthing pvc pipe provided in past but | Q40: Awaited | R40: NA | S40: NA | T40: New Lt Abc 4 Wire Manage And Proper Stringing With U Clamp. | U40: 1500/09.09.2025 | V40: Nadiad | W40: Memdabad | X40: Kapadwanj E
... A52: 46 | B52: Khant Maniyabhai Khatubhai,Kasor sunav road, Navapura stand,Vill-Kasor,Ta-Sojitra,Dist-Anand | C52: 45896 | D52: FHO | J52: On date 27.08.2025 m/s viviana power tech ltd agency worker started under ground dodp switch rising work under robust feeder scheme in 11 kv laxmi gidc feeder without any supervisor and information to mgvcl. Around 11:13 workers were working on the switch, and while victim maniyabhai was supplying a 20 feet pipe from the ground to the switch structure, he lost his balance, causing the pipe to touch the 11 kv ganganagar jgy line about 11 feet away, which resulted in an accident. First he shifte | Q52: Pending | R52: Pending | S52: Pending | T52: Notice Given To All Contractor Regarding Use Of Safety Article And Work In Presence Of MGVCL Supervisor Only | U52: Pending | V52: Anand | W52: Petlad | X52: Sojitra
A53: 47 | B53: Buffalo of Ravjibhai Shanabhai Vaghela,Near Primary School,Vill-Khumarvad,Ta-Kheda,Dist-Kheda | C53: 45898 | D53: FA | J53: Buffalo Was Passing Near By Transformer And May Be Came In Contact With Earthing And Due To Leakage Current Buffalo May Got Electric Shock | Q53: Awaited | R53: NA | S53: NA | U53: 15000/13.10.2025 | V53: Nadiad | W53: Memdabad | X53: Kheda
A54: 48 | B54: Buffalo,Ankhodia Faliyu,Vill-Chanchpur,Ta-Godhra,Dist-Panchmahal | C54: 45899 | D54: FA | J54: Due to heavy wind and rain one tree branch fallen on our lt line and lt conductor got broken. Standing buffalo under the lt line got electrocuted. | Q54: Awaited | R54: N/A | S54: N/A | T54: Tree cutting and restringing of conductor work done | U54: Pending | V54: Godhra | W54: Godhra | X54: Timba
A55: 49 | B55: Safin Rajik Ahmed Sheikh,Near hind logistic transport godown,At/Tal/Dist-Vadodara | C55: 45836 | D55: FHO | J55: As per Complaint Received at Control Center, On Dtd 28/06/2025 Time 11:04 a fatal incident occurred near an electrical pole, resulting in the death of an individual due to leakage current from the pole. The victim's body was promptly shifted to SSG Hospital for a postmortem examination. The postmortem report is currently awaited for further details on the cause of death. | Q55: not received | R55: N.A. | S55: N.A. | T55: Lt dropper jumper wire removed from RSJ pole & tree cutting and maintenance done at that pole. | U55: civil suit | V55: Baroda City | W55: Vishvamitri E | X55: Khodiyarnagar
A56: 50 | B56: She Buffalo (Owner Shri Kolcha Bhailalbhai Trikambhai),Vill-Bagaliya,Tal-Kawant,Dist-Chhotaudepur | C56: 45901 | D56: FA | J56: A She buffalo was return from the grazing & then suddenly she buffalo might got in touch with earthing wire of LT Pole where may be coming the leackage current / return current. Hence, it may got electrical shock & she buffalo died on the sight. | Q56: Not Received yet | R56: NA | S56: NA | T56: Maintenance work at TC Center & LT pole rectification done with PVC Pipe | U56: 15000-/ & CV NO:48 BY NEFT/ 08-10-2025 & CEI REPORT PEDNING | V56: Baroda O & M | W56: Dabhoi | X56: Koshindra
A57: 51 | B57: Shri Jayeshkumar Arjunbhai Parmar,near dairy,Vill-Sanjaya,Tal-Petlad,Dist-Anand | C57: 45901 | D57: FHO | J57: On the Date of 01.09.2025, with the help of New Paper Naya Padkar getting information that there is One Victim Whose name is Shri Jayeshkumar Arjunbhai Parmar having Age of 26 Year old Passing through the Near Dudh Dairy at Village Sanjaya with Carrying Neja i.e. Dhavaj which made of SS and accidentally it touch with 11 KV Ravli AG Feeder and he got electro inductioned. | Q57: Report not received but virbly Instructed for ground clearance during site visit | R57: Eretion of 11m RSJ Pole | S57: Report not received | T57: Safety Point of view line shifted | U57: NA | V57: Anand | W57: Anand | X57: Anand N
A58: 52 | B58: Ku.Nileshwariben Ablabhai Katara (FHO) & Smt. Chandaben Ablabhai Katara(NFHO), khobra faliya,Vill-Kaliyawad,Tal-Dhanpur,Dist-Dahod | C58: 45904 | D58: FHO | J58: At incident day Heavy rainfall with Wind occurred and Ag HT pole tilted resultant Ag HT line conductor touch to JGY LT Open Line conductor and unfortunately Nileshwari ben Ablabhai Katara touch to conductor and May be Electrocuted and his mother smt.Chandaben also Electrocuted during rescue of Nileshwari ben | Q58: Awaited | R58: N/A | S58: N/A | T58: 11KV MATVA AG FEDER NEW POLE ERECTED, 7NOS. SPAN RESTRINGING WORK DONE, AND JGY EXI 2WIRE OPEN LT CROSSING REPLACESD BY LT ABC | U58: N/A | V58: Godhra | W58: Dahod | X58: Garbada
A59: 53 | B59: She buffalo (Owner Rana Girishbhai Pratapsinh),Near dhobikuva,Vill-Jaspur,Tal-Padra,Dist-Vadoadra | C59: 45905 | D59: FA | J59: on dated 05 09 2025 at around approx 12 00 pm a buffalo belonging to mr girishbhai pratapsinh rana was strolling in his father ownership ag land nr mgvcl lt pole geo loc id 01 78332 to 02 78331, to eat grass suddenly due to heavy rain and cyclonic monsoon weather one live conductor between the lt pole snapped and fallen on ag land and buffalo accidently came in contact with that snapped live 230 v lt conductor of jaspur ag feeder eminating from 66 kv padra ss .this could have caused her to becom | Q59: Not Received yet | R59: NA | S59: NA | T59: LT ABC replaced | U59: not paid | V59: Baroda O & M | W59: Jambuva | X59: Padra-II
A60: 54 | B60: Vijaybhai Navghanbhai Bharvad,Near canal,Bh.sardarnagar,Vill-Mahemdavad,Tal-Mahemdavad,Dist-Kheda | C60: 45907 | D60: FA | J60: When Buffalo was passing under the transformer center, it was suddenly fell down and died. The Buffalo (She) might came in contact with earth wire in which minimal 35 v found during site visit. | Q60: Awaited | R60: NA | S60: NA | T60: Immediately Power Cut Off After Received Information Of Accident. Then DO Fuse Of Transformer Cut Off And Line Charged Normally. | U60: 15000/26.09.2025 | V60: Nadiad | W60: Mehmdabad | X60: Mehmdabad
A61: 55 | B61: Buffalo,Vill-Ratanpur,Tal-Matar,Dist-Kheda | C61: 45907 | D61: FA | J61: The buffalo was grazing near Lt Line at That time the LT Line conductor snapped and the buffalo came in contact with Line LT wire and electrocuted. | Q61: Awaited | R61: NA | S61: NA | T61: The Open Line Is Removed By Diverting The LT Line From Other Side , So Open LT Network Of Particular Location Is Removed. | U61: Consent Pending | V61: Nadiad | W61: Mehmdabad | X61: Kheda
A62: 56 | B62: Buffalo,Shankar nagar sim vistar,Vill-Alina,Tal-Mahudha,Dist-Kheda | C62: 45908 | D62: FA | J62: As per the site visit and invesigation,due to moonsoon season lt abc line broken and fell on the ground , causing leckage current in ground, two buffalo accidentally contact with this leackage current and were eletrocuted and there was water on the ground both buffalo died on spot | Q62: AWAITING | R62: NA | S62: NA | T62: The Owner was instructed no to graze ot tie their live stock to the electric poles.Moreover, LT AB cables are restringed. | U62: UNDER PROCESS | V62: Nadiad | W62: Nadiad | X62: Mahudha
A63: 57 | B63: Cow,Jadav faliya,Vill-Metral,Tal-Morva hadaf,Dist-Panchmahal | C63: 45910 | D63: FA | J63: On dt.10.09.25 at 08:30am a cow owned by jadav rohitsinh amarsinh was passing nearby old telephone pole behind owner's homeand during grazing near telephone pole victim cow suddenly fell down and died on the spot. Leakage current found at telephone pole due to on psc pole ab cable accidentaly came in contact with u clamp and gi wirewas binded with u clamp so leakage current passes through gi wire. Gi wire came in contact with telephone pole so cow might have died due to coming in conatact to te | Q63: Awaited | R63: N/A | S63: N/A | T63: New service wire provided and Lt Tap rol provided on LT abc cable | U63: Pending | V63: Godhra | W63: Godhra | X63: Morva Hadaf
A64: 58 | B64: Parmar Rameshbhai Damjibhai,New VIP road,At/Tal/Dist-Vadodara | C64: 45910 | D64: FHO | J64: Victim was mental. He climb transformer fencing and touch to do of 11 kv. It`s a suicide case. | Q64: not received | R64: N.A. | S64: N.A. | T64: As it is suicide case, action taken not required. | U64: documents not submitted. | V64: Baroda City | W64: Vishvamitri E | X64: Khodiyarnagar
A65: 59 | B65: Bullock of Rathod Javabhai Surtanbhai,Rathod faliyu,Vill-Uchvaniya,Tal/Dist-Dahod | C65: 45910 | D65: FA | J65: On 10.09.2025 at around 10:15 Hrs Shri Rathod Rakeshbhai Javabhai (son of owner) was going to his farm from his home with two of his bullocks for agriculture work. While passing nearby the 5kva transformer of the Uchvaniya Rathod Faliya, the second bullock while passing by the site would have got in proximity of the suspected GI wire of the Transformer earthing and got electrocuted, leading to its death on spot. Further PM Report of the victim is awaited. | Q65: Awaited | R65: N/A | S65: N/A | T65: TRANSFORMER MAINTENACE DONE, NEW EARTHING DONE | U65: N/A | V65: Godhra | W65: Dahod | X65: Dahod R2
... A74: 68 | B74: Goat,Talav faliya,Vill-Paroli,Tal-Ghoghamba,Dist-Panchmahal | C74: 45930 | D74: FA | J74: Due to earth leakage current | Q74: Awaited | R74: N/A | S74: N/A | T74: Old Deteriod Conductor Has been Removed and Replaced New ABC Cable. | U74: Pending | V74: Godhra | W74: Halol | X74: Ghoghamba

Sheet MG SoP 003 
A1: SOP 3-00B - REGISTER FOR COMPILING THE COMPLAINTS - CLASSIFIFCATION WISE
A2: ='[25]MG COVER PAGE'!A2 -> Quarter of the year : Q-II (Jul-Aug-Sept-2025-26)
A3: Name of Office : MGVCL Corporate Office
A4: Classification | B4: Nature of Complaints | C4: Pending complaints of previous qtr. | D4: Complaints received during the qtr. | E4: Total Complaints | F4: No. of Complaints redressed during the quarter. | I4: Balance Complaints to be redressed
F6: Within stipulated time. | G6: Beyond stipulated time. | H6: Total
B7: 1 | C7: 2 | D7: 3 | E7: 4=2+3 | F7: 5 | G7: 6 | H7: 7=5+6 | I7: 8=4-7
A8: A | B8: Interruption in power supply | C8: =SUM(C9:C13) -> 0 | D8: =SUM(D9:D13) -> 206272 | E8: =C8+D8 -> 206272 | F8: =SUM(F9:F13) -> 206272 | G8: =SUM(G9:G13) -> 0 | H8: =F8+G8 -> 206272 | I8: =E8-H8 -> 0
A9: I | B9: Loose connections at meter, MCB or service line or from pole | C9: 0 | D9: =[25]ANC!D9+[25]BCC!D9+[25]BRD!D9+[25]GDC!D9+[25]NDC!D9 -> 91238 | E9: =C9+D9 -> 91238 | F9: =[25]ANC!F9+[25]BCC!F9+[25]BRD!F9+[25]GDC!F9+[25]NDC!F9 -> 91238 | G9: =[25]ANC!G9+[25]BCC!G9+[25]BRD!G9+[25]GDC!G9+[25]NDC!G9 -> 0 | H9: =F9+G9 -> 91238 | I9: =E9-H9 -> 0
A10: II | B10: Interruption due to line breakdown | C10: 0 | D10: =[25]ANC!D10+[25]BCC!D10+[25]BRD!D10+[25]GDC!D10+[25]NDC!D10 -> 55121 | E10: =C10+D10 -> 55121 | F10: =[25]ANC!F10+[25]BCC!F10+[25]BRD!F10+[25]GDC!F10+[25]NDC!F10 -> 55121 | G10: =[25]ANC!G10+[25]BCC!G10+[25]BRD!G10+[25]GDC!G10+[25]NDC!G10 -> 0 | H10: =F10+G10 -> 55121 | I10: =E10-H10 -> 0
A11: III | B11: No power complaint on account of blowing of HT/ DropOut (DO)/ LT fuse | C11: 0 | D11: =[25]ANC!D11+[25]BCC!D11+[25]BRD!D11+[25]GDC!D11+[25]NDC!D11 -> 44337 | E11: =C11+D11 -> 44337 | F11: =[25]ANC!F11+[25]BCC!F11+[25]BRD!F11+[25]GDC!F11+[25]NDC!F11 -> 44337 | G11: =[25]ANC!G11+[25]BCC!G11+[25]BRD!G11+[25]GDC!G11+[25]NDC!G11 -> 0 | H11: =F11+G11 -> 44337 | I11: =E11-H11 -> 0
A12: IV | B12: Interruption due to failure of transformer or distribution transformer MCB | C12: 0 | D12: =[25]ANC!D12+[25]BCC!D12+[25]BRD!D12+[25]GDC!D12+[25]NDC!D12 -> 3397 | E12: =C12+D12 -> 3397 | F12: =[25]ANC!F12+[25]BCC!F12+[25]BRD!F12+[25]GDC!F12+[25]NDC!F12 -> 3397 | G12: =[25]ANC!G12+[25]BCC!G12+[25]BRD!G12+[25]GDC!G12+[25]NDC!G12 -> 0 | H12: =F12+G12 -> 3397 | I12: =E12-H12 -> 0
A13: V | B13: Load shedding/ schedule outages | C13: 0 | D13: =[25]ANC!D13+[25]BCC!D13+[25]BRD!D13+[25]GDC!D13+[25]NDC!D13 -> 12179 | E13: =C13+D13 -> 12179 | F13: =[25]ANC!F13+[25]BCC!F13+[25]BRD!F13+[25]GDC!F13+[25]NDC!F13 -> 12179 | G13: =[25]ANC!G13+[25]BCC!G13+[25]BRD!G13+[25]GDC!G13+[25]NDC!G13 -> 0 | H13: =F13+G13 -> 12179 | I13: =E13-H13 -> 0
A14: B | B14: Quality of power supply | C14: =SUM(C15:C19) -> 0 | D14: =SUM(D15:D19) -> 9820 | E14: =C14+D14 -> 9820 | F14: =SUM(F15:F19) -> 9820 | G14: =SUM(G15:G19) -> 0 | H14: =F14+G14 -> 9820 | I14: =E14-H14 -> 0
A15: I | B15: Ordinary case, which requires no augmentation, | C15: 0 | D15: =[25]ANC!D15+[25]BCC!D15+[25]BRD!D15+[25]GDC!D15+[25]NDC!D15 -> 5461 | E15: =C15+D15 -> 5461 | F15: =[25]ANC!F15+[25]BCC!F15+[25]BRD!F15+[25]GDC!F15+[25]NDC!F15 -> 5461 | G15: =[25]ANC!G15+[25]BCC!G15+[25]BRD!G15+[25]GDC!G15+[25]NDC!G15 -> 0 | H15: =F15+G15 -> 5461 | I15: =E15-H15 -> 0
A16: II | B16: Where augmentation is required. | C16: 0 | D16: =[25]ANC!D16+[25]BCC!D16+[25]BRD!D16+[25]GDC!D16+[25]NDC!D16 -> 2036 | E16: =C16+D16 -> 2036 | F16: =[25]ANC!F16+[25]BCC!F16+[25]BRD!F16+[25]GDC!F16+[25]NDC!F16 -> 2036 | G16: =[25]ANC!G16+[25]BCC!G16+[25]BRD!G16+[25]GDC!G16+[25]NDC!G16 -> 0 | H16: =F16+G16 -> 2036 | I16: =E16-H16 -> 0
A17: III | B17: Harmonics related issue | C17: 0 | D17: =[25]ANC!D17+[25]BCC!D17+[25]BRD!D17+[25]GDC!D17+[25]NDC!D17 -> 39 | E17: =C17+D17 -> 39 | F17: =[25]ANC!F17+[25]BCC!F17+[25]BRD!F17+[25]GDC!F17+[25]NDC!F17 -> 39 | G17: =[25]ANC!G17+[25]BCC!G17+[25]BRD!G17+[25]GDC!G17+[25]NDC!G17 -> 0 | H17: =F17+G17 -> 39 | I17: =E17-H17 -> 0
A18: IV | B18: Neutral voltage related issue | C18: 0 | D18: =[25]ANC!D18+[25]BCC!D18+[25]BRD!D18+[25]GDC!D18+[25]NDC!D18 -> 488 | E18: =C18+D18 -> 488 | F18: =[25]ANC!F18+[25]BCC!F18+[25]BRD!F18+[25]GDC!F18+[25]NDC!F18 -> 488 | G18: =[25]ANC!G18+[25]BCC!G18+[25]BRD!G18+[25]GDC!G18+[25]NDC!G18 -> 0 | H18: =F18+G18 -> 488 | I18: =E18-H18 -> 0
A19: V | B19: Voltage variations related issue | C19: 0 | D19: =[25]ANC!D19+[25]BCC!D19+[25]BRD!D19+[25]GDC!D19+[25]NDC!D19 -> 1796 | E19: =C19+D19 -> 1796 | F19: =[25]ANC!F19+[25]BCC!F19+[25]BRD!F19+[25]GDC!F19+[25]NDC!F19 -> 1796 | G19: =[25]ANC!G19+[25]BCC!G19+[25]BRD!G19+[25]GDC!G19+[25]NDC!G19 -> 0 | H19: =F19+G19 -> 1796 | I19: =E19-H19 -> 0
A20: C | B20: Meters | C20: =SUM(C21:C26) -> 0 | D20: =SUM(D21:D26) -> 27640 | E20: =C20+D20 -> 27640 | F20: =SUM(F21:F26) -> 27640 | G20: =SUM(G21:G26) -> 0 | H20: =F20+G20 -> 27640 | I20: =E20-H20 -> 0
A21: I | B21: Stopped/Defective Meters. | C21: 0 | D21: =[25]ANC!D21+[25]BCC!D21+[25]BRD!D21+[25]GDC!D21+[25]NDC!D21 -> 15104 | E21: =C21+D21 -> 15104 | F21: =[25]ANC!F21+[25]BCC!F21+[25]BRD!F21+[25]GDC!F21+[25]NDC!F21 -> 15104 | G21: =[25]ANC!G21+[25]BCC!G21+[25]BRD!G21+[25]GDC!G21+[25]NDC!G21 -> 0 | H21: =F21+G21 -> 15104 | I21: =E21-H21 -> 0
A22: II | B22: Meter accuracy test (Fast/ Slow | C22: 0 | D22: =[25]ANC!D22+[25]BCC!D22+[25]BRD!D22+[25]GDC!D22+[25]NDC!D22 -> 1106 | E22: =C22+D22 -> 1106 | F22: =[25]ANC!F22+[25]BCC!F22+[25]BRD!F22+[25]GDC!F22+[25]NDC!F22 -> 1106 | G22: =[25]ANC!G22+[25]BCC!G22+[25]BRD!G22+[25]GDC!G22+[25]NDC!G22 -> 0 | H22: =F22+G22 -> 1106 | I22: =E22-H22 -> 0
A23: III | B23: Burnt Meter | C23: 0 | D23: =[25]ANC!D23+[25]BCC!D23+[25]BRD!D23+[25]GDC!D23+[25]NDC!D23 -> 649 | E23: =C23+D23 -> 649 | F23: =[25]ANC!F23+[25]BCC!F23+[25]BRD!F23+[25]GDC!F23+[25]NDC!F23 -> 649 | G23: =[25]ANC!G23+[25]BCC!G23+[25]BRD!G23+[25]GDC!G23+[25]NDC!G23 -> 0 | H23: =F23+G23 -> 649 | I23: =E23-H23 -> 0
A24: IV | B24: Stolen Meter | C24: 0 | D24: =[25]ANC!D24+[25]BCC!D24+[25]BRD!D24+[25]GDC!D24+[25]NDC!D24 -> 0 | E24: =C24+D24 -> 0 | F24: =[25]ANC!F24+[25]BCC!F24+[25]BRD!F24+[25]GDC!F24+[25]NDC!F24 -> 0 | G24: =[25]ANC!G24+[25]BCC!G24+[25]BRD!G24+[25]GDC!G24+[25]NDC!G24 -> 0 | H24: =F24+G24 -> 0 | I24: =E24-H24 -> 0
A25: V | B25: Billing on average basis for more than two hills | C25: 0 | D25: =[25]ANC!D25+[25]BCC!D25+[25]BRD!D25+[25]GDC!D25+[25]NDC!D25 -> 5496 | E25: =C25+D25 -> 5496 | F25: =[25]ANC!F25+[25]BCC!F25+[25]BRD!F25+[25]GDC!F25+[25]NDC!F25 -> 5496 | G25: =[25]ANC!G25+[25]BCC!G25+[25]BRD!G25+[25]GDC!G25+[25]NDC!G25 -> 0 | H25: =F25+G25 -> 5496 | I25: =E25-H25 -> 0
A26: VI | B26: Meter boxes/ metering system | C26: 0 | D26: =[25]ANC!D26+[25]BCC!D26+[25]BRD!D26+[25]GDC!D26+[25]NDC!D26 -> 5285 | E26: =C26+D26 -> 5285 | F26: =[25]ANC!F26+[25]BCC!F26+[25]BRD!F26+[25]GDC!F26+[25]NDC!F26 -> 5285 | G26: =[25]ANC!G26+[25]BCC!G26+[25]BRD!G26+[25]GDC!G26+[25]NDC!G26 -> 0 | H26: =F26+G26 -> 5285 | I26: =E26-H26 -> 0
A27: D | B27: Overhead lines | C27: =SUM(C28:C29) -> 0 | D27: =SUM(D28:D29) -> 6202 | E27: =C27+D27 -> 6202 | F27: =SUM(F28:F29) -> 6202 | G27: =SUM(G28:G29) -> 0 | H27: =F27+G27 -> 6202 | I27: =E27-H27 -> 0
A28: I | B28: Loose Wires | C28: 0 | D28: =[25]ANC!D28+[25]BCC!D28+[25]BRD!D28+[25]GDC!D28+[25]NDC!D28 -> 4652 | E28: =C28+D28 -> 4652 | F28: =[25]ANC!F28+[25]BCC!F28+[25]BRD!F28+[25]GDC!F28+[25]NDC!F28 -> 4652 | G28: =[25]ANC!G28+[25]BCC!G28+[25]BRD!G28+[25]GDC!G28+[25]NDC!G28 -> 0 | H28: =F28+G28 -> 4652 | I28: =E28-H28 -> 0
A29: II | B29: Inadequate ground clearance | C29: 0 | D29: =[25]ANC!D29+[25]BCC!D29+[25]BRD!D29+[25]GDC!D29+[25]NDC!D29 -> 1550 | E29: =C29+D29 -> 1550 | F29: =[25]ANC!F29+[25]BCC!F29+[25]BRD!F29+[25]GDC!F29+[25]NDC!F29 -> 1550 | G29: =[25]ANC!G29+[25]BCC!G29+[25]BRD!G29+[25]GDC!G29+[25]NDC!G29 -> 0 | H29: =F29+G29 -> 1550 | I29: =E29-H29 -> 0
A30: E | B30: Bills | C30: =SUM(C31:C34) -> 0 | D30: =SUM(D31:D34) -> 14695 | E30: =C30+D30 -> 14695 | F30: =SUM(F31:F34) -> 14695 | G30: =SUM(G31:G34) -> 0 | H30: =F30+G30 -> 14695 | I30: =E30-H30 -> 0
A31: I | B31: For current bills where no additional information is required | C31: 0 | D31: =[25]ANC!D31+[25]BCC!D31+[25]BRD!D31+[25]GDC!D31+[25]NDC!D31 -> 9425 | E31: =C31+D31 -> 9425 | F31: =[25]ANC!F31+[25]BCC!F31+[25]BRD!F31+[25]GDC!F31+[25]NDC!F31 -> 9425 | G31: =[25]ANC!G31+[25]BCC!G31+[25]BRD!G31+[25]GDC!G31+[25]NDC!G31 -> 0 | H31: =F31+G31 -> 9425 | I31: =E31-H31 -> 0
A32: II | B32: Where additional information relating to correctness of reading etc. is required, | C32: 0 | D32: =[25]ANC!D32+[25]BCC!D32+[25]BRD!D32+[25]GDC!D32+[25]NDC!D32 -> 4236 | E32: =C32+D32 -> 4236 | F32: =[25]ANC!F32+[25]BCC!F32+[25]BRD!F32+[25]GDC!F32+[25]NDC!F32 -> 4236 | G32: =[25]ANC!G32+[25]BCC!G32+[25]BRD!G32+[25]GDC!G32+[25]NDC!G32 -> 0 | H32: =F32+G32 -> 4236 | I32: =E32-H32 -> 0
A33: III | B33: Final bill for vacation of premises/ change of occupancy | C33: 0 | D33: =[25]ANC!D33+[25]BCC!D33+[25]BRD!D33+[25]GDC!D33+[25]NDC!D33 -> 866 | E33: =C33+D33 -> 866 | F33: =[25]ANC!F33+[25]BCC!F33+[25]BRD!F33+[25]GDC!F33+[25]NDC!F33 -> 866 | G33: =[25]ANC!G33+[25]BCC!G33+[25]BRD!G33+[25]GDC!G33+[25]NDC!G33 -> 0 | H33: =F33+G33 -> 866 | I33: =E33-H33 -> 0
A34: IV | B34: Change of Tariff | C34: 0 | D34: =[25]ANC!D34+[25]BCC!D34+[25]BRD!D34+[25]GDC!D34+[25]NDC!D34 -> 168 | E34: =C34+D34 -> 168 | F34: =[25]ANC!F34+[25]BCC!F34+[25]BRD!F34+[25]GDC!F34+[25]NDC!F34 -> 168 | G34: =[25]ANC!G34+[25]BCC!G34+[25]BRD!G34+[25]GDC!G34+[25]NDC!G34 -> 0 | H34: =F34+G34 -> 168 | I34: =E34-H34 -> 0
A35: F | B35: Service connections | C35: =SUM(C36:C44) -> 0 | D35: =SUM(D36:D44) -> 17108 | E35: =C35+D35 -> 17108 | F35: =SUM(F36:F44) -> 17108 | G35: =SUM(G36:G44) -> 0 | H35: =F35+G35 -> 17108 | I35: =E35-H35 -> 0
A36: I | B36: Where extension of LT line up to 150 Metre is required | C36: 0 | D36: =[25]ANC!D36+[25]BCC!D36+[25]BRD!D36+[25]GDC!D36+[25]NDC!D36 -> 4436 | E36: =C36+D36 -> 4436 | F36: =[25]ANC!F36+[25]BCC!F36+[25]BRD!F36+[25]GDC!F36+[25]NDC!F36 -> 4436 | G36: =[25]ANC!G36+[25]BCC!G36+[25]BRD!G36+[25]GDC!G36+[25]NDC!G36 -> 0 | H36: =F36+G36 -> 4436 | I36: =E36-H36 -> 0
A37: II | B37: Where extension of LT line of more than 150 Metre and/or augmentation of distribution transformer is required | C37: 0 | D37: =[25]ANC!D37+[25]BCC!D37+[25]BRD!D37+[25]GDC!D37+[25]NDC!D37 -> 1689 | E37: =C37+D37 -> 1689 | F37: =[25]ANC!F37+[25]BCC!F37+[25]BRD!F37+[25]GDC!F37+[25]NDC!F37 -> 1689 | G37: =[25]ANC!G37+[25]BCC!G37+[25]BRD!G37+[25]GDC!G37+[25]NDC!G37 -> 0 | H37: =F37+G37 -> 1689 | I37: =E37-H37 -> 0
A38: III | B38: Where erection of new distribution transformer is required | C38: 0 | D38: =[25]ANC!D38+[25]BCC!D38+[25]BRD!D38+[25]GDC!D38+[25]NDC!D38 -> 1773 | E38: =C38+D38 -> 1773 | F38: =[25]ANC!F38+[25]BCC!F38+[25]BRD!F38+[25]GDC!F38+[25]NDC!F38 -> 1773 | G38: =[25]ANC!G38+[25]BCC!G38+[25]BRD!G38+[25]GDC!G38+[25]NDC!G38 -> 0 | H38: =F38+G38 -> 1773 | I38: =E38-H38 -> 0
A39: IV | B39: Where erection of new HT line and distribution transformer is required and/ or existing HT line network is required to be augmented. | C39: 0 | D39: =[25]ANC!D39+[25]BCC!D39+[25]BRD!D39+[25]GDC!D39+[25]NDC!D39 -> 2337 | E39: =C39+D39 -> 2337 | F39: =[25]ANC!F39+[25]BCC!F39+[25]BRD!F39+[25]GDC!F39+[25]NDC!F39 -> 2337 | G39: =[25]ANC!G39+[25]BCC!G39+[25]BRD!G39+[25]GDC!G39+[25]NDC!G39 -> 0 | H39: =F39+G39 -> 2337 | I39: =E39-H39 -> 0
A40: V | B40: Where EHT level line and/ or Sub-station is required to be erected and/ or augmented | C40: 0 | D40: =[25]ANC!D40+[25]BCC!D40+[25]BRD!D40+[25]GDC!D40+[25]NDC!D40 -> 4 | E40: =C40+D40 -> 4 | F40: =[25]ANC!F40+[25]BCC!F40+[25]BRD!F40+[25]GDC!F40+[25]NDC!F40 -> 4 | G40: =[25]ANC!G40+[25]BCC!G40+[25]BRD!G40+[25]GDC!G40+[25]NDC!G40 -> 0 | H40: =F40+G40 -> 4 | I40: =E40-H40 -> 0
A41: VI | B41: Modification in connected load | C41: 0 | D41: =[25]ANC!D41+[25]BCC!D41+[25]BRD!D41+[25]GDC!D41+[25]NDC!D41 -> 2906 | E41: =C41+D41 -> 2906 | F41: =[25]ANC!F41+[25]BCC!F41+[25]BRD!F41+[25]GDC!F41+[25]NDC!F41 -> 2906 | G41: =[25]ANC!G41+[25]BCC!G41+[25]BRD!G41+[25]GDC!G41+[25]NDC!G41 -> 0 | H41: =F41+G41 -> 2906 | I41: =E41-H41 -> 0
A42: VII | B42: Name change/reconnection/ change of category | C42: 0 | D42: =[25]ANC!D42+[25]BCC!D42+[25]BRD!D42+[25]GDC!D42+[25]NDC!D42 -> 3857 | E42: =C42+D42 -> 3857 | F42: =[25]ANC!F42+[25]BCC!F42+[25]BRD!F42+[25]GDC!F42+[25]NDC!F42 -> 3857 | G42: =[25]ANC!G42+[25]BCC!G42+[25]BRD!G42+[25]GDC!G42+[25]NDC!G42 -> 0 | H42: =F42+G42 -> 3857 | I42: =E42-H42 -> 0
A43: VIII | B43: In case connection is denied after payment against demand note | C43: 0 | D43: =[25]ANC!D43+[25]BCC!D43+[25]BRD!D43+[25]GDC!D43+[25]NDC!D43 -> 48 | E43: =C43+D43 -> 48 | F43: =[25]ANC!F43+[25]BCC!F43+[25]BRD!F43+[25]GDC!F43+[25]NDC!F43 -> 48 | G43: =[25]ANC!G43+[25]BCC!G43+[25]BRD!G43+[25]GDC!G43+[25]NDC!G43 -> 0 | H43: =F43+G43 -> 48 | I43: =E43-H43 -> 0
A44: IX | B44: Transfer of connection | C44: 0 | D44: =[25]ANC!D44+[25]BCC!D44+[25]BRD!D44+[25]GDC!D44+[25]NDC!D44 -> 58 | E44: =C44+D44 -> 58 | F44: =[25]ANC!F44+[25]BCC!F44+[25]BRD!F44+[25]GDC!F44+[25]NDC!F44 -> 58 | G44: =[25]ANC!G44+[25]BCC!G44+[25]BRD!G44+[25]GDC!G44+[25]NDC!G44 -> 0 | H44: =F44+G44 -> 58 | I44: =E44-H44 -> 0
A45: G | B45: Request for reconnection/ consumer wanting disconnection | C45: 0 | D45: =[25]ANC!D45+[25]BCC!D45+[25]BRD!D45+[25]GDC!D45+[25]NDC!D45 -> 1897 | E45: =C45+D45 -> 1897 | F45: =[25]ANC!F45+[25]BCC!F45+[25]BRD!F45+[25]GDC!F45+[25]NDC!F45 -> 1897 | G45: =[25]ANC!G45+[25]BCC!G45+[25]BRD!G45+[25]GDC!G45+[25]NDC!G45 -> 0 | H45: =F45+G45 -> 1897 | I45: =E45-H45 -> 0
A46: H | B46: Refund of amount due in regard to temporary connection | C46: 0 | D46: =[25]ANC!D46+[25]BCC!D46+[25]BRD!D46+[25]GDC!D46+[25]NDC!D46 -> 1078 | E46: =C46+D46 -> 1078 | F46: =[25]ANC!F46+[25]BCC!F46+[25]BRD!F46+[25]GDC!F46+[25]NDC!F46 -> 1078 | G46: =[25]ANC!G46+[25]BCC!G46+[25]BRD!G46+[25]GDC!G46+[25]NDC!G46 -> 0 | H46: =F46+G46 -> 1078 | I46: =E46-H46 -> 0
A47: I | B47: Street Light complaint | C47: 0 | D47: =[25]ANC!D47+[25]BCC!D47+[25]BRD!D47+[25]GDC!D47+[25]NDC!D47 -> 940 | E47: =C47+D47 -> 940 | F47: =[25]ANC!F47+[25]BCC!F47+[25]BRD!F47+[25]GDC!F47+[25]NDC!F47 -> 940 | G47: =[25]ANC!G47+[25]BCC!G47+[25]BRD!G47+[25]GDC!G47+[25]NDC!G47 -> 0 | H47: =F47+G47 -> 940 | I47: =E47-H47 -> 0
A48: J | B48: Others | C48: 0 | D48: =[25]ANC!D48+[25]BCC!D48+[25]BRD!D48+[25]GDC!D48+[25]NDC!D48 -> 21838 | E48: =C48+D48 -> 21838 | F48: =[25]ANC!F48+[25]BCC!F48+[25]BRD!F48+[25]GDC!F48+[25]NDC!F48 -> 21838 | G48: =[25]ANC!G48+[25]BCC!G48+[25]BRD!G48+[25]GDC!G48+[25]NDC!G48 -> 0 | H48: =F48+G48 -> 21838 | I48: =E48-H48 -> 0
A49: TOTAL | C49: =SUM(C48,C47,C46,C45,C35,C30,C27,C20,C14,C8) -> 0 | D49: =SUM(D48,D47,D46,D45,D35,D30,D27,D20,D14,D8) -> 307490 | E49: =SUM(E48,E47,E46,E45,E35,E30,E27,E20,E14,E8) -> 307490 | F49: =SUM(F48,F47,F46,F45,F35,F30,F27,F20,F14,F8) -> 307490 | G49: =SUM(G48,G47,G46,G45,G35,G30,G27,G20,G14,G8) -> 0 | H49: =F49+G49 -> 307490 | I49: =E49-H49 -> 0
A50: The format is to be sent quarterly The quarterly reporting of the year means reporting for the period 1st Quarter as Apr-Jun, 2nd Quarter as Jul-Sep, 3rd Quarter as Oct – Dec and 4th Quarter as Jan - Mar of the financial Year. For any other complaints not mentioned in the classification, the sequence for J can be used.

Sheet MG SoP 04
A1: ='[26]MG COVER PAGE'!A1 -> Name of Distribution Licensee: M.G.V.C.L.
A2: =#REF! -> #REF!
A3: ='[26]MG COVER PAGE'!A3 -> Year: 2025-26
A4: Performa SoP 004 : Publicity carried out while displaying the contact details of consumer complaints centers.
A5: Particulars should also cover the details of publication of “Manual of Practice for Handling Complaint/ Consumer Charter/ Complaint Charter”, consumer awareness program conducted, advertisement done through various media like TV, newspaper, radio, pamphlets & booklet distributions, Displays etc. The development of website and any medium through which public education is carried out can be included.
A7: Sr. No. (1) | B7: Actions or steps carried out by distribution licensee towards public awareness in the quarter (2) | C7: Likely number of consumers influenced (3) | D7: Details about Media (4)
D8: the Media
A9: 1 | B9: RTI Officers Name is displayed at customer care centre on each office | C9: 3718434 | D9: -
A10: 2 | B10: Necessary information regarding time schedule for new connection and solving complaints is display on the board. | C10: 3718434 | D10: -
A11: 3 | B11: Contact nos. of various officers of the company for emergency contact is also displayed at customer care centre. | C11: 3718434 | D11: Website/ News paper
A12: 4 | B12: Safety Meeting with Line Staff at various S/dn,Divisions on Every Monday (Line staff influenced) | C12: 29831 | D12: Meeting/ line staff infulenced
A13: The format is to be sent quarterly. The column 2 shall depict any steps taken by licensee in direction of consumer awareness and educating the consumer through conducting of seminars, meetings, distribution of pamphlets, through guidelines placed on website, formulating team that visit rural area educating consumers on billing, safety measures and procedures for grievance redressal, etc. The quarterly reporting of the year means reporting for the period 1st Quarter as Apr – Jun, 2nd Quarter as Jul – Sep, 3rd Quarter as Oct – Dec and 4th Quarter as Jan – Mar of the financial year.

Sheet MG SOP 05
A1: Name of Distribution Licensee: M G V C L
A2: Financial Year: 2025-26
A3: Quarter : Q-II (Jul-25 TO Sep-25)
A4: Performa SoP 005: Failure of Distribution Transformer
A5: Sr. No. | B5: Name of Circle | C5: Nos. of existing Distribution Transformers at the start of the quarter | D5: Nos. of Distribution Transformers added during the quarter | E5: Total number of Distribution Transformers on end of quarter | F5: Total number of Distribution transformer failed during quarter | G5: % failure rate of Distribution transformer
C6: A | D6: B | E6: C=A+B | F6: D | G6: H = (D)*100/C
A7: 1 | B7: Baroda O&M | C7: 63106 | D7: =E7-C7 -> 3768 | E7: 66874 | F7: 1941 | G7: =F7*100/E7 -> 2.9024733
A8: 2 | B8: Baroda City | C8: 11541 | D8: =E8-C8 -> 207 | E8: 11748 | F8: 70 | G8: =F8*100/E8 -> 0.5958461
A9: 3 | B9: Anand | C9: 28915 | D9: =E9-C9 -> 345 | E9: 29260 | F9: 828 | G9: =F9*100/E9 -> 2.8298018
A10: 4 | B10: Nadiad | C10: 37830 | D10: =E10-C10 -> 338 | E10: 38168 | F10: 968 | G10: =F10*100/E10 -> 2.5361559
A11: 5 | B11: Godhra | C11: 67376 | D11: =E11-C11 -> 3744 | E11: 71120 | F11: 2322 | G11: =F11*100/E11 -> 3.2649044
B12: MGVCL | C12: =SUM(C7:C11) -> 208768 | D12: =SUM(D7:D11) -> 8402 | E12: =SUM(E7:E11) -> 217170 | F12: =SUM(F7:F11) -> 6129 | G12: =F12/E12*100 -> 2.822213

Sheet SoP007
A1: ='MG COVER PAGE'!A1 -> Name of Distribution Licensee: M G V C L
A2: ='MG COVER PAGE'!A2 -> Quarter : Q-I (Jul-Aug-Sep-2025)
A3: ='MG COVER PAGE'!A3 -> Year: 2025-26
A4: Performa SoP 007: Sample Test result for Neutral Voltage
A6: Compliance Sample Test Report for Neutral Voltage
A7: -1 | B7: -2 | C7: -3 | D7: -4 | E7: -5 | F7: -6
A8: Sr. No | B8: Category of consumers | C8: Sample Size | D8: Standard specified in regulation | E8: Deviation of results from the sample test (Numbers) | F8: % age compliance
C9: (Numbers) | F9: (6) = (5)*100/(3)
B10: LT consumers | C10: =SUM(C11:C15) -> 1441 | D10: 2% | E10: =SUM(E11:E15) -> 0 | F10: =E10*100/C10 -> 0
A11: 1 | B11: Domestic | C11: 1023 | D11: 2% | E11: 0 | F11: =E11*100/C11 -> 0
A12: 2 | B12: Commercial | C12: 242 | D12: 2% | E12: 0 | F12: =E12*100/C12 -> 0
A13: 3 | B13: Industrial | C13: 23 | D13: 2% | E13: 0 | F13: =E13*100/C13 -> 0
A14: 4 | B14: Agricultural | C14: 143 | D14: 2% | E14: 0 | F14: 0
A15: 5 | B15: Public water works | C15: 10 | D15: 2% | E15: 0 | F15: 0
B16: HT consumers | D16: 2%
A17: 6 | B17: HT industrial | C17: 5 | D17: 2% | E17: 0 | F17: =E17*100/C17 -> 0

Sheet SoP008
A1: ='MG COVER PAGE'!A1 -> Name of Distribution Licensee: M G V C L
A2: ='MG COVER PAGE'!A2 -> Quarter : Q-I (Jul-Aug-Sep-2025)
A3: ='MG COVER PAGE'!A3 -> Year: 2025-26
A4: Performa SoP 008: Sample Test result for Voltage variations
A5: Compliance Sample Test Report for voltage variations
A6: -1 | B6: -2 | C6: -3 | D6: -4 | E6: -5
A7: Voltage Level | B7: Sample Size (numbers) | C7: Limit or prescribed standard | D7: Deviation of results from the sample test (Numbers) | E7: % age compliance
E8: (5) = (4)*100/(2)
A9: Low Voltage | B9: 56 | C9: +6% to -6% | D9: 0 | E9: =D9*100/B9 -> 0
A10: High Voltage | B10: 24 | C10: +6% to -9% | D10: 0 | E10: 0
A11: Extra High Voltage | B11: 1 | C11: +10% to -12.50% | D11: 0 | E11: 0

Sheet SoP009
A1: ='MG COVER PAGE'!A1 -> Name of Distribution Licensee: M G V C L
A2: ='MG COVER PAGE'!A2 -> Quarter : Q-I (Jul-Aug-Sep-2025)
A3: ='MG COVER PAGE'!A3 -> Year: 2025-26
A4: Performa SoP 009: Sample Test result for Harmonics
A5: Compliance Sample Test Report for Harmonics
A6: -1 | B6: -2 | C6: -3 | D6: -4 | E6: -5 | F6: -6
A7: Sr. No | B7: Category of consumers | C7: Sample size (Numbers) | D7: Limit or standard prescribed | E7: Deviation of results from the sample test (Numbers) | F7: %age compliance
F8: (6) = (5)*100/(3)
A9: 1 | B9: LT consumers | C9: 33 | D9: 0.035 | E9: 0 | F9: =E9*100/C9 -> 0
A10: 2 | B10: HT consumers | C10: 4 | D10: 0.03 | E10: 0 | F10: 0
A11: 3 | B11: EHT consumers | C11: 1 | D11: 0.03 | E11: 0 | F11: 0
A13: Note: The licensee shall also submit along with the above harmonic data, the records of customer wise drawls of harmonic currents measured at various strategic points.
A15: The formats SoP 008, SoP 009 and SoP 010 have to be sent annually.
A16: For the purpose of annual submissions, the year end has to be considered as the end of December month of a particular year.

Sheet 010
A1: Q-1 (July-Sept-25)
A2: Year: 2025-26
A3: SoP 010 – A System Average Interruption Frequency Index (SAIFI)
A4: Sr. No | B4: Month | C4: Number of Sustained Interruptions during the Reporting Period = Ai | D4: Number of Interrupted Customers for Sustained Interruption events during the Reporting Period = Ni | E4: Total number of Customers Served for the Areas = Nt | F4: Total Number of Interrupted Customers for Sustained Interruption events during the Reporting Period = Σ (Ai x Ni) | G4: SAIFI = Σ (Ai x Ni) /Nt
A5: 1 | B5: 2 | C5: 3 | D5: 4 | E5: 5 | F5: 6 = Σ (3 x 4) | G5: 7 = 6 / 5
A6: 1 | B6: =[27]Saifi!B8 -> 45839 | C6: =[27]Saifi!C8 -> 42075 | D6: =[27]Saifi!D8 -> 3266778 | E6: =[27]Saifi!E8 -> 3673760 | F6: =[27]Saifi!F8 -> 52514977 | G6: =[27]Saifi!G8 -> 14.29
A7: 2 | B7: =[27]Saifi!B9 -> 45870 | C7: =[27]Saifi!C9 -> 45841 | D7: =[27]Saifi!D9 -> 3259217 | E7: =[27]Saifi!E9 -> 3680838 | F7: =[27]Saifi!F9 -> 60960087 | G7: =[27]Saifi!G9 -> 16.56
A8: 3 | B8: =[27]Saifi!B10 -> 45901 | C8: =[27]Saifi!C10 -> 42110 | D8: =[27]Saifi!D10 -> 3249588 | E8: =[27]Saifi!E10 -> 3687829 | F8: =[27]Saifi!F10 -> 55327428 | G8: =[27]Saifi!G10 -> 15
C9: =SUM(C6:C8) -> 130026 | D9: =SUM(D6:D8) -> 9775583 | E9: =SUM(E6:E8) -> 11042427 | F9: =SUM(F6:F8) -> 168802492 | G9: =F9/E9 -> 15.28672

Sheet 011
A1: ='010'!A1 -> Q-1 (July-Sept-25)
A2: ='010'!A2 -> Year: 2025-26
A3: SoP 011 – System Average Interruption Duration Index (SAIDI)
A4: Sr. No | B4: Month | C4: Number of Sustained Interruptions during the Reporting Period = Ai (Nos) | D4: Total Outage Duration (Hr : Min) | E4: Restoration time for each Interruption Event = Ri (Hr : Min) | F4: Number of Interrupted Customers for Sustained Interruption events during the Reporting Period = Ni (Nos) | G4: Total Customer Interruption Duration = Ri x Ni (Hr : Min) | H4: Total Number of Customers Served for the Areas = Nt (Nos) | I4: Cumulative Customer Interruptions Duration = Σ(Ri x Ni) (Hr : Min) | J4: SAIDI = Σ (Ri x Ni) / Nt (Hr : Min)
A5: 1 | B5: 2 | C5: 3 | D5: 4 | E5: 5 = 4 / 3 | F5: 6 | G5: 7 = 5 x 6 | H5: 8 | I5: 9 = Σ (5 x 6) | J5: 10 = 9 /8
A6: 1 | B6: =[27]Saidi!B8 -> 45839 | C6: =[27]Saidi!C8 -> 42075 | D6: =[27]Saidi!D8 -> 20899:54 | E6: =[27]Saidi!E8 -> 0.020833333 | F6: =[27]Saidi!F8 -> 3266778 | G6: =E6*F6 -> 68057.875 | H6: =[27]Saidi!H8 -> 3673760 | I6: =[27]Saidi!I8 -> 1477137:20 | J6: =[27]Saidi!K8 -> 0.016666667
A7: 2 | B7: =[27]Saidi!B9 -> 45870 | C7: =[27]Saidi!C9 -> 45841 | D7: =[27]Saidi!D9 -> 22222:33 | E7: =[27]Saidi!E9 -> 0.020138889 | F7: =[27]Saidi!F9 -> 3259217 | G7: =E7*F7 -> 65637.009 | H7: =[27]Saidi!H9 -> 3680838 | I7: =[27]Saidi!I9 -> 1398866:28 | J7: =[27]Saidi!K9 -> 0.015972222
A8: 3 | B8: =[27]Saidi!B10 -> 45901 | C8: =[27]Saidi!C10 -> 42110 | D8: =[27]Saidi!D10 -> 20878:39 | E8: =[27]Saidi!E10 -> 0.020833333 | F8: =[27]Saidi!F10 -> 3249588 | G8: =E8*F8 -> 67699.75 | H8: =[27]Saidi!H10 -> 3687829 | I8: =[27]Saidi!I10 -> 1457025:09 | J8: =[27]Saidi!K10 -> 0.016666667
C9: =SUM(C6:C8) -> 130026 | D9: 64001:06 | E9: =SUM(E6:E8) -> 0.061805556 | F9: =SUM(F6:F8) -> 9775583 | G9: 4833471:13 | H9: =SUM(H6:H8) -> 11042427 | I9: 4333028:57 | J9: =AVERAGE(J6:J8) -> 0.016435185

Sheet 012
A1: ='010'!A1 -> Q-1 (July-Sept-25)
A2: ='011'!A2 -> Year: 2025-26
A3: SoP 012 – : Momentary Average Interruption Frequency Index (MAIFI)
A4: Sr. No | B4: Month | C4: Total Number of Momentary interruptions = Imi | D4: Total Number of Consumers affected due to Momentary Interruption Events during the Reporting Period = Nmi | E4: Number of Customer Momentary Interruptions = IMi * Nmi | F4: Total Number of Customers Served for the Areas = Nt | G4: Cumulative Momentary Customer Interruptions = Σ (Imi x Nmi) | H4: MAIFI = Σ (IMi x Nmi)/ Nt
A5: 1 | B5: 2 | C5: 3 | D5: 4 | E5: 5=3*4 | F5: 6 | G5: 7 = Σ (3 x 4) | H5: 8=7/6
A6: 1 | B6: =[27]Maifi!B8 -> 45839 | C6: =[27]Maifi!C8 -> 53027 | D6: =[27]Maifi!D8 -> 3072343 | E6: =[27]Maifi!E8 -> 162917132261 | F6: =[27]Maifi!F8 -> 3673760 | G6: =[27]Maifi!G8 -> 74602872 | H6: =[27]Maifi!H8 -> 20.31
A7: 2 | B7: =[27]Maifi!B9 -> 45870 | C7: =[27]Maifi!C9 -> 60621 | D7: =[27]Maifi!D9 -> 3081886 | E7: =[27]Maifi!E9 -> 186827011206 | F7: =[27]Maifi!F9 -> 3680838 | G7: =[27]Maifi!G9 -> 89355529 | H7: =[27]Maifi!H9 -> 24.28
A8: 3 | B8: =[27]Maifi!B10 -> 45901 | C8: =[27]Maifi!C10 -> 53327 | D8: =[27]Maifi!D10 -> 3061582 | E8: =[27]Maifi!E10 -> 163264983314 | F8: =[27]Maifi!F10 -> 3687829 | G8: =[27]Maifi!G10 -> 77612665 | H8: =[27]Maifi!H10 -> 21.05
C9: =SUM(C6:C8) -> 166975 | D9: =SUM(D6:D8) -> 9215811 | E9: =SUM(E6:E8) -> 513009126781 | F9: =SUM(F5:F8) -> 11042433 | G9: =SUM(G5:G8) -> 241571066 | H9: =G9/F9 -> 21.876616

Sheet 013
A1: ='010'!A1 -> Q-1 (July-Sept-25)
A2: ='011'!A2 -> Year: 2025-26
A3: SoP 013 – : Customer Average Interruption Duration Index (CAIDI)
A4: Sr. No | B4: Month | C4: Total Number of Sustained Interruptions during the Reporting Period = Σ Ai | D4: Total Restoration time for Interruption Events = Σ Ri (Hr : Min) | E4: Total Number of Interrupted Customers for Sustained Interruption events during the Reporting Period = Σni | F4: CAIDI=Σ (Ri x Ni) / Σ (Ai x Ni) = SAIDI/ SAIFI
A5: 1 | B5: 2 | C5: 3 | D5: 4 | E5: 5 | F5: 6 = (4 x 5) / (3 x 5)
A6: 1 | B6: =[27]Caidi!B8 -> 45839 | C6: =[27]Caidi!C8 -> 42075 | D6: 0.020833333 | E6: =[27]Caidi!E8 -> 3266778 | F6: =[27]Caidi!F8 -> 1.68
A7: 2 | B7: =[27]Caidi!B9 -> 45870 | C7: =[27]Caidi!C9 -> 45841 | D7: 0.020138889 | E7: =[27]Caidi!E9 -> 3259217 | F7: =[27]Caidi!F9 -> 1.39
A8: 3 | B8: =[27]Caidi!B10 -> 45901 | C8: =[27]Caidi!C10 -> 42110 | D8: 0.020833333 | E8: =[27]Caidi!E10 -> 3249588 | F8: =[27]Caidi!F10 -> 1.6
C9: =SUM(C6:C8) -> 130026 | D9: =SUM(D6:D8) -> 0.061805556 | E9: =SUM(E6:E8) -> 9775583 | F9: =AVERAGE(F6:F8) -> 1.5566667

Sheet MG SoP - 15
B2: Name of Distribution Licensee: M G V C L
B3: Financial Year: 2025-26
B4: Quarter : Q-II (Jul-25 TO Sep-25)
B5: Performa SoP 015: Faulty Meters Replacement
B6: Consumer Category | C6: No. of faulty meters at the start of the quarter | D6: No. of faulty meters added during the quarter | E6: Total no. of defective / faulty Meter | F6: No. of faulty Meters repaired and replaced | G6: No of faulty meters pending at the end of the quarter | H6: Remark
C7: 1 | D7: 2 | E7: (3)=(2)+(1) | F7: 4 | G7: (5)=(3)-(4)
B8: Single Phase | C8: 12662 | D8: 21386 | E8: =D8+C8 -> 34048 | F8: 27540 | G8: =E8-F8 -> 6508
B9: Three Phase | C9: 5261 | D9: 5259 | E9: =C9+D9 -> 10520 | F9: 6140 | G9: =E9-F9 -> 4380

Sheet MG SoP 16
A1: ='MG COVER PAGE'!A1 -> Name of Distribution Licensee: M G V C L
A2: ='MG COVER PAGE'!A2 -> Quarter : Q-I (Jul-Aug-Sep-2025)
A3: ='MG COVER PAGE'!A3 -> Year: 2025-26
A4: Performa SoP 016: Compensation details
A5: COMPENSATION DETAILS
A6: Sr. No. | B6: Service Area | C6: Compensation payable to | D6: Claimed | F6: Payable
C7: consumer for the period of default in case of violation of standard | D7: No. of cases | E7: Amount (Rs.) | F7: No. of cases in which compensation is payable | G7: Amount payable (Rs.) | H7: Amount paid (Rs.)
A8: 1 | B8: Registration of complaint and intimation of Unique complaint Number to the Complainant | C8: Rs. 50/- for each default | D8: 0 | E8: 0 | F8: 0 | G8: 0 | H8: 0
A9: 2 | B9: Issuance of Demand Note for New Connection, Load Enhancement, Shifting of connection at other premises, Conversion of Service, Temporary Supply, Shifting of Service Connection in exiting premises, Deviation of line and Shifting of equipments | C9: Rs. 50 for each day of default. | D9: 0 | E9: 0 | F9: 0 | G9: 0 | H9: 0
A10: 3 | B10: New Connection, Load Enhancement, Shifting of connection at other premises and Conversion of Service where no Network erection and/or augmentation is required. | C10: Rs. 50 for each day of default. | D10: 0 | E10: 0 | F10: 0 | G10: 0 | H10: 0
A11: 4 | B11: New Connection, Load Enhancement, Shifting of connection at other premises and Conversion of Service where Network erection and/or augmentation is required. | C11: Rs. 50 for each day of default. | D11: 0 | E11: 0 | F11: 0 | G11: 0 | H11: 0
A12: 5 | B12: Release of temporary supply | C12: Rs. 50 for each day of default. | D12: 0 | E12: 0 | F12: 0 | G12: 0 | H12: 0
A13: 6 | B13: Shifting of meter/services in the existing premises | C13: Rs. 50 for each day of default. | D13: 0 | E13: 0 | F13: 0 | G13: 0 | H13: 0
A14: 7 | B14: Shifting of LT/HT lines | D14: 0 | E14: 0 | F14: 0 | G14: 0 | H14: 0
A15: 8 | B15: Shifting of Transformer structures | D15: 0 | E15: 0 | F15: 0 | G15: 0 | H15: 0
A16: 9 | B16: Settlement of amount for refunding of excess amount after completion of work. | D16: 0 | E16: 0 | F16: 0 | G16: 0 | H16: 0
A17: 10 | B17: Transfer of Service Connection with respect to change of name or change of ownership | C17: Rs. 50 for each day of default. | D17: 0 | E17: 0 | F17: 0 | G17: 0 | H17: 0
A18: 11 | B18: Application from consumer requesting Change in Tariff Class/Category. | C18: Rs. 50 for each day of default. | D18: 0 | E18: 0 | F18: 0 | G18: 0 | H18: 0
A19: 12 | B19: Complaint Related to Billing | C19: Rs. 50 for each day of default. | D19: 0 | E19: 0 | F19: 0 | G19: 0 | H19: 0
A20: 13 | B20: Replacement of Meter | C20: Rs. 25/- for each day of default subject to maximum of Rs. 1500/- for LT connections and Rs. 250/- for each day of default subject to maximum of Rs. 2500/- for HT connections. | D20: 0 | E20: 0 | F20: 0 | G20: 0 | H20: 0
A21: 14 | B21: Reconnection of Supply | C21: Rs. 25/- for each six hours (or part thereof) of delay in restoration of supply subject to maximum Rs. 500/- for LT connection and Rs. 50/- for each six hours (or part thereof) of delay in restoration of supply subject to maximum Rs. 1000/- for HT connection. | D21: 0 | E21: 0 | F21: 0 | G21: 0 | H21: 0
A22: 15 | B22: More than 2 interruptions in a day to the consumer for the reasons not attributable to the nature of fault as mentioned in Clause 8.4 of these Regulations. | C22: Rs. 25/- for each interruption subject to maximum Rs. 500/- for LT connection and Rs. 50/- for each interruption subject to maximum Rs. 1000/- for HT connection. | D22: 0 | E22: 0 | F22: 0 | G22: 0 | H22: 0
A23: 16 | B23: Failure to restore power supply in case of blowing of fuse of LT side distribution transformer, at consumer premises, trouble of MCB of distribution transformer, loose connection at pole, MCB or meter, etc. | C23: Rs. 50/- per hour per Consumer for the first two hours of default. Thereafter Rs. 100/- per hour per Consumer subject to maximum of Rs. 500/- per day for LT consumer and maximum of Rs. 2000/- per day for HT consumer. | D23: 0 | E23: 0 | F23: 0 | G23: 0 | H23: 0
A24: 17 | B24: Failure to restore power supply in case of blowing of HT side fuse of distribution transformer | D24: 0 | E24: 0 | F24: 0 | G24: 0 | H24: 0
A25: 18 | B25: Failure to restore power supply in case of HT and LT line fault | D25: 0 | E25: 0 | F25: 0 | G25: 0 | H25: 0
A26: 19 | B26: Failure to restore power supply in case of Distribution transformer failure | D26: 0 | E26: 0 | F26: 0 | G26: 0 | H26: 0
A27: 20 | B27: Failure to restore power supply in case of failure of underground service or underground HT/LT cable | D27: 0 | E27: 0 | F27: 0 | G27: 0 | H27: 0
A28: 21 | B28: Scheduled Power Outage | C28: Rs. 50/- per hour per Consumer for the first two hours of default. Thereafter Rs. 100/- per hour per Consumer | D28: 0 | E28: 0 | F28: 0 | G28: 0 | H28: 0
A29: 22 | B29: Site Visit and Intimation to the Consumer about likely time to resolve the complaint related to voltage fluctuation. | C29: Rs. 200/- for each instance for each complaint. | D29: 0 | E29: 0 | F29: 0 | G29: 0 | H29: 0
A30: 23 | B30: Complaint of Neutral Voltage | C30: Rs. 250/- for each complaint | D30: 0 | E30: 0 | F30: 0 | G30: 0 | H30: 0
A31: 24 | B31: Complaint regarding Voltage variations at the point of commencement of supply. | C31: Rs. 25/- for each day of default subject to maximum of Rs. 500/- | D31: 0 | E31: 0 | F31: 0 | G31: 0 | H31: 0

Sheet MG SoP 17
A1: Performa SoP 017: Individual Complaint where Compensation has been paid (To be submitted Quarterly)
A2: Sr. No. | B2: Complaint No. | C2: Date of filing Complaint/ Automatic Compensation | D2: Consumer No. and Name and Address of the Consumer | E2: Nature of Complaint | F2: Reference Standard of Performance | G2: Amount of compensation (Rs.) | H2: Whether Compensation paid automatically or Consumer has to approach CGRF to get compensation | I2: Whether CGRF has upheld demand of Consumer of Compensation and if Yes, date of order of CGRF and date of compensation paid
B3: 0 | C3: 0 | D3: 0 | E3: 0 | F3: 0 | G3: 0 | H3: 0 | I3: 0

Sheet SOP 18
A1: 1. Unauthorised use of Electricity (2nd Quarter as Jul 25 - Sep 25)
A2: No. of cases Booked | B2: No. of cases where UUE is established by the Licensee | C2: No. of cases where appeal filed by the consumer before the Apellate Authority | D2: No. of cases decided by the Appellate Authority in favour of the the Licensee | E2: No. of cases decided by the Appellate Authority in favour of the the Consumer
A3: 406 | B3: 406 | C3: 0 | D3: 0 | E3: 0
A4: 79 | B4: 79 | C4: 0 | D4: 0 | E4: 0
A5: 78 | B5: 78 | C5: 0 | D5: 0 | E5: 0
A6: 191 | B6: 191 | C6: 2 | D6: 0 | E6: 1
A7: 190 | B7: 190 | C7: 0 | D7: 0 | E7: 0
A8: =SUM(A3:A7) -> 944 | B8: =SUM(B3:B7) -> 944 | C8: =SUM(C3:C7) -> 2 | D8: =SUM(D3:D7) -> 0 | E8: =SUM(E3:E7) -> 1
A14: Note:- | B14: The format is to be sent quarterly.
B15: The format shall include individual consumer wise details.
B16: The quarterly reporting of the year means reporting for the period 1st Quarter as Apr – Jun, 2nd Quarter as Jul – Sep, 3 rd Quarter as Oct – Dec and 4th Quarter as Jan – Mar of the financial year.

Sheet SOP 19
A4: 2. Theft of Electricity (2nd Quarter as Jul 25 - Sep 25)
A5: No. of cases Booked | B5: No. of complaints filed by the Licensee in Police Station | C5: No. of cases in which the judgement delivered by the Special Court | D5: No. of cases decided by the Special Court in favour of Licensee | E5: No. of cases decided by the Special Court in favour of Consumer
A6: 746 | B6: 746 | C6: 0 | D6: 0 | E6: 0
A7: 94 | B7: 94 | C7: 0 | D7: 0 | E7: 0
A8: 333 | B8: 333 | C8: 0 | D8: 0 | E8: 0
A9: 548 | B9: 548 | C9: 0 | D9: 0 | E9: 0
A10: 2305 | B10: 2305 | C10: 0 | D10: 0 | E10: 0
A11: =SUM(A6:A10) -> 4026 | B11: =SUM(B6:B10) -> 4026 | C11: =SUM(C6:C10) -> 0 | D11: =SUM(D6:D10) -> 0 | E11: =SUM(E6:E10) -> 0
A16: Note:- | B16: The format is to be sent quarterly.
B17: The format shall include individual consumer wise details.
B18: The quarterly reporting of the year means reporting for the period 1st Quarter as Apr – Jun, 2nd Quarter as Jul – Sep, 3 rd Quarter as Oct – Dec and 4th Quarter as Jan – Mar of the financial year.
