Workbook
Name \1: #REF!
Name \1: #REF!
Name \1: #REF!
Name \2: [1]TLPPOCT!#REF!
Name \2: [1]TLPPOCT!#REF!
Name \2: [1]TLPPOCT!#REF!
Name \a: #REF!
Name \a: #REF!
Name \a: #REF!
Name \b: #REF!
Name \b: #REF!
Name \b: #REF!
Name \p: #REF!
Name \p: #REF!
Name __1_1_1: #REF!
Name __1_1_1: #REF!
Name __2_1_1_1: #REF!
Name __2_1_1_1: #REF!
Name _1: #REF!
Name _1: #REF!
Name _1_1: #REF!
Name _1_1: #REF!
Name _1_1_1: #REF!
Name _1_1_1: #REF!
Name _1_1_1_1: #REF!
Name _1_1_1_1: #REF!
Name _1_1_1_1_1: #REF!
Name _1_1_1_1_1: #REF!
Name _1_10: #REF!
Name _1_10: #REF!
Name _1_2: #REF!
Name _1_2: #REF!
Name _1_2_1: #REF!
Name _1_2_1: #REF!
Name _1_7: #REF!
Name _1_7: #REF!
Name _1_8: #REF!
Name _1_8: #REF!
Name _1_9: #REF!
Name _1_9: #REF!
Name _10Excel_BuiltIn__FilterDatabase_10_1: #REF!
Name _10Excel_BuiltIn__FilterDatabase_10_1: #REF!
Name _11Excel_BuiltIn__FilterDatabase_11_1: #REF!
Name _11Excel_BuiltIn__FilterDatabase_11_1: #REF!
Name _12Excel_BuiltIn__FilterDatabase_9_1: #REF!
Name _12Excel_BuiltIn__FilterDatabase_9_1: #REF!
Name _13Excel_BuiltIn_Database_1: #REF!
Name _13Excel_BuiltIn_Database_1: #REF!
Name _14Excel_BuiltIn_Database_1_1: #REF!
Name _14Excel_BuiltIn_Database_1_1: #REF!
Name _15Excel_BuiltIn_Database_1_11_1: #REF!
Name _15Excel_BuiltIn_Database_1_11_1: #REF!
Name _16Excel_BuiltIn_Database_1_6_1: #REF!
Name _16Excel_BuiltIn_Database_1_6_1: #REF!
Name _2: [1]TLPPOCT!#REF!
Name _2: [1]TLPPOCT!#REF!
Name _2_1: [1]TLPPOCT!#REF!
Name _2_1: [1]TLPPOCT!#REF!
Name _2_1_1: [1]TLPPOCT!#REF!
Name _2_1_1: [1]TLPPOCT!#REF!

Sheet MG COVER PAGE
A1: Name of Distribution Licensee: M G V C L
A2: Quarter : Q-II (Jul-Aug-Sep-2023-24)
A3: Year: 2023-24

Sheet MG SoP 01 
A1: Name of Distribution Licensee: M G V C L
A2: Quarter I (Jul-23 to Sep-23)
A3: Year:2023-24
A4: Performa - SoP 001: Fatal and Non-Fatal electrical accident report
A5: NUMBER OF ACCIDENTS FOR THE 2nd QUARTER OF 2023-24
A6: Sr. No | B6: Name of Area/Circle | C6: No of accidents in the quarter | H6: Cumulative since the first quarter of the current FY 2023-24 | K6: Cumulative since the first quarter of the Last FY 2022-23
C7: Departmental | E7: Outside | H7: TOTAL | K7: TOTAL
C8: FH | D8: NFH | E8: FH | F8: FA | G8: NFH | H8: FH | I8: FA | J8: NFH | K8: FH | L8: FA | M8: NFH
A9: 1 | B9: Baroda (City) | C9: 0 | D9: 0 | E9: 2 (1-Pvt) | F9: 2 | G9: 1 | H9: 4 (1-Pvt) | I9: 2 | J9: ='[25]MG SoP 01 (Extra)'!I9+'[25]MG SoP 01 (Extra)'!L9 -> 1 | K9: 1 | L9: 0 | M9: ='[25]MG SoP 01 (Extra)'!N9+'[25]MG SoP 01 (Extra)'!Q9 -> 0
A10: 2 | B10: Baroda (O&M) | C10: 1 | D10: 2 | E10: 3 | F10: 11 | G10: 0 | H10: 6 | I10: 21 (1-Pvt) | J10: ='[25]MG SoP 01 (Extra)'!I10+'[25]MG SoP 01 (Extra)'!L10 -> 4 | K10: 6 (1-Pvt) | L10: 15 | M10: ='[25]MG SoP 01 (Extra)'!N10+'[25]MG SoP 01 (Extra)'!Q10 -> 7
A11: 3 | B11: Anand | C11: 0 | D11: 1 | E11: 3 | F11: 7 | G11: 1 | H11: 10 (3-Pvt) | I11: 11 | J11: ='[25]MG SoP 01 (Extra)'!I11+'[25]MG SoP 01 (Extra)'!L11 -> 3 | K11: 2 | L11: 3 | M11: ='[25]MG SoP 01 (Extra)'!N11+'[25]MG SoP 01 (Extra)'!Q11 -> 1
A12: 4 | B12: Godhra | C12: 0 | D12: 0 | E12: 8 (3-Pvt) | F12: 24 | G12: 0 | H12: 12 (3-Pvt) | I12: 37 (1-Pvt) | J12: ='[25]MG SoP 01 (Extra)'!I12+'[25]MG SoP 01 (Extra)'!L12 -> 1 | K12: 15 (9-Pvt) | L12: 21 (2-Pvt) | M12: ='[25]MG SoP 01 (Extra)'!N12+'[25]MG SoP 01 (Extra)'!Q12 -> 4
A13: 5 | B13: Nadiad | C13: 0 | D13: 0 | E13: 3 (1-Pvt) | F13: 9 | G13: 0 | H13: 3 (1-Pvt) | I13: 17 | J13: ='[25]MG SoP 01 (Extra)'!I13+'[25]MG SoP 01 (Extra)'!L13 -> 3 | K13: 8 (2-Pvt) | L13: 19 | M13: ='[25]MG SoP 01 (Extra)'!N13+'[25]MG SoP 01 (Extra)'!Q13 -> 8
B14: TOTAL | C14: 1 | D14: 3 | E14: 19 (5-Pvt) | F14: 53 | G14: 2 | H14: 35 (8-Pvt) | I14: 88 (2-Pvt) | J14: =SUM(J9:J13) -> 12 | K14: 32 (12-Pvt) | L14: 58 (2-Pvt) | M14: =SUM(M9:M13) -> 20
A15: FH – Fatal Human, FA – Fatal Animal, NFH – Non-fatal Human | G15: =C14+D14+19+F14+G14 -> 78 | J15: =35+88+J14 -> 135 | M15: =32+58+M14 -> 110
A16: PVT - Private Premises Accident.

Sheet SoP 02
A1: Performa – SoP 003: Action taken report for safety measures complied for the electrical accidents occurred
A3: ACTION TAKEN REPORT FOR SAFETY MEASURES COMPLIED FOR THE ELECTRICAL ACCIDENTS OCCURED IN THE FOURTH QUARTER OF FY 2023-24
A5: 1 | B5: 2 | E5: 3 | F5: 4 | L5: 5 | M5: 6 | N5: 7 | O5: 8 | P5: 9 | Q5: 10
A6: Sr. No | B6: Location of Accident and details of the victim | C6: Address | D6: sdn | E6: Date of occurrence | F6: Type of Accident | G6: Installation | I6: Accident Type | L6: Cause of Accident | M6: Findings of CEI / EI / AEI | N6: Remedies suggested by CEI /EI / AEI in various cases | O6: Whether the remedy suggested is complied | P6: Action taken to avoid recurrence of such Accident | Q6: Circle office | R6: Reason
A7: 1 | B7: Pitamsinh Babusinh,Sureli Bechri Road,Vill-Sureli,Ta-Umreth,Dist-Anand | E7: 45099 | F7: FHO | L7: BIG CONTAINER WAS PASSING THROUGH SURELI BECHRI ROAD AND ACCIDENTLY CAME IN TOUCH WITH 11 KV DHULETA JGY FEEDER AND DRIVER GOT ELCTROCULATED | M7: Awaited | N7: NA | O7: NA | P7: V EXTENSION PROVIDED HIGHT MAINTAINED | Q7: Anand | R7: 6
A8: 2 | B8: 2 bullock of Jasu Pratap Baria,vakasiya mal falia,Vill-Vakasiya,Tal-Dhanpur,Dist-Dahod | E8: 45108 | F8: FA | L8: DUE TO CONTACT OF UNCHARGED 11KV LINE WITH LT LINE OF JGY , AND 11KV UNCHARGED LINE CONDUCTOR KEPT ON GROUND , BULLLICK CAME IN CONTACT WITH LIVE WIRE AND DIED | M8: Awaited | N8: NA | O8: NA | P8: THE LOCATION IS RECTIIFED AND STRINGING AND BINDING OF UNCHARGED WIRE IS CARRIED OUT. | Q8: Godhra | R8: 2
A9: 3 | B9: Buffalo,Dakaniya,Vill-Othvad,Tal-Balasinor, Dist-Mahisagar | E9: 45109 | F9: FA | L9: HERD OF BUFFALO WAS PASSING BY VILLAGE TC AS PER ROUTINE. ONE BUFFALO SUDDENLY FALL ON GROUND AND DIED ON SPOT. AS PER TALK WITH OWNER, BUFFALO TOUCHED THE METAL DB AND DIED, DURING SITE VISIT NO LEAKAGE CURRENT WAS FOUND AT ANY POINT ON TC STRUCTURE. | M9: YES | N9: To follow Regulation Act 2010 Sr No. 12 and 13 | O9: Yes | P9: AT THE TIME OF DEATIL INVESTIGATION NO CAUSE FOUND OF LEAKE CURRENT | Q9: Nadiad | R9: 2
A10: 4 | B10: Bullock,Tandi faliyu, Vill-Agarwada, Tal-MORVAHADAF, Dist-Panchmahal | E10: 45110 | F10: FA | L10: Due to aging effect there is a possibility that insulation of LT AB cable got damaged so contacted with GI wire of LT pole earthing and leakage current flow to wet ground. | M10: Awaited | N10: NA | O10: NA | P10: LT ABC replaced & Necessary Line Maintance done. | Q10: Godhra | R10: 2
A11: 5 | B11: FEMALE HORSE OF RAVJIBHAI PATANWADIYA,NEAR SAWMILL,Vill-ANKHI,Tal/Dist-Vadodara | E11: 45110 | F11: FA | L11: INSULATION OF AB CABLE WAS DAMAGED, AND CONDUCTER SCRUB WITH RSJ POLE. | M11: Awaited | N11: NA | O11: NA | P11: Pipe provided on earthing wire and maintenance of TC. | Q11: Baroda O&M | R11: 2
A12: 6 | B12: DINESHBHAI PARVATBHAI BARIA,DAYRA FALIYU,B/H. IOC PETROL PUMP EXTENDED PREMISES,Vill-WAGJHIPUR, Tal-Shahera, Dist-PANCHMAHAL | E12: 45111 | F12: FHO | L12: VICTIM WAS LOADING TRACTOR TROLLY WITH CIVIL CONSTRUCTION CENTING MATERIAL,SAND,LONG IRON ROADS ETC. TRACTOR WAS PARKED UNDER 11 KV SARADIYA JGY FEEDER OVERHEAD HT LINE AND DURING THE WORK ONE IRON ROAD APPROX. 10 FEET LONG, VICTIM HOLDING IN HIS HAND ACCIDENTILY COME IN CONTACT WITH LIVE HT LINE AND GOT ELECTROCUTED DUE TO HIS NEGLIGENCE AND INATTENTION | M12: YES | N12: NA | O12: NA | P12: Necessary Line Maintance done. | Q12: Godhra | R12: 6
A13: 7 | B13: Cow owner Name Bharwad Bhanabhai Bhikhabhai,Haripura Lat, Vill-Motipura, Tal-Khambhat, Dist-Anand | E13: 45111 | F13: FA | L13: Fatal Animal accident occurred on dated 05.07.23 time approx. 15:00 hours, During visit at site on Dtd 05.07.23,it is found that the accident took place on the 11KV Malu AG feeder at DO DP Structure having location No.075/15/9 While grazing on farm ,A Cow was scratching with stay wire cause it might have been pulled slightly , due to this upper part of stay wire touched to DO fuse jumper and current may have passed on stay and cow got electrocuted and died on the spot. | M13: Awaited | N13: NA | O13: NA | P13: new stay wire porvided & new jumper provided | Q13: Anand | R13: 2
A14: 8 | B14: Buffalo,Nr Darjipura Prathmik School,Vill-Darjipura,Ta/Dist-Vadodara | E14: 45113 | F14: FA | L14: Fatal animal electrical accident, the buffalo was passing near the LT Line pole, where she must have contact with earthing wire of pole, the leakage current must have caused the accident death of that buffalo. | M14: Awaited | N14: NA | O14: NA | P14: New Service Provided and Open LT line converted to LT ABC | Q14: Baroda City | R14: 2
A15: 9 | B15: COW,OPP. KEDI TEMPLE,Vill-KEDI,Ta-Balasinor,Dist-Mahisagar | E15: 45113 | F15: FA | L15: COW CAME IN CONTACT WITH RSJ POLE RUNNING 4W LT ABC. INSULATION OF LT ABC GOT DAMAGED DUE TO FRICTION DURING CYCLONIC WINDS. SO CURRENT LEAKED FROM DAMAGED INSULATION TO U CLAMP TO GROUND. | M15: YES | N15: To follow Regulation Act 2010 Sr No. 12 and 13 | O15: Yes | P15: DAMAGE PORTION OF LT ABC CABLE REPLACE | Q15: Nadiad | R15: 2
A16: 10 | B16: Cow of Shri Bharvad Rahulbhai Laxmanbhai,In the farm of Shri Dolatsinh Nathusinh Thakor,Vill-Vyasda,Ta-Kalol,Dist-Panchmahal | E16: 45114 | F16: FA | L16: At location no.3 of LT line of the AG transformer of Village. Vyasda Y phase conductor release from shackle insulator and touched to U-Clamp and thus leakage current started to flow from neutral wire of transformer center. Victim came in contact with neutarl wire got electrocuted and met with fatal electrical accident. | M16: Awaited | N16: NA | O16: NA | P16: Y Phase conductor relocate at shackel insulatore and maintanance done. | Q16: Godhra | R16: 2
A17: 11 | B17: LAXMANBHAI LALLUBHAI BHIL,NAVINAGARI,OPP GWSSB PLANT,Vill-Sadhali,Ta-Sinor,Dist-Vadodara | E17: 45114 | F17: FHO | L17: The victim was trying to fix long round pipe on top of tempo trailer.While doing so pipe came in contact with 11 kv live line conductor and got electrocuted. | M17: Awaited | N17: NA | O17: NA | P17: due to negligance of victim | Q17: Baroda O&M | R17: 6
A18: 12 | B18: BAFALLO,NR BALETIYA SEEM BUBEN KOTAL DELHI MUMBAI EXPRESSWAY,Vill-BALETIYA,Ta-Kalol,Dist-Panchmahal | E18: 45115 | F18: FA | L18: As Per Eyewitness Statement Bafallo Trying To Eat Grass Around LT Pole And Touched To Pole And Get Electric Shock And Dead At The Momment | M18: YES/1032/04.09.2023 | N18: follow the CEA regulation-2010 - regulation no. 12 | O18: NA | P18: LT Wire Coated And Restringing With Lt Shackel Insulator | Q18: Godhra | R18: 2
A19: 13 | B19: UNKNOWN,SHREEJI PARTY PLOT,Vill/Tal/Dist-Vadodara | E19: 45116 | F19: FHO-Pvt | L19: THERE IS 80KW LT CONNECTION IS GIVEN TO SHREEJI PARTY PLOT.40/200A METER IS INSTALLED NEARER TO 100KVA SHREEJI PARTY PLOT TC.150SQMM LT CABLE PASSING THROUGH METER IS CONNECTED TO 70 SQMM LOAD SIDE LT CABLE. DISTRIBUTION OF POWER INSIDE PREMISES OF SHREEJI PARTY PLOT IS DONE THROUGH 50SQMM LT CABLES. ONE END OF THE LOAD SIDE LIVE 16SQMM LT UG CALBE CONNECTED TO THE LT BUSBAR. SECOND END OF 16SQMM LT UG CABLE IS CONNECTED TO THE MCB INSTALLED INSIDE THE SMC BOX AFFIXED ON IRON TOWER.SAID 16SQMM | M19: Awaited | N19: NA | O19: NA | P19: Circuit-wise ELCB provided on load side wiring of consumer. | Q19: Baroda City | R19: 8
A20: 14 | B20: Kaliben Dineshbhai,Vill/Tal/Dist-Dahod | E20: 45116 | F20: FHO-Pvt | M20: Awaited | N20: NA | O20: NA | P20: NO ANY LEAKAGE CURRENT WAS FOUND.AS THE ACCIDENT HAPPENED DUE TO FAULTY WIRING ON CONSUMER'S SIDE, THE CONNECTION WAS DISCONNECTED. | Q20: Godhra | R20: 8
A21: 15 | B21: COW,HADIYA VISTAR,Vill-BUDHEJ, Tal-Tarapur, Dist-Anand | E21: 45117 | F21: FA | L21: AT ABOVE LOCATION APPROXIMATE 20 COWS ARE PASSSING FOR GRAZING WITH OWNER ACCIDENTALY AMONG ALL COWS ONE COWS CAME INTO CONTACT WITH LT LINE POLE APPROX. 1 METER AWAY. DUE TO HEAVY WIND AND RAIN INSULATION DAMAGED OF LT ABC SINGLE PHASE TWO WIRE ALSO SLIPPED AND TOUCHED TO C CLAMP OF LT LINE AND ALSO TOUCHES TO THE GI WIRE,SO THAT LEAKAGE EARTH CURRENT COW MAY BE DEAD.(PM REPORT AWAITED) | M21: Awaited | N21: NA | O21: NA | P21: restringing of abc & rectification of gi wire | Q21: Anand | R21: 2
A22: 16 | B22: Solanki Ashokbhai Motibhai,Vill-moxi padhro,Ta-Savli,Dist-Vadodara | E22: 45120 | F22: FA | L22: 13-07-2023 at 17:15 hrs visited site and prepared panchnama. Information received at office by S.N.Baranda (EA) that incident happened due to leakage current passing through earth wire via D clamp of LT ABC (1 phase-2 wire) cable in LT pole and buffalo was passed near pole and got electrocuted. | M22: Awaited | N22: NA | O22: NA | P22: Replacement of insulator with stringing of LT Line to avoid accident. | Q22: Baroda O&M | R22: 2
A23: 17 | B23: BUFFALO OF OWNER SHRI BARIA GULABSINH BHOPATSINH,NISHAL FALIYA,Vill-SURBAR,Ta-Halol,Dist-Panchmahal | E23: 45123 | F23: FA | L23: WHILE ITICHING AT DISTRIBUTION BOX TC WHILE POWER ON POSITION ACCIDENTLY CAME CONTACT TO LIVE PART | M23: Awaited | N23: NA | O23: NA | P23: Distribution box in New kit kat fuse provided, GI EARHING done by insulation pipe. | Q23: Godhra | R23: 2
A24: 18 | B24: Murtujakhan Sikandarkhan Pathan,Saiyad Farm, Vill-Vansar,Ta-Matar,Dist-Kheda | E24: 45123 | F24: FHO-Pvt | L24: Victim came in contact which iron fensing of said garden. which was carring the current due leakage in fancy lights installed on fensing. | M24: Awaited | N24: NA | O24: NA | P24: The Connection Was Disconnected And Consumer Was Served Notice To Provide New Test Report Along With Proper ELCB/RCCB Installation. | Q24: Nadiad | R24: 8
A25: 19 | B25: AJITKUMAR RAYJIBHAI PARMAR,Vill-JITPURA(SARNEJ),Ta- Waghodia,Dist- vadodara | E25: 45124 | F25: FA | L25: AS PER PRIMARY INVESTIGATION REPORT,IT IS FOUND THAT WHEN BUFFALO WAS PASSING FROM CANAL ROAD TO FARM ,ITS TAIL TOUCHED THE EARTHING WIRE OF TC WHERE LEAKAGE CURRENT PASSED SO BUFFALO GOT ELECTROCUTED | M25: Awaited | N25: NA | O25: NA | P25: Maintanance done- Transformer erthing reactivated | Q25: Godhra | R25: 2
A26: 20 | B26: CHUNARA ASHOKBHAI MANGALBHAI,Vill-moxi padhro,Ta-Savli,Dist-Vadodara | E26: 45124 | F26: FA | L26: The 11 KV line situated at clay mountain hilly area and tapping of 11 kv line span sag is lying between mountain height and at ground level of area. So, the incident occured beacuse of less ground clearance of 11 kv HT line due to uneven ground level and heavy sag of conductor between two poles. At that time buffalo was eating grass at hilly mountain area under line and got electrocuted | M26: Awaited | N26: NA | O26: NA | P26: New pole erected for maintaining ground clearance | Q26: Baroda O&M | R26: 2
A27: 21 | B27: Pagi Vajabhai Girdharbhai'S buffalo,Pruthvisinh Deepsinh Solanki‘s Farm OPP bapu faliyu,Vill-CHAPARI MUVADA,Ta-Lunawada,Dist-Mahisagar | E27: 45125 | F27: FA | L27: On That Location 11 KV Degamda Agdom Feeder And it’s 3P4W ABC Cable Cross Each Other And That Location 8meter Psc Pole Carrie At Top Guarding & Below Lt Line Of 11 KV Degamda Agdom Feeder 3P4W ABC Cable. That Both Line Passed through Pruthvisinh Deepsinh Solanki‘S Farm .Due To Corrosion Of Guarding Wire Was Broken At That Location So LT of 3P4W ABC Touch With Guarding Wire. Due To Insulation Of ABC Cable Damaged And Punctured Then This Power Passed Through Guarding Wire. Unfortunately This Ti | M27: Awaited | N27: NA | O27: NA | P27: NEW LT ABC PROVIDED | Q27: Godhra | R27: 2
A28: 22 | B28: Bharvad Ramabhai Devabhai,Vill-Poicha,Ta-Savli,Dist-Vadodara | E28: 45125 | F28: FA | L28: On dtd: 18-07-2023 at 17:30hrs visited site and prepared panchnama. Information received from local resident Shri Ashokbhai R Bhoi. The incident happened on LT ABC(1ph2w) cable which came out of from LT insulator and got stuck on D clamp of pole,leakage current was passing from the GI earth wire in to ground. At that time claves were passing near by pole and it touched the earth wire and got electrocuted. | M28: Awaited | N28: NA | O28: NA | P28: Replacement of insulator with stringing of LT Line to avoid accident. | Q28: Baroda O&M | R28: 2
A29: 23 | B29: COW,Chapariya,Vill-Nadisar,Ta-Godhra,Dist-Panchmahal | E29: 45126 | F29: FA | L29: owner of cow Name-Bharwad babubhai popatbhai, - Due to LT pole broken of Nadisar AG Feeder (before 3days), LT open wire line snapped and jumper of LT line was cut. At that location crossing of LT and HT line is there. The cow was touch to snap LT line at that time at crossing birds were flew from line and HT line touch to LT line. Due to induction power came and got electrocuted and cow died at the spot. | M29: Awaited | N29: NA | O29: NA | P29: LT ABC provided in crossing & Necessary Line Maintance done. | Q29: Godhra | R29: 1
A30: 24 | B30: DITABHAI LUNJABHAI GARASIYA,TIMARAN FALIYA,Vill-SAGADAPADA,Tal-FATEPURA, Dist-Dahod | E30: 45128 | F30: FHO | L30: AS PER PRIMARY INFORMATION VICTIM WAS WORKING IN HIS FARM AT TIMARAN FALIYA VILL SAGADAPADA TA FATEPURA,AS PER EYE WITENESS STATEMENT VICTIM ACCIDENTALY COME IN CONTACT WITH STAY WIRE OF PSC POLE OBJECT NEARBY AND GET THE ELECTRICAL SHOCK AND VICTIM DIED WHILE APPROCHING TO THE HOSPITAL. | M30: Awaited | N30: NA | O30: NA | P30: THE LOCATION IS RECTIIFED AND STRINGING AND BINDING OF UNCHARGED WIRE IS CARRIED OUT. | Q30: Godhra | R30: 2
A31: 25 | B31: COW,NR. ADA TALAVDI,Vill-CHHANI,Ta-Vadodara,Dist-Vadodara | E31: 45129 | F31: FA | L31: WHILE PASSING VERY NEAR TO TRANS CENTRE, DUE TO LAND FILLED WITH WATER THERE MIGHT BE MINOR LEAKAGE IN NEUTRAL OF TC GOT ELECTROCUTED AND GOT DEATH BECAUSE OF STEP POTENTIAL | M31: Awaited | N31: NA | O31: NA | P31: Rectification of transformer center is done and new earthing provided. | Q31: Baroda O&M | R31: 2
A32: 26 | B32: BUFFALO,PATELIYA FALIYU,Vill-NANA DOKVA,Ta-Lunavada,Dist-Mahisagar | E32: 45130 | F32: FA | L32: A Fatal Animal Accident Occurred to Buffalo on Dtd:23.07.2023, At approximetaly 12:15hrs. Telephonic message received on sub division complain centre number that a Buffalo of Shri. Pateliya Bhemabhai Motibhai got electrical shock and died. on the spot feeder made off from sub station and after site visited by line staff and cut off power supply after feeder made on from sub station and on the same day on dtd 23.07.2023 at 14:00 in afternoon site visit by officer and employees and found Buffalo w | M32: Awaited | N32: NA | O32: NA | P32: Tree cutting work done and Repair of Cable | Q32: Godhra | R32: 2
... A48: 42 | B48: Buffallow of Shri Parthavbhai Dhulabhai Gohel, opp Panchayat office New Koshiyal, Tal-Matar, Dist-Kheda | E48: 45150 | F48: FA | L48: Buffallow of Parthavbhai Dhulabhai Patel Grassing and Suddenly Fall Down on The earth Near TC due to Leackage Current In the earthing wire and died due to Electric shock | M48: Awaited | N48: NA | O48: NA | P48: Transformer Maintenace Carried Out And New Earthing Provided | Q48: Nadiad | R48: 2
A49: 43 | B49: BUFFELO, NEAR BHUDHABHAI KHODHABHAI PARMAR KUVA, Vill-Kinkhlod, Tal-Borsad, Dist-Anand | E49: 45152 | F49: FA | L49: NEAR DP STRUCTURE BUFFALO GONE TO DRINK WATER EARTHING WIRE TOUCH WITH BODY LEFT SIDE AND VICTIN GOT ELECTROCUTED. | M49: 11 kv line conductor touched with earthing wire due to loose span | P49: new earthing done and line stringing done as per regulation | Q49: Anand | R49: 2
A50: 44 | B50: DODIYAR PARVAT MASHRU, Vill-bamroli, Tal-Shahera, Dist-PMS | E50: 45157 | F50: FHO-Pvt | L50: AS PER STATEMENT OF EYE WITNESS,VICTIM WAS BATHING IN HIS HOUSE WHEN HE HEARD SOUND OF PEOPLE SHOUTING PIGS HAVE CAME IN NEARBY FARM .HE RAN TO SHOO AWAY THE PIGS AND WHILE DOING SO HE COME CONTACT WITH FENCING OF BARIA RAMESHBHAI SHANABHAI WHO HAD GIVEN ILLEGAL POWER SUPPLY TO THE FENCING.DUE TO THIS CONTACT OF FENCING VICTIM GOT ELECTROCUTED AND DIED ON SPOT | M50: Awaited | N50: NA | O50: NA | P50: Police compaint done to avoid such activity. | Q50: Godhra | R50: 8
A51: 45 | B51: BUFFALO of Gopalbhai Nathubhai Bharwad, opp vishvakarma engg. company,kailashpati chokdi,vitthal udyognagar, Tal/Distt-Anand | E51: 45159 | F51: FA | L51: THERE IS 1 TRANSFORMER CENTER(CMP/TC/003) FEED POWER TO 3 NOS OF CONSUMERS, 1 CONN. NAME SHRI VISHVAKARMA ENGG COM. 01201505887 CHECKED AND FOUND ONE FAULTY 3 PH MOTOR AND DUE TO THAT WHEN MOTOR STARTS THERE IS NEUTRAL RETURN BACK AT TC CENTER EARTHING FUNEL. DUE TO THIS POSSIBLE REASON BUFFALO GOT ELECTROCUTED AND DIED AT SITE. | M51: Awaited | N51: Awaited | O51: NA | P51: Notice issued to vishvakarma to replace faulty motor. New TR submitted on 25.8.23. Insulation pipe provided on earthing. | Q51: Anand | R51: 2
A52: 46 | B52: Cow, Rohil Pandad, Tal-Khambhat, Dist-Anand | E52: 45159 | F52: FA | L52: As per Primary Investigation report, it is found that when cow was grazing it reached to the transformer center and came to contact with GI Earthing wire of TC where leakage current may be flow at that time so cow got electrocuted. | M52: Awaited | N52: NA | O52: NA | P52: reactivation of earthing of transformer | Q52: Anand | R52: 2
A53: 47 | B53: BARIYA TAKHATSINH CHAKABHAI, Vill-GOTHADA, Tal-Godhra, Dist-PMS | E53: 45161 | F53: FHO-Pvt | L53: VICTIM TRY TO INSTALL BULB IN HOLDER ON BOARD AND ACCIDENTALLY CAME INTO CONTACT TO OPEN COVER MCB GOT ELECTROCUTED | M53: Awaited | N53: NA | O53: NA | P53: Advice to installed ELCB | Q53: Godhra | R53: 8
A54: 48 | B54: BHARATSIGH DHIRUBHAI RATHVA, C J BARIYA FARM, Vill-Rajnagar, Tal-Bodeli, Dist-Chhotaudepur | E54: 45162 | F54: FHD | L54: Attending ag complaint of C J Bariya he checked voltage at consumer end with DO road provided with test lamp through flexible wire but due to non avelibility of voltage at consumer end,while going towards TC with open do rod on his shoulder one end of flexible wirewas on top of DO and another inhis hand came in contect with HT Overhead line of 11 kv vadeli ag feeder and got eletrocuted | M54: Awaited | N54: NA | O54: NA | P54: one pole ercetion on long span and conductors stringing | Q54: Baroda O&M | R54: 3
A55: 49 | B55: BUFFALO OF VIJAY R. PAWA, PATANVADIYA FALIYA,VADHVANA, Tal-Dabhoi, Dist-Vadodara | E55: 45163 | F55: FA | L55: Due to Monkey jumped on ext. LT line near House of shri vijaybhai ramchandrabhai Pawa LT line was broken and snapped on buffalo of shri vijaybhai ramchandrabhai Pawa .this broken neutral Conductor came in Contact with buffalo & buffalo got Electric shock & became Electrocuted. | M55: Awaited | N55: NA | O55: NA | P55: SINGLE CORE AB CABLE PROVIDED | Q55: Baroda O&M | R55: 1
A56: 50 | B56: RATHAVA VINUBHAI KARSHANBHAI, KHEDA VILLAGE ROAD FALIYU, Vill-Kheda, Tal-Jetpur Pavi, Dist-C'udepur | E56: 45170 | F56: NFHD | L56: The victim was doing replacement of HT jumpers on 11 KV vasantgadh AG feeder.LCP was taken by victim Vinubhai Karchanbbai Rathava from 66 KV Vadoth ss of 11 KV vasantgadh AG feeder & parallel passing 11 KV Jamba JGY feeder. During jumper replacement, one jumper was replaced & another jumper replacement work, suddenly current was coming and got electrocuted. The victim Rathava Vinubhai karchanbhai was fallen down and injured (burn)in both hand. He is admitted to Bodeli hospital for further treatm | M56: Awaited | N56: NA | O56: NA | P56: Crossing remove by stringing of HT conductor at 03 no`s location | Q56: Baroda O&M | R56: 3
A57: 51 | B57: Shri Devabhai V Dindor, Vill-Sarsa, Tal/Dist-Anand | E57: 45175 | F57: NFHD | L57: Victim was got complain of Chandubhai R Patel was not getting one phase so victim gone for attending above complain then he removed TC DO fuse and lt side bushing lugs checked during that suddenly insects bite on left hand of victim and hand touched with upperside of do fuse and victim got electrocuted | M57: Awaited | N57: NA | O57: NA | P57: DISCUSS THE POINT IN SEAFTY MEETING | Q57: Anand | R57: 3
...

Sheet MG SoP 03
A1: ='MG COVER PAGE'!A1 -> Name of Distribution Licensee: M G V C L
A2: ='MG COVER PAGE'!A2 -> Quarter : Q-II (Jul-Aug-Sep-2023-24)
A3: ='MG COVER PAGE'!A3 -> Year: 2023-24
A4: REGISTER FOR COMPILING THE COMPLAINTS CLASSIFICATIONWISE Q-II 2023
A5: Performa SoP 003 B: | E5: APPENDIX-B (already in the SoP regulation)
A6: Classification | B6: Nature of Complaints | C6: Pending complaints of previous qtr. | D6: Complaints received during the qtr. | E6: Total Complaints =2+3 | F6: No. of Complaints redressed during the quarter. | K6: Balance Complaints to be redressed. (4) – (9)
F7: In stipulated time | H7: Beyond stipulated time | J7: Total (5) to (8)
F8: Within 50% of stipulated time. | G8: Within stipulated time. | H8: Up to double the stipulated time | I8: More than double the stipulated time
B9: 1 | C9: 2 | D9: 3 | E9: 4 | F9: 5 | G9: 6 | H9: 7 | I9: 8 | J9: 9 | K9: 10
A10: A(i) | B10: Loose Connection | C10: 0 | D10: ='[26]MG SoP 03B (BC)'!D10+'[26]MG SoP 03B (BO)'!D10+'[26]MG SoP 03B (And)'!D10+'[26]MG SoP 03B (Nad)'!D10+'[26]MG SoP 03B (Gdr)'!D10 -> 111548 | E10: =C10+D10 -> 111548 | F10: ='[26]MG SoP 03B (BC)'!F10+'[26]MG SoP 03B (BO)'!F10+'[26]MG SoP 03B (And)'!F10+'[26]MG SoP 03B (Nad)'!F10+'[26]MG SoP 03B (Gdr)'!F10 -> 45633 | G10: ='[26]MG SoP 03B (BC)'!G10+'[26]MG SoP 03B (BO)'!G10+'[26]MG SoP 03B (And)'!G10+'[26]MG SoP 03B (Nad)'!G10+'[26]MG SoP 03B (Gdr)'!G10 -> 65915 | H10: 0 | I10: 0 | J10: =SUM(F10:I10) -> 111548 | K10: =E10-J10 -> 0
A11: A(ii) | B11: Intruption due to line Break down | C11: 0 | D11: ='[26]MG SoP 03B (BC)'!D11+'[26]MG SoP 03B (BO)'!D11+'[26]MG SoP 03B (And)'!D11+'[26]MG SoP 03B (Nad)'!D11+'[26]MG SoP 03B (Gdr)'!D11 -> 67543 | E11: =C11+D11 -> 67543 | F11: ='[26]MG SoP 03B (BC)'!F11+'[26]MG SoP 03B (BO)'!F11+'[26]MG SoP 03B (And)'!F11+'[26]MG SoP 03B (Nad)'!F11+'[26]MG SoP 03B (Gdr)'!F11 -> 27044 | G11: ='[26]MG SoP 03B (BC)'!G11+'[26]MG SoP 03B (BO)'!G11+'[26]MG SoP 03B (And)'!G11+'[26]MG SoP 03B (Nad)'!G11+'[26]MG SoP 03B (Gdr)'!G11 -> 40499 | H11: 0 | I11: 0 | J11: =SUM(F11:I11) -> 67543 | K11: =E11-J11 -> 0
A12: A(iii) | B12: Intruption due to T/C Fail | C12: 0 | D12: ='[26]MG SoP 03B (BC)'!D12+'[26]MG SoP 03B (BO)'!D12+'[26]MG SoP 03B (And)'!D12+'[26]MG SoP 03B (Nad)'!D12+'[26]MG SoP 03B (Gdr)'!D12 -> 8053 | E12: =C12+D12 -> 8053 | F12: ='[26]MG SoP 03B (BC)'!F12+'[26]MG SoP 03B (BO)'!F12+'[26]MG SoP 03B (And)'!F12+'[26]MG SoP 03B (Nad)'!F12+'[26]MG SoP 03B (Gdr)'!F12 -> 3983 | G12: ='[26]MG SoP 03B (BC)'!G12+'[26]MG SoP 03B (BO)'!G12+'[26]MG SoP 03B (And)'!G12+'[26]MG SoP 03B (Nad)'!G12+'[26]MG SoP 03B (Gdr)'!G12 -> 4070 | H12: 0 | I12: 0 | J12: =SUM(F12:I12) -> 8053 | K12: =E12-J12 -> 0
A13: B(i) | B13: Quality of power supply,ordinary case which require no Augmentation | C13: 0 | D13: ='[26]MG SoP 03B (BC)'!D13+'[26]MG SoP 03B (BO)'!D13+'[26]MG SoP 03B (And)'!D13+'[26]MG SoP 03B (Nad)'!D13+'[26]MG SoP 03B (Gdr)'!D13 -> 9179 | E13: =C13+D13 -> 9179 | F13: ='[26]MG SoP 03B (BC)'!F13+'[26]MG SoP 03B (BO)'!F13+'[26]MG SoP 03B (And)'!F13+'[26]MG SoP 03B (Nad)'!F13+'[26]MG SoP 03B (Gdr)'!F13 -> 6124 | G13: ='[26]MG SoP 03B (BC)'!G13+'[26]MG SoP 03B (BO)'!G13+'[26]MG SoP 03B (And)'!G13+'[26]MG SoP 03B (Nad)'!G13+'[26]MG SoP 03B (Gdr)'!G13 -> 3055 | H13: 0 | I13: 0 | J13: =SUM(F13:I13) -> 9179 | K13: =E13-J13 -> 0
A14: B(ii) | B14: Quality of power supply,ordinary case which require Augmentation | C14: 0 | D14: ='[26]MG SoP 03B (BC)'!D14+'[26]MG SoP 03B (BO)'!D14+'[26]MG SoP 03B (And)'!D14+'[26]MG SoP 03B (Nad)'!D14+'[26]MG SoP 03B (Gdr)'!D14 -> 5369 | E14: =C14+D14 -> 5369 | F14: ='[26]MG SoP 03B (BC)'!F14+'[26]MG SoP 03B (BO)'!F14+'[26]MG SoP 03B (And)'!F14+'[26]MG SoP 03B (Nad)'!F14+'[26]MG SoP 03B (Gdr)'!F14 -> 3216 | G14: ='[26]MG SoP 03B (BC)'!G14+'[26]MG SoP 03B (BO)'!G14+'[26]MG SoP 03B (And)'!G14+'[26]MG SoP 03B (Nad)'!G14+'[26]MG SoP 03B (Gdr)'!G14 -> 2153 | H14: 0 | I14: 0 | J14: =SUM(F14:I14) -> 5369 | K14: =E14-J14 -> 0
A15: C(i) | B15: Meters- Stoped/Defective meter | C15: 0 | D15: ='[26]MG SoP 03B (BC)'!D15+'[26]MG SoP 03B (BO)'!D15+'[26]MG SoP 03B (And)'!D15+'[26]MG SoP 03B (Nad)'!D15+'[26]MG SoP 03B (Gdr)'!D15 -> 16214 | E15: =C15+D15 -> 16214 | F15: ='[26]MG SoP 03B (BC)'!F15+'[26]MG SoP 03B (BO)'!F15+'[26]MG SoP 03B (And)'!F15+'[26]MG SoP 03B (Nad)'!F15+'[26]MG SoP 03B (Gdr)'!F15 -> 9888 | G15: ='[26]MG SoP 03B (BC)'!G15+'[26]MG SoP 03B (BO)'!G15+'[26]MG SoP 03B (And)'!G15+'[26]MG SoP 03B (Nad)'!G15+'[26]MG SoP 03B (Gdr)'!G15 -> 6326 | H15: 0 | I15: 0 | J15: =SUM(F15:I15) -> 16214 | K15: =E15-J15 -> 0
A16: C(ii) | B16: Meters- Billing on average basis for > two bills | C16: 0 | D16: ='[26]MG SoP 03B (BC)'!D16+'[26]MG SoP 03B (BO)'!D16+'[26]MG SoP 03B (And)'!D16+'[26]MG SoP 03B (Nad)'!D16+'[26]MG SoP 03B (Gdr)'!D16 -> 6639 | E16: =C16+D16 -> 6639 | F16: ='[26]MG SoP 03B (BC)'!F16+'[26]MG SoP 03B (BO)'!F16+'[26]MG SoP 03B (And)'!F16+'[26]MG SoP 03B (Nad)'!F16+'[26]MG SoP 03B (Gdr)'!F16 -> 3998 | G16: ='[26]MG SoP 03B (BC)'!G16+'[26]MG SoP 03B (BO)'!G16+'[26]MG SoP 03B (And)'!G16+'[26]MG SoP 03B (Nad)'!G16+'[26]MG SoP 03B (Gdr)'!G16 -> 2641 | H16: 0 | I16: 0 | J16: =SUM(F16:I16) -> 6639 | K16: =E16-J16 -> 0
A17: D(i) | B17: Over head lines - loose wires | C17: 0 | D17: ='[26]MG SoP 03B (BC)'!D17+'[26]MG SoP 03B (BO)'!D17+'[26]MG SoP 03B (And)'!D17+'[26]MG SoP 03B (Nad)'!D17+'[26]MG SoP 03B (Gdr)'!D17 -> 5378 | E17: =C17+D17 -> 5378 | F17: ='[26]MG SoP 03B (BC)'!F17+'[26]MG SoP 03B (BO)'!F17+'[26]MG SoP 03B (And)'!F17+'[26]MG SoP 03B (Nad)'!F17+'[26]MG SoP 03B (Gdr)'!F17 -> 3237 | G17: ='[26]MG SoP 03B (BC)'!G17+'[26]MG SoP 03B (BO)'!G17+'[26]MG SoP 03B (And)'!G17+'[26]MG SoP 03B (Nad)'!G17+'[26]MG SoP 03B (Gdr)'!G17 -> 2141 | H17: 0 | I17: 0 | J17: =SUM(F17:I17) -> 5378 | K17: =E17-J17 -> 0
A18: D(ii) | B18: Over head lines - in adiquate ground clearance | C18: 0 | D18: ='[26]MG SoP 03B (BC)'!D18+'[26]MG SoP 03B (BO)'!D18+'[26]MG SoP 03B (And)'!D18+'[26]MG SoP 03B (Nad)'!D18+'[26]MG SoP 03B (Gdr)'!D18 -> 2002 | E18: =C18+D18 -> 2002 | F18: ='[26]MG SoP 03B (BC)'!F18+'[26]MG SoP 03B (BO)'!F18+'[26]MG SoP 03B (And)'!F18+'[26]MG SoP 03B (Nad)'!F18+'[26]MG SoP 03B (Gdr)'!F18 -> 1419 | G18: ='[26]MG SoP 03B (BC)'!G18+'[26]MG SoP 03B (BO)'!G18+'[26]MG SoP 03B (And)'!G18+'[26]MG SoP 03B (Nad)'!G18+'[26]MG SoP 03B (Gdr)'!G18 -> 583 | H18: 0 | I18: 0 | J18: =SUM(F18:I18) -> 2002 | K18: =E18-J18 -> 0
A19: E(i) | B19: Bills- for current bills where no addl information required | C19: 0 | D19: ='[26]MG SoP 03B (BC)'!D19+'[26]MG SoP 03B (BO)'!D19+'[26]MG SoP 03B (And)'!D19+'[26]MG SoP 03B (Nad)'!D19+'[26]MG SoP 03B (Gdr)'!D19 -> 6209 | E19: =C19+D19 -> 6209 | F19: ='[26]MG SoP 03B (BC)'!F19+'[26]MG SoP 03B (BO)'!F19+'[26]MG SoP 03B (And)'!F19+'[26]MG SoP 03B (Nad)'!F19+'[26]MG SoP 03B (Gdr)'!F19 -> 4372.2 | G19: ='[26]MG SoP 03B (BC)'!G19+'[26]MG SoP 03B (BO)'!G19+'[26]MG SoP 03B (And)'!G19+'[26]MG SoP 03B (Nad)'!G19+'[26]MG SoP 03B (Gdr)'!G19 -> 1836.8 | H19: 0 | I19: 0 | J19: =SUM(F19:I19) -> 6209 | K19: =E19-J19 -> 0
A20: E(ii) | B20: Bills- for current bills where addl information required | C20: 0 | D20: ='[26]MG SoP 03B (BC)'!D20+'[26]MG SoP 03B (BO)'!D20+'[26]MG SoP 03B (And)'!D20+'[26]MG SoP 03B (Nad)'!D20+'[26]MG SoP 03B (Gdr)'!D20 -> 4022 | E20: =C20+D20 -> 4022 | F20: ='[26]MG SoP 03B (BC)'!F20+'[26]MG SoP 03B (BO)'!F20+'[26]MG SoP 03B (And)'!F20+'[26]MG SoP 03B (Nad)'!F20+'[26]MG SoP 03B (Gdr)'!F20 -> 2370 | G20: ='[26]MG SoP 03B (BC)'!G20+'[26]MG SoP 03B (BO)'!G20+'[26]MG SoP 03B (And)'!G20+'[26]MG SoP 03B (Nad)'!G20+'[26]MG SoP 03B (Gdr)'!G20 -> 1652 | H20: 0 | I20: 0 | J20: =SUM(F20:I20) -> 4022 | K20: =E20-J20 -> 0
A21: F(i) | B21: Service connections- where extention of mains is not required | C21: 0 | D21: ='[26]MG SoP 03B (BC)'!D21+'[26]MG SoP 03B (BO)'!D21+'[26]MG SoP 03B (And)'!D21+'[26]MG SoP 03B (Nad)'!D21+'[26]MG SoP 03B (Gdr)'!D21 -> 10601 | E21: =C21+D21 -> 10601 | F21: ='[26]MG SoP 03B (BC)'!F21+'[26]MG SoP 03B (BO)'!F21+'[26]MG SoP 03B (And)'!F21+'[26]MG SoP 03B (Nad)'!F21+'[26]MG SoP 03B (Gdr)'!F21 -> 7083 | G21: ='[26]MG SoP 03B (BC)'!G21+'[26]MG SoP 03B (BO)'!G21+'[26]MG SoP 03B (And)'!G21+'[26]MG SoP 03B (Nad)'!G21+'[26]MG SoP 03B (Gdr)'!G21 -> 3518 | H21: 0 | I21: 0 | J21: =SUM(F21:I21) -> 10601 | K21: =E21-J21 -> 0
... A26: H | B26: Others | C26: 0 | D26: ='[26]MG SoP 03B (BC)'!D26+'[26]MG SoP 03B (BO)'!D26+'[26]MG SoP 03B (And)'!D26+'[26]MG SoP 03B (Nad)'!D26+'[26]MG SoP 03B (Gdr)'!D26 -> 32135 | E26: =C26+D26 -> 32135 | F26: ='[26]MG SoP 03B (BC)'!F26+'[26]MG SoP 03B (BO)'!F26+'[26]MG SoP 03B (And)'!F26+'[26]MG SoP 03B (Nad)'!F26+'[26]MG SoP 03B (Gdr)'!F26 -> 15783 | G26: ='[26]MG SoP 03B (BC)'!G26+'[26]MG SoP 03B (BO)'!G26+'[26]MG SoP 03B (And)'!G26+'[26]MG SoP 03B (Nad)'!G26+'[26]MG SoP 03B (Gdr)'!G26 -> 16352 | H26: 0 | I26: 0 | J26: =SUM(F26:I26) -> 32135 | K26: =E26-J26 -> 0
B27: TOTAL | C27: 0 | D27: =SUM(D10:D26) -> 296998 | E27: =SUM(E10:E26) -> 296998 | F27: =SUM(F10:F26) -> 141036.2 | G27: =SUM(G10:G26) -> 155961.8 | H27: =SUM(H10:H26) -> 0 | I27: =SUM(I10:I26) -> 0 | J27: =SUM(J10:J26) -> 296998 | K27: =E27-J27 -> 0
A28: The format is to be sent quarterly
A30: The quarterly reporting of the year means reporting for the period 1st Quarter as Jan – Mar, 2nd Quarter as Apr – Jun, 3rd Quarter as Jul – Sep and 4th Quarter as Oct – Dec of the year.
A32: For any other complaints not mentioned in the classification, the sequence for (H) can be used.

Sheet MG SoP 04
A1: ='[26]MG SoP 01'!A1 -> Name of Distribution Licensee: M G V C L
A2: ='[26]MG SoP 01'!A2 -> Quarter : Q-II (Jul-Aug-Sep-2023-24)
A3: ='[26]MG SoP 01'!A3 -> Year: 2023-24
A4: Performa SoP 002 : Publicity carried out while displaying the contact details of consumer complaints centers
A5: Particulars should also cover the details of consumer awareness program conducted, advertisement done through various media like TV, newspaper, radio, pamphlets & booklet distributions, Displays etc. The development of website and any medium through which public education is carried out can be included.
A7: Sr. No | B7: Actions or steps carried out by distribution licensee towards public awareness in the quarter | C7: Likely number of consumers influenced
A9: 1 | B9: RTI Officers Name is displayed at customer care centre on each office | C9: 3527036
A10: 2 | B10: Necessary information regarding time schedule for new connection and solving complaints is display on the board. | C10: 3527036
A11: 3 | B11: Contact nos. of various officers of the company for emergency contact is also displayed at customer care centre. | C11: 3527036
A12: 4 | B12: Displayed safety posters at various S/dn,Divisions | C12: 4594
A13: 5 | B13: Safety Meeting with Line Staff at various S/dn,Divisions on Every Monday (Line staff influenced) | C13: 3596

Sheet SOP-05
A1: ='[27]MG COVER PAGE'!A1 -> Name of Distribution Licensee: M G V C L
A2: SOP Q-II
A3: Year :2023-24
A4: Performa – SoP 005 B: Action taken report by the Redressal Committee
A5: Sr. No | B5: Month | C5: Name of Office | D5: Date and Time Meeting conducted | E5: No of complaints registered at the meeting | F5: No. of complaints pending at the end of the meeting
A6: 1 | B6: 1st Month of the quarter (JULY-23) | C6: Cororate Office | D6: 25.07.23 11:30 AM at corporate office vadodara | E6: 2 | F6: 0
C7: Godhra C.O. | D7: NIL | E7: 0 | F7: 0
A8: 2 | B8: 2nd Month of the quarter (AUGUST-23) | C8: Cororate Office | D8: 25.08.23 11:30 AM at corporate office vadodara | E8: 5 | F8: 0
C9: Godhra C.O. | D9: NIL | E9: 0 | F9: 0
A10: 3 | B10: 3rd Month of the quarter (SEPTEMBER-23) | C10: Cororate Office | D10: 26.09.23 11:30 AM at corporate office vadodara | E10: 4 | F10: 0
C11: Godhra C.O. | D11: 16.09.23 11:30 AM at Godhra circle office Godhra | E11: 2 | F11: 0

Sheet MG SoP - 06 
A1: Name of Distribution Licensee: M G V C L
A2: Financial Year: 2023-24
A3: Quarter : Q-II (Jul to Sep-2023)
A4: Performa SoP 006: Failure of Distribution Transformer
A5: Sr. No. | B5: Name of Circle | C5: Nos. of existing Distribution Transformers at the start of the quarter | D5: Nos. of Distribution Transformers added during the quarter | E5: Total number of Distribution Transformers on end of quarter | F5: Total number of Distribution transformer failed during quarter-I | G5: % failure rate of Distribution transformer
C6: A | D6: B | E6: C=A+B | F6: D | G6: H = (D)*100/C
A7: 1 | B7: Baroda O&M | C7: 56499 | D7: 388 | E7: 56887 | F7: 1017 | G7: 1.7877547
A8: 2 | B8: Baroda City | C8: 9849 | D8: 221 | E8: 10070 | F8: 30 | G8: 0.2979146
A9: 3 | B9: Anand | C9: 25713 | D9: 305 | E9: 26018 | F9: 404 | G9: 1.5527712
A10: 4 | B10: Nadiad | C10: 32943 | D10: 501 | E10: 33444 | F10: 561 | G10: 1.6774309
A11: 5 | B11: Godhra | C11: 59165 | D11: 370 | E11: 59535 | F11: 1433 | G11: 2.4069875
B12: MGVCL | C12: 184169 | D12: 1785 | E12: 185954 | F12: 3445 | G12: 1.8526087

Sheet SoP008
A1: ='[28]MG COVER PAGE'!A1 -> Name of Distribution Licensee: M G V C L
A2: ='[28]MG COVER PAGE'!A2 -> Quarter : Q-II (July-August-Sep- 2023)
A3: ='[28]MG COVER PAGE'!A3 -> Year: 2023-24
A4: Performa SoP 008: Sample Test result for Neutral Voltage
A6: Compliance Sample Test Report for Neutral Voltage
A7: -1 | B7: -2 | C7: -3 | D7: -4 | E7: -5 | F7: -6
A8: Sr. No | B8: Category of consumers | C8: Sample Size | D8: Standard specified in regulation | E8: Deviation of results from the sample test (Numbers) | F8: % age compliance
C9: (Numbers) | F9: (6) = (5)*100/(3)
B10: LT consumers | C10: =SUM(C11:C15) -> 1441 | D10: 2% | E10: =SUM(E11:E15) -> 0 | F10: =E10*100/C10 -> 0
A11: 1 | B11: Domestic | C11: 1023 | D11: 2% | E11: 0 | F11: =E11*100/C11 -> 0
A12: 2 | B12: Commercial | C12: 242 | D12: 2% | E12: 0 | F12: =E12*100/C12 -> 0
A13: 3 | B13: Industrial | C13: 23 | D13: 2% | E13: 0 | F13: =E13*100/C13 -> 0
A14: 4 | B14: Agricultural | C14: 143 | D14: 2% | E14: 0 | F14: 0
A15: 5 | B15: Public water works | C15: 10 | D15: 2% | E15: 0 | F15: 0
B16: HT consumers | D16: 2%
A17: 6 | B17: HT industrial | C17: 5 | D17: 2% | E17: 0 | F17: =E17*100/C17 -> 0

Sheet SoP009
A1: ='[28]MG COVER PAGE'!A1 -> Name of Distribution Licensee: M G V C L
A2: ='[28]MG COVER PAGE'!A2 -> Quarter : Q-II (July-August-Sep- 2023)
A3: ='[28]MG COVER PAGE'!A3 -> Year: 2023-24
A4: Performa SoP 009: Sample Test result for Voltage variations
A5: Compliance Sample Test Report for voltage variations
A6: -1 | B6: -2 | C6: -3 | D6: -4 | E6: -5
A7: Voltage Level | B7: Sample Size (numbers) | C7: Limit or prescribed standard | D7: Deviation of results from the sample test (Numbers) | E7: % age compliance
E8: (5) = (4)*100/(2)
A9: Low Voltage | B9: 56 | C9: +6% to -6% | D9: 0 | E9: =D9*100/B9 -> 0
A10: High Voltage | B10: 24 | C10: +6% to -9% | D10: 0 | E10: 0
A11: Extra High Voltage | B11: 1 | C11: +10% to -12.50% | D11: 0 | E11: 0

Sheet SoP010
A1: ='[28]MG COVER PAGE'!A1 -> Name of Distribution Licensee: M G V C L
A2: ='[28]MG COVER PAGE'!A2 -> Quarter : Q-II (July-August-Sep- 2023)
A3: ='[28]MG COVER PAGE'!A3 -> Year: 2023-24
A4: Performa SoP 010: Sample Test result for Harmonics
A5: Compliance Sample Test Report for Harmonics
A6: -1 | B6: -2 | C6: -3 | D6: -4 | E6: -5 | F6: -6
A7: Sr. No | B7: Category of consumers | C7: Sample size (Numbers) | D7: Limit or standard prescribed | E7: Deviation of results from the sample test (Numbers) | F7: %age compliance
F8: (6) = (5)*100/(3)
A9: 1 | B9: LT consumers | C9: 33 | D9: 0.035 | E9: 0 | F9: =E9*100/C9 -> 0
A10: 2 | B10: HT consumers | C10: 4 | D10: 0.03 | E10: 0 | F10: 0
A11: 3 | B11: EHT consumers | C11: 1 | D11: 0.03 | E11: 0 | F11: 0
A13: Note: The licensee shall also submit along with the above harmonic data, the records of customer wise drawls of harmonic currents measured at various strategic points.
A15: The formats SoP 008, SoP 009 and SoP 010 have to be sent annually.
A16: For the purpose of annual submissions, the year end has to be considered as the end of December month of a particular year.

Sheet 11A
A1: Q-2(July-sep-23)
A2: Year: 2023-24
A3: SoP 011 –A: System Average Interruption Frequency Index (SAIFI)
A4: Sr. No | B4: Month | C4: Ni - Total no of customers for each momentary interruptions | D4: NT - Total no of customers served | H4: Past year corrosponding Month
A10: 1 | B10: 2 | C10: 3 | D10: 4 | E10: 5 | F10: 6=5/4
A11: 1 | B11: July' 23 | C11: 3310911 | D11: 3506961 | E11: 23060758 | F11: =E11/D11 -> 6.5757099 | H11: 5.9
A12: 2 | B12: Aug' 23 | C12: 3197040 | D12: 3483209 | E12: 15232925 | F12: =E12/D12 -> 4.3732446 | H12: 4.4
A13: 3 | B13: Sep' 23 | C13: 3293122 | D13: 3523731 | E13: 25385368 | F13: =E13/D13 -> 7.2041163 | H13: 4.59
D14: =SUM(D11:D13) -> 10513901 | E14: =SUM(E11:E13) -> 63679051 | F14: =E14/D14 -> 6.0566531 | H14: =AVERAGE(H11:H13) -> 4.9633333

Sheet 11B
A1: ='11A'!A1 -> Q-2(July-sep-23)
A2: ='11A'!A2 -> Year: 2023-24
A3: SoP 011 – B System Average Interruption Duration Index (SAIDI)
A4: Sr. No | B4: Month | C4: ri = Restoration Time for each interruption event | D4: Ni - no of interrupted customers for each sustained interruption event | E4: ri * Ni – Total customer interruption Duration | F4: ri=Restoration Time for each interruption event | G4: Ni= No of Interrupted customers for each sustained Interruption | H4: NT - Total no of customers served | I4: Customer Interruption Duration | M4: Past year corrosponding Months
J5: MINS. | K5: HRS.
A6: 1 | B6: 2 | C6: 3 | D6: 4 | E6: 5= 3 X 4 | F6: 3 | G6: 4 | H6: 5 | I6: 6 | J6: 7=4/3 | K6: 7A | M6: MINS. | N6: HRS.
A7: 1 | B7: ='11A'!B11 -> July' 23 | C7: July | F7: 3310911 | G7: 3506961 | H7: 3506961 | I7: 1362751258 | J7: =I7/H7 -> 388.58466 | K7: =J7/1440 -> 0.26985046 | M7: 351 | N7: =M7/1440 -> 0.24375
A8: 2 | B8: ='11A'!B12 -> Aug' 23 | C8: August | F8: 3197040 | G8: 3483209 | H8: 3483209 | I8: 967193886 | J8: =I8/H8 -> 277.67323 | K8: =J8/1440 -> 0.19282863 | M8: 253 | N8: =M8/1440 -> 0.17569444
A9: 3 | B9: ='11A'!B13 -> Sep' 23 | F9: 3293122 | G9: 3523731 | H9: 3523731 | I9: 1620159863 | J9: =I9/H9 -> 459.78534 | K9: =J9/1440 -> 0.31929538 | M9: 325 | N9: =M9/1440 -> 0.22569444
G10: =SUM(G7:G9) -> 10513901 | H10: =SUM(H7:H9) -> 10513901 | I10: =SUM(I7:I9) -> 3950105007 | J10: =I10/H10 -> 375.70308 | K10: =J10/1440 -> 0.26090492 | M10: =AVERAGE(M7:M9) -> 309.66667 | N10: =M10/1440 -> 0.2150463

Sheet 11C
A1: ='11A'!A1 -> Q-2(July-sep-23)
A2: ='11B'!A2 -> Year: 2023-24
A3: SoP 011 – C: Momentary Average Interruption Frequency Index (MAIFI)
A4: Sr. No | B4: Month | C4: Number of Momentary interruptions Imi | D4: Nmi - Total no of customers for each momentary interruptions | E4: NT - Total no of customers served | I4: Past year corrosponding Month
A5: 1 | B5: 2 | C5: 3 | D5: 4 | E5: 5 | F5: 6 | G5: 7
A6: 1 | B6: ='11A'!B11 -> July' 23 | C6: 40243 | D6: 3136591 | E6: 3506961 | F6: 66248720 | G6: =F6/E6 -> 18.890635 | I6: 12.28
A7: 2 | B7: ='11A'!B12 -> Aug' 23 | C7: 33467 | D7: 2992170 | E7: 3483209 | F7: 52078356 | G7: =F7/E7 -> 14.951258 | I7: 11.07
A8: 3 | B8: ='11A'!B13 -> Sep' 23 | C8: 38505 | D8: 3128098 | E8: 3523731 | F8: 62499748 | G8: =F8/E8 -> 17.73681 | I8: 10.26
E9: =SUM(E6:E8) -> 10513901 | F9: =SUM(F6:F8) -> 180826824 | G9: =F9/E9 -> 17.198833 | I9: =AVERAGE(I6:I8) -> 11.203333

Sheet MG SoP - 13 
B2: Name of Distribution Licensee: M G V C L
B3: Financial Year: 2023-24
B4: Quarter : Q-II (Jul to Sep-2023)
B5: Performa SoP 013: Faulty Meters Replacement
B6: Consumer Category | C6: No. of faulty meters at the start of the quarter | D6: No. of faulty meters added during the quarter | E6: Total no. of defective / faulty Meter | F6: No. of faulty Meters repaired and replaced | G6: No of faulty meters pending at the end of the quarter | H6: Remark
C7: 1 | D7: 2 | E7: (3)=(2)+(1) | F7: 4 | G7: (5)=(3)-(4)
B8: 1 PHASE
B9: MGVCL | C9: 6744 | D9: 35238 | E9: 41982 | F9: 31276 | G9: 10706
B10: 3 PHASE
B11: MGVCL | C11: 554 | D11: 5793 | E11: 6347 | F11: 4366 | G11: 1981

Sheet MG SOP 15
C2: Performa SoP 015: Release of New Connection status for FY 2023-24
C4: Qtr | D4: Consumer category | E4: Total no. of consumers connected at the beginning of half-year/year | F4: Pending at the Beginning of the of the Half year/year | G4: New Applications received during the half-year / year | H4: No. of connections released during the half-year / year | I4: No. of applications pending at the end of half-year / year | J4: Total no. of consumers connected at the end of half-year/year
C5: 1st Half (Apr-May-Jun-Jul-Aug-Sep) | D5: Domestic | E5: 2845327 | F5: 1304 | G5: 40295 | H5: 38212 | I5: 3387 | J5: 2883539
D6: Commercial (NRGP_C+LTMD_C) | E6: 331866 | F6: 304 | G6: 10357 | H6: 9080 | I6: 1581 | J6: 340946
D7: Industrial LT (NRGP_L+LTMD_L) | E7: 40602 | F7: 164 | G7: 919 | H7: 819 | I7: 264 | J7: 41421
D8: Agriculture (Total) | E8: 190931 | F8: 8099 | G8: 5040 | H8: 7174 | I8: 8729 | J8: 198105
D9: Industrial HT | E9: 2869 | F9: 64 | G9: 155 | H9: 137 | I9: 76 | J9: 3001
D10: Total | E10: =SUM(E5:E9) -> 3411595 | F10: =SUM(F5:F9) -> 9935 | G10: =SUM(G5:G9) -> 56766 | H10: =SUM(H5:H9) -> 55422 | I10: =SUM(I5:I9) -> 14037 | J10: =SUM(J5:J9) -> 3467012
C11: 2nd Half (Oct-Nov-Dec-Jan-Feb-Mar) | D11: Domestic | G11: #REF! | H11: #REF! | I11: #REF! | J11: #REF!
D12: Commercial | G12: #REF! | H12: #REF! | I12: #REF! | J12: #REF!
D13: Industrial LT | G13: #REF! | H13: #REF! | I13: #REF! | J13: #REF!
D14: Agriculture (Total)
D15: Industrial HT
D16: Total | E16: 0 | F16: 0 | G16: #REF! | H16: #REF! | I16: #REF! | J16: #REF!
C17: Annual | D17: Domestic | E17: 2845327 | F17: 1304 | G17: #REF! | H17: #REF! | I17: #REF! | J17: #REF!
D18: Commercial | E18: 331866 | F18: 304 | G18: #REF! | H18: #REF! | I18: #REF! | J18: #REF!
D19: Industrial LT | E19: 40602 | F19: 164 | G19: #REF! | H19: #REF! | I19: #REF! | J19: #REF!
D20: Agriculture (Total)
D21: Industrial HT
D22: Total | E22: 3217795 | F22: 1772 | G22: #REF! | H22: #REF! | I22: #REF! | J22: #REF!

Sheet Work Out
B1: (1) SoP 006: Failure of Distribution Transformer : From TMS Data
B2: Population
B3: Name of Circle | C3: 43910 | D3: =DATE(YEAR(C3),MONTH(C3)+1,DAY(C3)) -> 43941 | E3: =DATE(YEAR(D3),MONTH(D3)+1,DAY(D3)) -> 43971 | F3: =DATE(YEAR(E3),MONTH(E3)+1,DAY(E3)) -> 44002 | G3: Qtr-I | H3: =DATE(YEAR(F3),MONTH(F3)+1,DAY(F3)) -> 44032 | I3: =DATE(YEAR(H3),MONTH(H3)+1,DAY(H3)) -> 44063 | J3: =DATE(YEAR(I3),MONTH(I3)+1,DAY(I3)) -> 44094 | K3: Qtr-II | L3: =DATE(YEAR(J3),MONTH(J3)+1,DAY(J3)) -> 44124 | M3: =DATE(YEAR(L3),MONTH(L3)+1,DAY(L3)) -> 44155 | N3: =DATE(YEAR(M3),MONTH(M3)+1,DAY(M3)) -> 44185 | O3: Qtr-III | P3: =DATE(YEAR(N3),MONTH(N3)+1,DAY(N3)) -> 44216 | Q3: =DATE(YEAR(P3),MONTH(P3)+1,DAY(P3)) -> 44247 | R3: =DATE(YEAR(Q3),MONTH(Q3)+1,DAY(Q3)) -> 44275 | S3: Qtr-IV
B4: Baroda O&M | C4: 45998 | F4: 46477 | G4: =F4-C4 -> 479 | K4: =J4-F4 -> -46477 | O4: =N4-J4 -> 0 | S4: =R4-N4 -> 0
B5: Baroda City | C5: 8400 | F5: 8419 | G5: =F5-C5 -> 19 | K5: =J5-F5 -> -8419 | O5: =N5-J5 -> 0 | S5: =R5-N5 -> 0
B6: Anand | C6: 21352 | F6: 21396 | G6: =F6-C6 -> 44 | K6: =J6-F6 -> -21396 | O6: =N6-J6 -> 0 | S6: =R6-N6 -> 0
B7: Nadiad | C7: 28267 | F7: 28673 | G7: =F7-C7 -> 406 | K7: =J7-F7 -> -28673 | O7: =N7-J7 -> 0 | S7: =R7-N7 -> 0
B8: Godhra | C8: 49418 | F8: 49738 | G8: =F8-C8 -> 320 | K8: =J8-F8 -> -49738 | O8: =N8-J8 -> 0 | S8: =R8-N8 -> 0
B9: MGVCL | C9: =SUM(C4:C8) -> 153435 | D9: =SUM(D4:D8) -> 0 | E9: =SUM(E4:E8) -> 0 | F9: =SUM(F4:F8) -> 154703 | G9: =F9-C9 -> 1268 | H9: =SUM(H4:H8) -> 0 | I9: =SUM(I4:I8) -> 0 | J9: =SUM(J4:J8) -> 0 | K9: =J9-F9 -> -154703 | L9: =SUM(L4:L8) -> 0 | M9: =SUM(M4:M8) -> 0 | N9: =SUM(N4:N8) -> 0 | O9: =N9-J9 -> 0 | P9: =SUM(P4:P8) -> 0 | Q9: =SUM(Q4:Q8) -> 0 | R9: =SUM(R4:R8) -> 0 | S9: =R9-N9 -> 0
B11: Failed during month
B12: Name of Circle | D12: =D3 -> 43941 | E12: =E3 -> 43971 | F12: =F3 -> 44002 | G12: =G3 -> Qtr-I | H12: =H3 -> 44032 | I12: =I3 -> 44063 | J12: =J3 -> 44094 | K12: =K3 -> Qtr-II | ... S12: =S3 -> Qtr-IV
B13: Baroda O&M | D13: 160 | E13: 183 | F13: 183 | G13: =D13+E13+F13 -> 526 | K13: =H13+I13+J13 -> 0 | O13: =L13+M13+N13 -> 0 | S13: =P13+Q13+R13 -> 0
B14: Baroda City | D14: 2 | E14: 3 | F14: 1 | G14: =D14+E14+F14 -> 6 | K14: =H14+I14+J14 -> 0 | O14: =L14+M14+N14 -> 0 | S14: =P14+Q14+R14 -> 0
B15: Anand | D15: 56 | E15: 65 | F15: 162 | G15: =D15+E15+F15 -> 283 | K15: =H15+I15+J15 -> 0 | O15: =L15+M15+N15 -> 0 | S15: =P15+Q15+R15 -> 0
B16: Nadiad | D16: 64 | E16: 110 | F16: 129 | G16: =D16+E16+F16 -> 303 | K16: =H16+I16+J16 -> 0 | O16: =L16+M16+N16 -> 0 | S16: =P16+Q16+R16 -> 0
B17: Godhra | D17: 342 | E17: 302 | F17: 458 | G17: =D17+E17+F17 -> 1102 | K17: =H17+I17+J17 -> 0 | O17: =L17+M17+N17 -> 0 | S17: =P17+Q17+R17 -> 0
B18: MGVCL | D18: =SUM(D13:D17) -> 624 | E18: =SUM(E13:E17) -> 663 | F18: =SUM(F13:F17) -> 933 | G18: =D18+E18+F18 -> 2220 | H18: =SUM(H13:H17) -> 0 | I18: =SUM(I13:I17) -> 0 | J18: =SUM(J13:J17) -> 0 | K18: =H18+I18+J18 -> 0 | L18: =SUM(L13:L17) -> 0 | M18: =SUM(M13:M17) -> 0 | N18: =SUM(N13:N17) -> 0 | O18: =L18+M18+N18 -> 0 | P18: =SUM(P13:P17) -> 0 | Q18: =SUM(Q13:Q17) -> 0 | R18: =SUM(R13:R17) -> 0 | S18: =P18+Q18+R18 -> 0
B20: (2) SoP 013: Faulty Meters Replacement : From MIS-3's Non-Working Meter Page
B21: Month | C21: 1 Phase | E21: 3 Phase | G21: Total
C22: Added during Month | D22: Replaced during Month | E22: Added during Month | F22: Replaced during Month | G22: Added during Month | H22: Replaced during Month
B23: Past Qtr-IV | C23: 15658 | D23: 15208 | E23: 2808 | F23: 2635 | G23: 18466 | H23: 17843
B24: 43922 | C24: 518 | D24: 234 | E24: 194 | F24: 67 | G24: =C24+E24 -> 712 | H24: =D24+F24 -> 301
B25: =DATE(YEAR(B24),MONTH(B24)+1,DAY(B24)) -> 43952 | C25: 660 | D25: 589 | E25: 201 | F25: 206 | G25: =C25+E25 -> 861 | H25: =D25+F25 -> 795
B26: =DATE(YEAR(B25),MONTH(B25)+1,DAY(B25)) -> 43983 | C26: 2572 | D26: 2622 | E26: 543 | F26: 512 | G26: =C26+E26 -> 3115 | H26: =D26+F26 -> 3134
B27: Qtr-I | C27: =SUM(C24:C26) -> 3750 | D27: =SUM(D24:D26) -> 3445 | E27: =SUM(E24:E26) -> 938 | F27: =SUM(F24:F26) -> 785 | G27: =SUM(G24:G26) -> 4688 | H27: =SUM(H24:H26) -> 4230
B28: =DATE(YEAR(B26),MONTH(B26)+1,DAY(B26)) -> 44013 | G28: =C28+E28 -> 0 | H28: =D28+F28 -> 0
B29: =DATE(YEAR(B28),MONTH(B28)+1,DAY(B28)) -> 44044 | G29: =C29+E29 -> 0 | H29: =D29+F29 -> 0
B30: =DATE(YEAR(B29),MONTH(B29)+1,DAY(B29)) -> 44075 | G30: =C30+E30 -> 0 | H30: =D30+F30 -> 0
B31: Qtr-II | C31: =SUM(C28:C30) -> 0 | D31: =SUM(D28:D30) -> 0 | E31: =SUM(E28:E30) -> 0 | F31: =SUM(F28:F30) -> 0 | G31: =SUM(G28:G30) -> 0 | H31: =SUM(H28:H30) -> 0
B32: =DATE(YEAR(B30),MONTH(B30)+1,DAY(B30)) -> 44105 | G32: =C32+E32 -> 0 | H32: =D32+F32 -> 0
B33: =DATE(YEAR(B32),MONTH(B32)+1,DAY(B32)) -> 44136 | G33: =C33+E33 -> 0 | H33: =D33+F33 -> 0
B34: =DATE(YEAR(B33),MONTH(B33)+1,DAY(B33)) -> 44166 | G34: =C34+E34 -> 0 | H34: =D34+F34 -> 0
B35: Qtr-III | C35: =SUM(C32:C34) -> 0 | D35: =SUM(D32:D34) -> 0 | E35: =SUM(E32:E34) -> 0 | F35: =SUM(F32:F34) -> 0 | G35: =SUM(G32:G34) -> 0 | H35: =SUM(H32:H34) -> 0
B36: =DATE(YEAR(B34),MONTH(B34)+1,DAY(B34)) -> 44197 | G36: =C36+E36 -> 0 | H36: =D36+F36 -> 0
B37: =DATE(YEAR(B36),MONTH(B36)+1,DAY(B36)) -> 44228 | G37: =C37+E37 -> 0 | H37: =D37+F37 -> 0
B38: =DATE(YEAR(B37),MONTH(B37)+1,DAY(B37)) -> 44256 | G38: =C38+E38 -> 0 | H38: =D38+F38 -> 0
B39: Qtr-IV | C39: =SUM(C36:C38) -> 0 | D39: =SUM(D36:D38) -> 0 | E39: =SUM(E36:E38) -> 0 | F39: =SUM(F36:F38) -> 0 | G39: =SUM(G36:G38) -> 0 | H39: =SUM(H36:H38) -> 0
B40: Total | C40: =SUM(C39,C35,C31,C27) -> 3750 | D40: =SUM(D39,D35,D31,D27) -> 3445 | E40: =SUM(E39,E35,E31,E27) -> 938 | F40: =SUM(F39,F35,F31,F27) -> 785 | G40: =SUM(G39,G35,G31,G27) -> 4688 | H40: =SUM(H39,H35,H31,H27) -> 4230
