Workbook
Name \1: #REF!
Name \1: #REF!
Name \2: [1]TLPPOCT!#REF!
Name \2: [1]TLPPOCT!#REF!
Name \a: #REF!
Name \a: #REF!
Name \b: #REF!
Name \b: #REF!
Name \p: #REF!
Name \p: #REF!
Name __1_1_1: #REF!
Name __1_1_1: #REF!
Name __2_1_1_1: #REF!
Name __2_1_1_1: #REF!
Name _1: #REF!
Name _1: #REF!
Name _1_1: #REF!
Name _1_1: #REF!
Name _1_1_1: #REF!
Name _1_1_1: #REF!
Name _1_1_1_1: #REF!
Name _1_1_1_1: #REF!
Name _1_1_1_1_1: #REF!
Name _1_1_1_1_1: #REF!
Name _1_10: #REF!
Name _1_10: #REF!
Name _1_2: #REF!
Name _1_2: #REF!
Name _1_2_1: #REF!
Name _1_2_1: #REF!
Name _1_7: #REF!
Name _1_7: #REF!
Name _1_8: #REF!
Name _1_8: #REF!
Name _1_9: #REF!
Name _1_9: #REF!
Name _10Excel_BuiltIn__FilterDatabase_10_1: #REF!
Name _10Excel_BuiltIn__FilterDatabase_10_1: #REF!
Name _11Excel_BuiltIn__FilterDatabase_11_1: #REF!
Name _11Excel_BuiltIn__FilterDatabase_11_1: #REF!
Name _12Excel_BuiltIn__FilterDatabase_9_1: #REF!
Name _12Excel_BuiltIn__FilterDatabase_9_1: #REF!
Name _13Excel_BuiltIn_Database_1: #REF!
Name _13Excel_BuiltIn_Database_1: #REF!
Name _14Excel_BuiltIn_Database_1_1: #REF!
Name _14Excel_BuiltIn_Database_1_1: #REF!
Name _15Excel_BuiltIn_Database_1_11_1: #REF!
Name _15Excel_BuiltIn_Database_1_11_1: #REF!
Name _16Excel_BuiltIn_Database_1_6_1: #REF!
Name _16Excel_BuiltIn_Database_1_6_1: #REF!
Name _2: [1]TLPPOCT!#REF!
Name _2: [1]TLPPOCT!#REF!
Name _2_1: [1]TLPPOCT!#REF!
Name _2_1: [1]TLPPOCT!#REF!
Name _2_1_1: [1]TLPPOCT!#REF!
Name _2_1_1: [1]TLPPOCT!#REF!
Name _2_1_1_1: [1]TLPPOCT!#REF!
Name _2_1_1_1: [1]TLPPOCT!#REF!
Name _2_1_1_1_1: [1]TLPPOCT!#REF!
Name _2_1_1_1_1: [1]TLPPOCT!#REF!

Sheet MG COVER PAGE
A1: Name of Distribution Licensee: M G V C L
A2: Quarter of the year : Q-I (Apr-May-Jun-2024-25)
A3: Year: 2024-25

Sheet MG SoP 01 
A1: Name of Distribution Licensee: M G V C L
A2: Quarter I (Apr-24 to Jun-24)
A3: Year:2024-25
A4: Performa - SoP 001: Fatal and Non-fatal accident report
A5: NUMBER OF ACCIDENTS FOR THE FIRST QUARTER 2024-25
A6: Sr. No | B6: Name of Area/Circle | C6: No of accidents in the quarter | H6: Cumulative since the first quarter of the current FY year
C7: Departmental | E7: Outside | H7: Departmental | J7: Outside
C8: FH | D8: NFH | E8: FH | F8: FA | G8: NFH | H8: FH | I8: NFH | J8: FH | K8: FA | L8: NFH
A9: 1 | B9: Baroda City | C9: 0 | D9: 0 | E9: 1 | F9: 0 | G9: 0 | H9: 0 | I9: 0 | J9: 1 | K9: 0 | L9: 0
A10: 2 | B10: Baroda (O&M) | C10: 0 | D10: 2 | E10: 6 | F10: 3 | G10: 3 | H10: 0 | I10: 2 | J10: 6 | K10: 3 | L10: 3
A11: 3 | B11: Anand | C11: 0 | D11: 1 | E11: 3 | F11: 2 | G11: 0 | H11: 0 | I11: 1 | J11: 3 | K11: 2 | L11: 0
A12: 4 | B12: Godhra | C12: 0 | D12: 1 | E12: 3 | F12: 10 | G12: 1 | H12: 0 | I12: 1 | J12: 3 | K12: 10 | L12: 1
A13: 5 | B13: Nadiad | C13: 0 | D13: 1 | E13: 3 | F13: 2 | G13: 2 | H13: 0 | I13: 1 | J13: 3 | K13: 2 | L13: 2
B14: TOTAL | C14: 0 | D14: 5 | E14: 16 | F14: 17 | G14: 6 | H14: 0 | I14: 5 | J14: 16 | K14: 17 | L14: 6
G15: =C14+D14+16+F14+G14 -> 44 | L15: =H14+I14+16+K14+L14 -> 44
A16: FH – Fatal Human, FA – Fatal Animal, NFH – Non-fatal Human
A17: The format is to be sent quarterly

Sheet SoP 002
A1: Performa – SoP 003: Action taken report for safety measures complied for the accidents occurred
A3: ACTION TAKEN REPORT FOR SAFETY MEASURES COMPLIED FOR THE ELECTRICAL ACCIDENTS OCCURED IN THE FOURTH QUARTER OF FY 2024-25
A5: 1 | B5: 2 | E5: 3 | F5: 4 | L5: 5 | M5: 6 | N5: 7 | O5: 8 | P5: 9 | Q5: 10
A6: Sr. No | B6: Location of Accident and details of the victim | C6: Address | D6: sdn | E6: Date of occurrence | F6: Type of Accident | G6: Installation | I6: Accident Type | L6: Cause of Accident | M6: Findings of CEI / EI / AEI | N6: Remedies suggested by CEI /EI / AEI in various cases | O6: Whether the remedy suggested is complied | P6: Action taken to avoid recurrence of such Accident | Q6: Amount of compensation and date of compensation paid | R6: Reason
A7: 1 | B7: Pateliya Sureshbhai Lalabhai,Dairy Faliyu, Vill- Jetharibor, Tal-Lunawada, Dist-Mahisagar | E7: 45389 | F7: FHO | L7: Victim may have tried to cut/shift tree branches near 11 kv overhead HT line at geo location no-290/1 to 290/2 of Panam 2 JGY feeder with the help of iron material box pipe approx.5 mtr length holding in his hand & got electrocuted due to his negligence & inattension. | M7: CEI report awaited | N7: N/A | O7: N/A | P7: HT open conductor replaced by coated & rectified as per safety measures. | Q7: 100000/Rs Dt-20.05.24 | R7: 8
A8: 2 | B8: Sonubhai Rameshwar Gounda, Vill-Gojpur, Tal-Sankheda, Dist-Chhotaudepur | E8: 45392 | F8: FHO | L8: While attending flow of water on th top of the shade of poultry farm he came in contect with live 11 kv conductor of 11 kv makni ag fdr ( the shade was constructed below exiting 11 kv line .the vertical clearance was about 4-5 feet between top shade to live conductor ) feeder and got electrocuted | M8: CEI report awaited | N8: NA | O8: NA | P8: Notice Issue,Sankheda/tech/185,12.04.2024 | R8: 2
A9: 3 | B9: Bullock of Ninama Hursingbhai Dityabhai,Vill-Galaliyawad,Tal-Dahod,Dist-Dahod | E9: 45393 | F9: FA | L9: Due to heavy wind and rain tree fallen on lt line and lt psc pole broken, phase wire of lt conductor broken and grounded, during primary investigation it is learnt that the bullock was wondering near broken lt conductor and came in contact with conductor and electrocuted. | M9: CEI report awaited | N9: N/A | O9: N/A | P9: New Pole errected and LT Stringing Work Done | R9: 8
A10: 4 | B10: Buffalo of Vanzara Govindbhai Dinabhai,Guna Talav Faliya,Vill-Guna,Tal-Devgadh Baria,Dist-Dahod | E10: 45395 | F10: FA | L10: As per statement and information received due to jump of peacock on saliya ag lt line messenger wire came in contact with jgy lt open line and leackege current flow from open JGY lt line to messeneger wire and from messenger wire leackage current came to earthing wire of near by pole where buffalo was tied and came in contact with earth wire so due to electrick shock buffalo died on the spot. | M10: CEI report awaited | N10: N/A | O10: N/A | P10: Open wire is replaced with LT ABC 2 wire and stringing of both AG and JGY LT done | R10: 8
A11: 5 | B11: Bhanubhai Nagjibhai Bharwad,Kanjari,Vill-Halol,Ta-Halol,Dist-Panchmahal | E11: 45396 | F11: FA | L11: As per primary investigation report it is found that one one lt conductor is snapped done and buffalo is passing through harishbhai's farm where incident happened buffalo come in contact with live wire and got electrocuted | M11: CEI report awaited | N11: N/A | O11: N/A | P11: LT line maintenance done .ie, Tree cutting ,line Stringing work ETC. | R11: 1
A12: 6 | B12: Dilipbhai Parsingbhai Rathva,Vill-Hansda,Tal/Dist-Chhotaudepur | E12: 45401 | F12: NFHO | L12: On Dt. 19.04.24, Sh. Dilipbhai Parsingbhai Rathva carried out illegal electrical work with plier near MGVCL transformer centre and get electrocuted. Location: Near Pole No. LHV/BDG/AG/5 , 11 KV Bodgam AG Feeder | M12: CEI report awaited | N12: NA | O12: NA | P12: as unauthorized work carried out by victim, no action taken by MGVCL | R12: 6
A13: 7 | B13: Chunilal Laljibhai Pandor,Vill-Kamboi,Tal-Zalod,Dist-Dahod | E13: 45407 | F13: NFHD | L13: Shri C L Pandor, Shri V B Baria and Shri C V Khant were doing the work of stringing loose span on 11 Mirakhedi Ag Feeder. Line clear for 11KV Mirakhedi Ag Feeder was taken by LC number 3990 and LC of 11 KV Retia feeder was taken by LC number 3991. Shri C V khant had completed his work of conductor binding on pole and while removing loose flexiwire which he used for picking conductor got stuck to 66 KV Limdi Karath Getco line and power came in Mirakhedi AG Feeder. Shri C L Pandor was doing ju | M13: CEI report awaited | N13: N/A | O13: N/A | P13: 11KV MIRAKHEDI AG Feeder's HT POLE(which was below the 66KV KARATH GETCO LINE) is shifted. | R13: 3
A14: 8 | B14: Rohitbhai Jibhabhai Parmar,Dandiyapur sim,Vill-Dandiyapur,Tal-kapadwanj,Dist-Kheda | E14: 45414 | F14: FHO | L14: On dated 02.05.2024, around 02:45 P.M. As Per Village People's Information a victim Shri. Rohitbhai Jibhabhai Parmar Village Dandiyapur was Intencenally climbed up Tapping Pole of TC of Shri. Budhabhai Shakrabhai Parmar Farm Where Passing 11KV Alawa Ag Feeder. Victim was Contact With HT Line Live Conductor got electrocuted and Fallen Down & Refer to Him Vatrak Hospital at Bayad by 108 Ambulance, During The Treatment Victim was die | M14: CEI report awaited | N14: N/A | O14: N/A | P14: Informed local public to not to do such agressive action in future. | R14: 2
A15: 9 | B15: Camels of Shri Omkarbhai Amarabhai Rabari,Nava Vanta,Vill-Bhanthala,Tal-Balasinor,Dist-Mahisagar | E15: 45421 | F15: FA | L15: During grassing a herd of camels come to farm of shri Mohanbhai Karabhai Chauhan at Nava Vanta of Villa Bhanthala. After drinking water from small pit of water 01 camel came in contact with live wire of 11 KV Ichhana Muvada AG feeder, earlier during line maintenance conductor stringing done but due to long span new pole proposed at mid and stay at tapping pole, but denined by farm owner. Hence, pole inclined towards DODP side and ground clearance was reduced | M15: CEI report awaited | N15: N/A | O15: N/A | P15: stringing of conductor carried out | R15: 2
A16: 10 | B16: Shri kishankumar dineshbhai chauhan & shri vishalkumar melabhia chauhan,Chikhodra Pura,Vill-Saiyadpura,Tal-Umareth,Dist-Anand | E16: 45425 | F16: FHO | L16: During the site inspection it is found that,due to function arranged (માનતા) at shri parmar kanubhai raysingbhai , vill : chikhodarapura, saiyadpura on Dt.14.05.2024, mandap constructing work for the same was going since today's (13.05.2024) morning. The mandap structure is laid almost beneath the 11kv kasor AG feeder line. During the mandap work, two victims were on the mandap for tying the clothes around the structure. At that time accidentally one of the victim k | M16: Not Received | N16: NA | O16: NA | P16: Informed local public to not to do such kind of work near elevtricity line | R16: 6
A17: 11 | B17: Cows,Navapura faliya Nr. Mahadev Temple,Vill-Waghodia,Tal-waghodia,Dist-Baroda | E17: 45425 | F17: FA | L17: The Cows was passing near transformer location and got electrocuted due to rain water passing through transformer area at that time of incident and cows (02-number) may come in contact with leakage current. While checking for leakage current, it was found that leakage current came from service wire of consumer number 02901032699 Shri Vitthalbhai Koyjibhai Parmar, bariya faliya where service wire is shorted and cows got in contact with leakage current and got electrocuted | M17: CEI report awaited | N17: NA | O17: NA | P17: Fencing to be provided to trasnformer location. | R17: 2
A18: 12 | B18: Mr. Girishbhai kanshubhai rathwa,Vill-Bhekhadiya,Tal-Kawant,Dist-Chhota Udaipur | E18: 45425 | F18: NFHD | L18: During cyclonic conditions Shri V P Rathwa, Shri G K Rathwa , Shri GN Rathwa , Shri AV Rathwa were doing power supply restoration work of 66 KV bhekhadiya SS . During this work they found one jumper of 11 KV Nalwant JGY feeder was required to fix . So for that Shri VP Rathwa had telephonically contacted to substation operator to make LCP of 11 KV Nalwant JGY feeder. After that Shri G K Rathwa was climbed on the DP structure to fix the jumper but after completion of work his hand might be touched | M18: CEI report awaited | N18: NA | O18: NA | P18: Instructin given to do earthing while working on HT line and to use safety tools. | R18: 3
A19: 13 | B19: Vipulkumar naginbhai solanki,Borsad Faliya Near BSNL Tower,Vill-Chakaliya,Tal-Zalod,Dist-Dahod | E19: 45425 | F19: NFHD (Mech) | L19: Fell Down From Pole | M19: CEI report awaited | N19: N/A | O19: N/A | P19: All Line Staff are Istructed in safety meeting to work with due sare and safety gadjets in order to avoid such accidents | R19: 3
A20: 14 | B20: Bolia ratnabhai ghelabhai cow,Behind Lal Bunglow Vill-Halol,Tal-Halol,Dist-Panchmahal | E20: 45426 | F20: FA | L20: As per primary investigation report it is found that single phase LT AB cable was passing beside neem tree due to heavy wind and rainy atmosphere neem tree fell on LT line due to which cable fell on ground , cow gazing near LT line accidentaly came in contact with this live LT cable and got electrocuted | M20: CEI report awaited | N20: N/A | O20: N/A | P20: LT line maintenance done .ie, Tree cutting ,line Stringing work ETC. | Q20: 15000/-28.06.24 | R20: 2
A21: 15 | B21: Buffellow of shri laxmansinh pratapsinh rana,Opposite Dairy,Vill-Mahelaj,Tal-Matar,Dist-Kheda | E21: 45426 | F21: FA | L21: on dt 14.05.2024 buffellow of Shri Laxmansinh Pratapsinh Rana is passing near to SDUML dairy of Mahelaj village and suddenly buffelow came in to the contact with STAY wire of LT pole and got electic shock and died on the spot | M21: CEI report awaited | N21: N/A | O21: N/A | P21: LT POLE maintenance carried out with new Stay Insulators and Stay provided | R21: 2
A22: 16 | B22: Owner name-1)kanjibhai khimchandbhai bilwal,2)manjibhai khimchandbhai bilwal,Near Forest office,Vill-Garbada,Tal-Garbada,Dist-Dahod | E22: 45426 | F22: FA | L22: while visiting on incident place , there is no any leakage current found on transformer center at the time of site visit. Two cows found died just below transformer centre and it has come to know that there was heavy rainfall during night as well as morning hours and there may be leakage current during rainfall at incident place and cows may be came in contact with transformer center installation where it may get electrocuted and died on the spot | M22: CEI report awaited | N22: N/A | O22: N/A | P22: PVC rigid pipe provided on newtral earthing of Transformer | Q22: 2x15000/ Rs Dt-16.05.24 | R22: 2
A23: 17 | B23: Ganpatsinh Bhagwan Jadav,Vill-Por,Tal-Vadodara,Dist-Vadodara | E23: 45428 | F23: FHO | L23: Line Clear Permit was taken of 11 KV Gosindra AG Feeder by M.M. Rathwa (EA) on Dt. 15/05/2024 at 22:30. Shree Ganpatbhai Jadav unauthorizedly climed on DP structure at Sub Station. During time, as per investigation, return power may came to the TC/Pole Location: - KSP/GOS/02 (Accident Location), which resulted in the victim getting electrocuted. | M23: CEI report awaited | N23: NA | O23: NA | P23: Instructin given to do earthing while working on HT line .Public awareness is given to local people at accident sit not to work on pole | R23: 6
A24: 18 | B24: Shri Nahatiyabhai Kasanbhai Muniya,Vill-Goraj,Tal-Waghodia,Dist-Vadodara | E24: 45433 | F24: FHO | L24: Information received from Waghodia Police Station vide letter no. 2140/24 dt .25.05.2024 received videinward no. 606 dt. 27.05.2024. On dt. 21.05.2024 at approx. 07:30 am victim shri Nahatiyabhai Kasanbhai Muniya climbed on the housse ( under construction below HT line ) and his head got in touch of HT line of 11 KV Goraj Jgy feeder at loc between 192/1 and 192/2 and came in contact with live wire and got electrocuted and injured on the part of head and fallen down. Victim was admitted to SSG Ho | M24: CEI report awaited | N24: NA | O24: NA | P24: Notice issued for construction of house under HT line. | R24: 8
A25: 19 | B25: Patel sarfarjbhai ishakbhai & harijan aratbhai sanabhai,Market yard Faliya,Vill-Sanjeli,Tal-Sanjeli,Dist-Dahod | E25: 45435 | F25: NFHO | L25: At time of inogration of madhavi clinic then they was changed direction of banner to fit on building that time banner is touch to 11KV Sanjeli JGY feeder and they both are got electrocuted | M25: CEI report awaited | N25: NA | O25: NA | P25: 11 KV Sanjeli Feeder Is Approximate 11 Feet From Building,Public awareness is given to local people at accident site | R25: 6
A26: 20 | B26: Nilkanthgiri Jasvantgiri Goswami,Vill-Majargamdi,Tal-Vadodara,Dist-Vadodara | E26: 45435 | F26: NFHD | L26: While cutting the conductor, it suddenly flee and came in contact with 66 KV GETCO line, and since N.J. Goswami was cutting the line, he came in contact with the conductor and got Electrical shock. | M26: CEI report awaited | N26: NA | O26: NA | P26: open HT conductor replaced with HT ABC | R26: 2
A27: 21 | B27: One buffalo of owner shri patel gopalbhai mansukhbha,Vill-Paniya,Tal-Limkheda,Dist-Dahod | E27: 45437 | F27: FA | L27: As per panchnama and eyewitness the Buffalo was grazing near the farmland of Shri Harisingbhai Sartanbhai , the adjoining farmland has fenced his farmland, the fencing was touching the Distribution box of the Ag TC installed in the farmland of Shri Patel Harisingbhai Sartanbhai and because of leakage current in the Distribution box due to some reason ,the current got flown into the fencing and the buffalo might have been electrocuted while getting touched with the fencing | M27: CEI report awaited | N27: NA | O27: NA | P27: Leakage current rectified. also, PVC pipe is added in the earthing. | R27: 2
A28: 22 | B28: Ditiyabhai bhojabhai bhuriya and fatiyabhai bhojabhai bhuriya,Near primary school,Vill-Bhe,Tal-Garbada,Dist-Dahod | E28: 45440 | F28: FA | L28: As per site visit on incident place, The incident taken place in Bhe Bhagol faliya near primary school. 11KV Dadur jgy feeder fed power supply to this area. The 11KV conductor breakdown occurred at incident place and broken conductor laid down on the ground ,meanwhile three Goats grassing nearby incident place they may be came in contact with the broken conductor and may electric shock and died on the spot. More ever,A approximate 10 year old boy who grazing this three Goats. When he saw Goats | M28: CEI report awaited | N28: NA | O28: NA | P28: Conductor jointing andrl re stringing is done and location is rectified. | R28: 1
A29: 23 | B29: Mehulbhai arvindbhai bhuriya,Near primary school,Vill-Bhe,Tal-Garbada,Dist-Dahod | E29: 45440 | F29: FA | L29: As per site visit on incident place, The incident taken place in Bhe Bhagol faliya near primary school. 11KV Dadur jgy feeder fed power supply to this area. The 11KV conductor breakdown occurred at incident place and broken conductor laid down on the ground ,meanwhile three Goats grassing nearby incident place they may be came in contact with the broken conductor and may electric shock and died on the spot. More ever,A approximate 10 year old boy who grazing this three Goats. When he saw Goats | M29: CEI report awaited | N29: NA | O29: NA | P29: Conductor jointing and restringing work is done and location is rectified. | R29: 1
A30: 24 | B30: 1) Andazkhan Sarfarazkhan Pathan & 2) Hiteshbhai Dineshbhai Parekh,Vill-Karmsad,Tal-Anand,Dist-Anand | E30: 45443 | F30: NFHD | L30: During the routine works of provding LT new connection, Shri A S Pathan, EA(VS) came in contact with live LT ABC wire and got electrocuted on PSC Pole and while rescuing him from PSC Pole Shri H D Parekh fallen on the ground along with shri A S Pathan. Following, they bot h required immediate medical attention. | M30: CEI report awaited | N30: NA | O30: NA | P30: Instruction is given to line staff to switch of the supply while eorking on pole | R30: 3
A31: 25 | B31: Sh. Dhansingbhai Maniyabhai Rathva,Vill-Poniya,Tal-Chhotaudepur,Dist-Chhotaudepur | E31: 29/05/24 | F31: NFHO | L31: Victim climb HT Pole of Ode AG feeder and carried out unauthorized electrical work and accidentally in contact with live wore and get electrocuted. | M31: CEI report awaited | N31: NA | O31: NA | P31: as unauthorized work carried out by victim, no action taken by MGVCL | R31: 6
A32: 26 | B32: Kanaram Kaluram Bhil,Vill-Limbani,Tal-Chhotaudepur,Dist-Chhotaudepur | E32: 45450 | F32: FHO | L32: Accident occured when he was doing maintanance works on 11 KV kundal AG Feeder .section of kundal AG Feeder was isolated by removing section D.O fuse.he was doing conductor stringing works without informing to the supervisor and climbed on pole at that time suddenly the one phase conductor wire might be in touch with across the passing feeder of 11 KV Alsipur JGY Line.so he was touched live conductor and got electrocuted and falled down from the pole.the victim KANARAM KALURAM BHIL was refered t | M32: CEI report awaited | N32: NA | O32: NA | P32: distance mainten (crossing remove) for two feeder maintenace of 11kv kundal AG and 11 kv alsipur JGY feeder | R32: 2
A33: 27 | B33: Cow,Zari bhujarg kalasiya,tadvi faliya,Vill-Zari bhujarg,Tal-Garbada,Dist-Dahod | E33: 45451 | F33: FA | L33: the cow was grazing near by transformer centre durning raining in morning time there may be leakage current in GI earthing wire of TC and cow may be came in contact with GI wire and get electric shock and died the spot.while visiting incident site on same date there was no any leakage current found | M33: CEI report awaited | N33: NA | O33: NA | P33: Side Visited And No Leakage Current At Found. PVC pipe is added in earthing in order to avoid such accidents. | R33: 2
A34: 28 | B34: Siyaben Vishvajit Raval,ramnagar,Vill-Vadodara,Tal-Vadodara,Dist-Vadodara | E34: 45452 | F34: FHO | L34: Fatal human(outsider) electrical accident occured at iron ladder outside the house no.300,ramnagar service wire of house no.189 is shorted with GI wire. So leakage current is flows in service wire gi of house no.300 through guarding wire. GI wire of house no.300 is tied with nail affix on house wall nearer to iron ladder. So leakage current might be flows from nail to iron ladder through internal slab rod of house no.300. There is no any electrical line contact with iron ladder. | M34: CEI report awaited | N34: NA | O34: NA | P34: service wire of house no 189 is replaced and 3 spans of streetlight guarding wire is dismantled. | R34: 2
A35: 29 | B35: Vinodbhai K Chouhan,Near mahisagar bridge,Vill-Sevalia,Tal-Galteshwar,Dist-Kheda | E35: 45452 | F35: FHO | L35: As per site situation driver was unloading sand from dumper near check post-sevalia in open plot. At that time dumper Vehicle was running with open hydrolic condition hence it touched to 11 kV sevalia jgy Feeder's live wire at the same time victim was closing back side of dumper and Electroculated. | M35: CEI report awaited | N35: NA | O35: NA | P35: Intrcucted to run vehicle Dumper in off possision of hydrolic | R35: 2
A36: 30 | B36: Buffaloes of shri Rathwa Raisingbhai Sindhiyabhai,Vill-Akotadar,Tal-Dabhoi,Dist-Vadodara | E36: 45453 | F36: FA | L36: Due to extreme wind and cyclone effect on dated 09.06.2024 in the eveing one of the tarsana jgy LT 2 wire O/H line pole of catering power to pathan imrankhan kalekha was dameged and fall down in farm of sindhiyabhai duliyabhai nayaka at village akotadar no such complain received in complain centre of dabhoi rural sub division next day around 3:00 pm while 4 no's of buffalo grazing near farm of sindhiuabhai duliyabhai nayaka at village akotadar.all 4 no's buffalo accidently came in contact with | M36: CEI report awaited | N36: NA | O36: NA | P36: New Pole Erected and Stringing of Conductors | R36: 1
A37: 31 | B37: Rathava Nileshbhai Balsingbhai,Dhebar faliyu,Vill-Rojkuva ,Tal-Chhotaudepur,Dist-Chhotaudepur | E37: 45454 | F37: FHO | L37: The accident occurred due to cyclone & heavy wind came at village Rojkuva (Dhebar Faliyu) Ta-Dist- C pur .victim Shree Nileshbhai Balsingbhai Rathava was sleeping below LT open line of at his Home. Suddenly cyclone & heavy wind came & LT line live conductor snapped and fall's on victim. Unfortunately victim Shree Nileshbhai Balsingbhai Rathava came in contact with live conductor and got electrocuted. Therefore Victim has shifted at near Hospital CHC Tejgadh but doctor has declared dead. | M37: CEI report awaited | N37: NA | O37: NA | P37: conductor binding work done | R37: 1
A38: 32 | B38: Pravinsinh Kalabhai Chauhan,Jarmala,Vill-Jarmala,Tal-Kathlal,Dist-Kheda | E38: 45457 | F38: NFHO | L38: due to heavy wind tree branch of saptpadi fallen on 11kv line and feeder goes in fault and when getco operater takes trial this branches slip to one conductor and shop whose constructed below the line and victim goes electric shock | M38: CEI report awaited | N38: NA | O38: NA | P38: On Dated:15/06/2024 Whole Saptpadi Tree Cut By Staff | R38: 6
A39: 33 | B39: Nareshbhai Shanabhai Baria,Vill-Bhulvan,Tal-Sankheda,Dist-Chhotaudepur | E39: 45459 | F39: FHO | L39: Victim, who was not authorised to work on our network,on Dtd 16.6.24 @ 11.00 a.m. While attending deam power complaint of said village climbed on DODP unit to check the jumpers.When he touched jumper,he got electrocuted and stick on structure during this the person Chiragbhai Prahladbhai Bariya(Eye witness) removed him with bamboo and he fell down. Though he was conscious so shifted to Govt Hospital,sankheda by Pvt Vehicle where after treatment he expired at @ 1 PM at hospital. | M39: CEI report awaited | N39: NA | O39: NA | P39: No Work Required | R39: 6
A40: 34 | B40: Qureshi Salimmiya Anvarmiya,Vill-Balol,Tal-Mahudha,Dist-Kheda | E40: 45460 | F40: FHO | L40: As per statement given in panchnama , victim was covering bajari grass pile in his farm by iron wir. Our 11 kv line was passing near by that grass. For covering that grass he has thrown an iron wire and that iron wire may touch our live 11 kv line wire and that person was may be eletrocuted | M40: CEI report awaited | N40: NA | O40: NA | P40: Instrcuted not to use any wire and inform to use dry wood rod. | R40: 2
A41: 35 | B41: Sujal hareshbhai Valand,At.g n high school,Vill-Navi rakhiyal,Tal-Thasra,Dist-Kheda | E41: 45462 | F41: NFHO | L41: on Dtd. 19.06.24 ,Sujal hareshbhai Valand ,15 years boys was climd on the wash room of G N HIgh school of Science ,Navi Rakhiyal near a mango tree and try to carry out mangoes from mango tree by one iron rod touch to live wires of HT line of 11 kv kalsar JGY FDR which is passing outside from a school compound that time current passing through his body and he get electric shocked and get hospitalized. | M41: CEI report awaited | N41: NA | O41: NA | P41: Necessory rectification is done | R41: 6
A42: 36 | B42: Baldevbhai Rancchodbhai Zala,Vill-Shekhupur mahelaj,Tal-Matar,Dist-Kheda | E42: 45464 | F42: NFHD | L42: On dated 21.06.2024 at approx 15.45 hrs Shri B R Zala working on 11 kv kHARETI AG FEEDER PSC Pole at AmanFarm and got Electric shock and fall down and Burning His both Thigh due to Electric ACCIDENT | M42: CEI report awaited | N42: NA | O42: NA | P42: letter issued to Shri T D Malek (EA )and Shri G N Masani (EA). And aware staff to take care during team work | R42: 2
A43: 37 | B43: Cow,Veraymata faliya,Vill-Vaghach,Tal-Naswadi,Dist-Chhotaudepur | E43: 45466 | F43: FA | L43: Cow was grasing near treansformer structure and contact to the earthing wire of transformer and momentarily leakage current may be pass so died at place due to electric shock. | M43: CEI report awaited | N43: NA | O43: NA | P43: Maintanance of transformer center is done. | R43: 2
... A50: 44 | B50: Dhuliben Arvindsinh Chauhan,Navapura udanar faliyu,Vill-Khorvad,Tal-Umreth,Dist-Anand | E50: 45473 | F50: FHO | L50: At This Location Due To Heavy Rain And Wind One Phase Of LT 3PH 4W LT ABC was punctured and touched with rail pole. Buffello was passing near rail pole suddenly comes in contact with rail pole and got electrocuted | M50: CEI report awaited | N50: NA | O50: NA | P50: Illegeal house construction by victim near 11 KV line & Notice for issued by SDO | R50: 2
L53: d

Sheet MG SoP 03B 
A1: SOP 3-00B - REGISTER FOR COMPILING THE COMPLAINTS - CLASSIFIFCATION WISE
A2: ='MG COVER PAGE'!A2 -> Quarter of the year : Q-I (Apr-May-Jun-2024-25)
A3: Name of Office : MGVCL Corporate office
A4: Classification | B4: Nature of Complaints | C4: Pending complaints of previous qtr. | D4: Complaints received during the qtr. | E4: Total Complaints | F4: No. of Complaints redressed during the quarter. | I4: Balance Complaints to be redressed
F6: Within stipulated time. | G6: Beyond stipulated time. | H6: Total
B7: 1 | C7: 2 | D7: 3 | E7: 4=2+3 | F7: 5 | G7: 6 | H7: 7=5+6 | I7: 8=4-7
A8: A | B8: Interruption in power supply | C8: =SUM(C9:C13) -> 0 | D8: =SUM(D9:D13) -> 133945 | E8: =C8+D8 -> 133945 | F8: =SUM(F9:F13) -> 133945 | G8: =SUM(G9:G13) -> 0 | H8: =F8+G8 -> 133945 | I8: =E8-H8 -> 0
A9: I | B9: Loose connections at meter, MCB or service line or from pole | C9: 0 | D9: =[25]ANC!D9+[25]BCC!D9+[25]BRD!D9+[25]GDC!D9+[25]NDC!D9 -> 64243 | E9: =C9+D9 -> 64243 | F9: =[25]ANC!F9+[25]BCC!F9+[25]BRD!F9+[25]GDC!F9+[25]NDC!F9 -> 64243 | G9: =[25]ANC!G9+[25]BCC!G9+[25]BRD!G9+[25]GDC!G9+[25]NDC!G9 -> 0 | H9: =F9+G9 -> 64243 | I9: =E9-H9 -> 0
A10: II | B10: Interruption due to line breakdown | C10: 0 | D10: =[25]ANC!D10+[25]BCC!D10+[25]BRD!D10+[25]GDC!D10+[25]NDC!D10 -> 44522 | E10: =C10+D10 -> 44522 | F10: =[25]ANC!F10+[25]BCC!F10+[25]BRD!F10+[25]GDC!F10+[25]NDC!F10 -> 44522 | G10: =[25]ANC!G10+[25]BCC!G10+[25]BRD!G10+[25]GDC!G10+[25]NDC!G10 -> 0 | H10: =F10+G10 -> 44522 | I10: =E10-H10 -> 0
A11: III | B11: No power complaint on account of blowing of HT/ DropOut (DO)/ LT fuse | C11: 0 | D11: =[25]ANC!D11+[25]BCC!D11+[25]BRD!D11+[25]GDC!D11+[25]NDC!D11 -> 16867 | E11: =C11+D11 -> 16867 | F11: =[25]ANC!F11+[25]BCC!F11+[25]BRD!F11+[25]GDC!F11+[25]NDC!F11 -> 16867 | G11: =[25]ANC!G11+[25]BCC!G11+[25]BRD!G11+[25]GDC!G11+[25]NDC!G11 -> 0 | H11: =F11+G11 -> 16867 | I11: =E11-H11 -> 0
A12: IV | B12: Interruption due to failure of transformer or distribution transformer MCB | C12: 0 | D12: =[25]ANC!D12+[25]BCC!D12+[25]BRD!D12+[25]GDC!D12+[25]NDC!D12 -> 5204 | E12: =C12+D12 -> 5204 | F12: =[25]ANC!F12+[25]BCC!F12+[25]BRD!F12+[25]GDC!F12+[25]NDC!F12 -> 5204 | G12: =[25]ANC!G12+[25]BCC!G12+[25]BRD!G12+[25]GDC!G12+[25]NDC!G12 -> 0 | H12: =F12+G12 -> 5204 | I12: =E12-H12 -> 0
A13: V | B13: Load shedding/ schedule outages | C13: 0 | D13: =[25]ANC!D13+[25]BCC!D13+[25]BRD!D13+[25]GDC!D13+[25]NDC!D13 -> 3109 | E13: =C13+D13 -> 3109 | F13: =[25]ANC!F13+[25]BCC!F13+[25]BRD!F13+[25]GDC!F13+[25]NDC!F13 -> 3109 | G13: =[25]ANC!G13+[25]BCC!G13+[25]BRD!G13+[25]GDC!G13+[25]NDC!G13 -> 0 | H13: =F13+G13 -> 3109 | I13: =E13-H13 -> 0
A14: B | B14: Quality of power supply | C14: =SUM(C15:C19) -> 0 | D14: =SUM(D15:D19) -> 10697 | E14: =C14+D14 -> 10697 | F14: =SUM(F15:F19) -> 10697 | G14: =SUM(G15:G19) -> 0 | H14: =F14+G14 -> 10697 | I14: =E14-H14 -> 0
A15: I | B15: Ordinary case, which requires no augmentation, | C15: 0 | D15: =[25]ANC!D15+[25]BCC!D15+[25]BRD!D15+[25]GDC!D15+[25]NDC!D15 -> 6153 | E15: =C15+D15 -> 6153 | F15: =[25]ANC!F15+[25]BCC!F15+[25]BRD!F15+[25]GDC!F15+[25]NDC!F15 -> 6153 | G15: =[25]ANC!G15+[25]BCC!G15+[25]BRD!G15+[25]GDC!G15+[25]NDC!G15 -> 0 | H15: =F15+G15 -> 6153 | I15: =E15-H15 -> 0
A16: II | B16: Where augmentation is required. | C16: 0 | D16: =[25]ANC!D16+[25]BCC!D16+[25]BRD!D16+[25]GDC!D16+[25]NDC!D16 -> 2760 | E16: =C16+D16 -> 2760 | F16: =[25]ANC!F16+[25]BCC!F16+[25]BRD!F16+[25]GDC!F16+[25]NDC!F16 -> 2760 | G16: =[25]ANC!G16+[25]BCC!G16+[25]BRD!G16+[25]GDC!G16+[25]NDC!G16 -> 0 | H16: =F16+G16 -> 2760 | I16: =E16-H16 -> 0
A17: III | B17: Harmonics related issue | C17: 0 | D17: =[25]ANC!D17+[25]BCC!D17+[25]BRD!D17+[25]GDC!D17+[25]NDC!D17 -> 53 | E17: =C17+D17 -> 53 | F17: =[25]ANC!F17+[25]BCC!F17+[25]BRD!F17+[25]GDC!F17+[25]NDC!F17 -> 53 | G17: =[25]ANC!G17+[25]BCC!G17+[25]BRD!G17+[25]GDC!G17+[25]NDC!G17 -> 0 | H17: =F17+G17 -> 53 | I17: =E17-H17 -> 0
A18: IV | B18: Neutral voltage related issue | C18: 0 | D18: =[25]ANC!D18+[25]BCC!D18+[25]BRD!D18+[25]GDC!D18+[25]NDC!D18 -> 485 | E18: =C18+D18 -> 485 | F18: =[25]ANC!F18+[25]BCC!F18+[25]BRD!F18+[25]GDC!F18+[25]NDC!F18 -> 485 | G18: =[25]ANC!G18+[25]BCC!G18+[25]BRD!G18+[25]GDC!G18+[25]NDC!G18 -> 0 | H18: =F18+G18 -> 485 | I18: =E18-H18 -> 0
A19: V | B19: Voltage variations related issue | C19: 0 | D19: =[25]ANC!D19+[25]BCC!D19+[25]BRD!D19+[25]GDC!D19+[25]NDC!D19 -> 1246 | E19: =C19+D19 -> 1246 | F19: =[25]ANC!F19+[25]BCC!F19+[25]BRD!F19+[25]GDC!F19+[25]NDC!F19 -> 1246 | G19: =[25]ANC!G19+[25]BCC!G19+[25]BRD!G19+[25]GDC!G19+[25]NDC!G19 -> 0 | H19: =F19+G19 -> 1246 | I19: =E19-H19 -> 0
A20: C | B20: Meters | C20: =SUM(C21:C26) -> 0 | D20: =SUM(D21:D26) -> 17885 | E20: =C20+D20 -> 17885 | F20: =SUM(F21:F26) -> 17885 | G20: =SUM(G21:G26) -> 0 | H20: =F20+G20 -> 17885 | I20: =E20-H20 -> 0
A21: I | B21: Stopped/Defective Meters. | C21: 0 | D21: =[25]ANC!D21+[25]BCC!D21+[25]BRD!D21+[25]GDC!D21+[25]NDC!D21 -> 10651 | E21: =C21+D21 -> 10651 | F21: =[25]ANC!F21+[25]BCC!F21+[25]BRD!F21+[25]GDC!F21+[25]NDC!F21 -> 10651 | G21: =[25]ANC!G21+[25]BCC!G21+[25]BRD!G21+[25]GDC!G21+[25]NDC!G21 -> 0 | H21: =F21+G21 -> 10651 | I21: =E21-H21 -> 0
A22: II | B22: Meter accuracy test (Fast/ Slow | C22: 0 | D22: =[25]ANC!D22+[25]BCC!D22+[25]BRD!D22+[25]GDC!D22+[25]NDC!D22 -> 1269 | E22: =C22+D22 -> 1269 | F22: =[25]ANC!F22+[25]BCC!F22+[25]BRD!F22+[25]GDC!F22+[25]NDC!F22 -> 1269 | G22: =[25]ANC!G22+[25]BCC!G22+[25]BRD!G22+[25]GDC!G22+[25]NDC!G22 -> 0 | H22: =F22+G22 -> 1269 | I22: =E22-H22 -> 0
A23: III | B23: Burnt Meter | C23: 0 | D23: =[25]ANC!D23+[25]BCC!D23+[25]BRD!D23+[25]GDC!D23+[25]NDC!D23 -> 927 | E23: =C23+D23 -> 927 | F23: =[25]ANC!F23+[25]BCC!F23+[25]BRD!F23+[25]GDC!F23+[25]NDC!F23 -> 927 | G23: =[25]ANC!G23+[25]BCC!G23+[25]BRD!G23+[25]GDC!G23+[25]NDC!G23 -> 0 | H23: =F23+G23 -> 927 | I23: =E23-H23 -> 0
A24: IV | B24: Stolen Meter | C24: 0 | D24: =[25]ANC!D24+[25]BCC!D24+[25]BRD!D24+[25]GDC!D24+[25]NDC!D24 -> 45 | E24: =C24+D24 -> 45 | F24: =[25]ANC!F24+[25]BCC!F24+[25]BRD!F24+[25]GDC!F24+[25]NDC!F24 -> 45 | G24: =[25]ANC!G24+[25]BCC!G24+[25]BRD!G24+[25]GDC!G24+[25]NDC!G24 -> 0 | H24: =F24+G24 -> 45 | I24: =E24-H24 -> 0
A25: V | B25: Billing on average basis for more than two hills | C25: 0 | D25: =[25]ANC!D25+[25]BCC!D25+[25]BRD!D25+[25]GDC!D25+[25]NDC!D25 -> 4003 | E25: =C25+D25 -> 4003 | F25: =[25]ANC!F25+[25]BCC!F25+[25]BRD!F25+[25]GDC!F25+[25]NDC!F25 -> 4003 | G25: =[25]ANC!G25+[25]BCC!G25+[25]BRD!G25+[25]GDC!G25+[25]NDC!G25 -> 0 | H25: =F25+G25 -> 4003 | I25: =E25-H25 -> 0
A26: VI | B26: Meter boxes/ metering system | C26: 0 | D26: =[25]ANC!D26+[25]BCC!D26+[25]BRD!D26+[25]GDC!D26+[25]NDC!D26 -> 990 | E26: =C26+D26 -> 990 | F26: =[25]ANC!F26+[25]BCC!F26+[25]BRD!F26+[25]GDC!F26+[25]NDC!F26 -> 990 | G26: =[25]ANC!G26+[25]BCC!G26+[25]BRD!G26+[25]GDC!G26+[25]NDC!G26 -> 0 | H26: =F26+G26 -> 990 | I26: =E26-H26 -> 0
A27: D | B27: Overhead lines | C27: =SUM(C28:C29) -> 0 | D27: =SUM(D28:D29) -> 6989 | E27: =C27+D27 -> 6989 | F27: =SUM(F28:F29) -> 6989 | G27: =SUM(G28:G29) -> 0 | H27: =F27+G27 -> 6989 | I27: =E27-H27 -> 0
A28: I | B28: Loose Wires | C28: 0 | D28: =[25]ANC!D28+[25]BCC!D28+[25]BRD!D28+[25]GDC!D28+[25]NDC!D28 -> 5322 | E28: =C28+D28 -> 5322 | F28: =[25]ANC!F28+[25]BCC!F28+[25]BRD!F28+[25]GDC!F28+[25]NDC!F28 -> 5322 | G28: =[25]ANC!G28+[25]BCC!G28+[25]BRD!G28+[25]GDC!G28+[25]NDC!G28 -> 0 | H28: =F28+G28 -> 5322 | I28: =E28-H28 -> 0
A29: II | B29: Inadequate ground clearance | C29: 0 | D29: =[25]ANC!D29+[25]BCC!D29+[25]BRD!D29+[25]GDC!D29+[25]NDC!D29 -> 1667 | E29: =C29+D29 -> 1667 | F29: =[25]ANC!F29+[25]BCC!F29+[25]BRD!F29+[25]GDC!F29+[25]NDC!F29 -> 1667 | G29: =[25]ANC!G29+[25]BCC!G29+[25]BRD!G29+[25]GDC!G29+[25]NDC!G29 -> 0 | H29: =F29+G29 -> 1667 | I29: =E29-H29 -> 0
A30: E | B30: Bills | C30: =SUM(C31:C34) -> 0 | D30: =SUM(D31:D34) -> 14824 | E30: =C30+D30 -> 14824 | F30: =SUM(F31:F34) -> 14824 | G30: =SUM(G31:G34) -> 0 | H30: =F30+G30 -> 14824 | I30: =E30-H30 -> 0
A31: I | B31: For current bills where no additional information is required | C31: 0 | D31: =[25]ANC!D31+[25]BCC!D31+[25]BRD!D31+[25]GDC!D31+[25]NDC!D31 -> 9725 | E31: =C31+D31 -> 9725 | F31: =[25]ANC!F31+[25]BCC!F31+[25]BRD!F31+[25]GDC!F31+[25]NDC!F31 -> 9725 | G31: =[25]ANC!G31+[25]BCC!G31+[25]BRD!G31+[25]GDC!G31+[25]NDC!G31 -> 0 | H31: =F31+G31 -> 9725 | I31: =E31-H31 -> 0
A32: II | B32: Where additional information relating to correctness of reading etc. is required, | C32: 0 | D32: =[25]ANC!D32+[25]BCC!D32+[25]BRD!D32+[25]GDC!D32+[25]NDC!D32 -> 4149 | E32: =C32+D32 -> 4149 | F32: =[25]ANC!F32+[25]BCC!F32+[25]BRD!F32+[25]GDC!F32+[25]NDC!F32 -> 4149 | G32: =[25]ANC!G32+[25]BCC!G32+[25]BRD!G32+[25]GDC!G32+[25]NDC!G32 -> 0 | H32: =F32+G32 -> 4149 | I32: =E32-H32 -> 0
A33: III | B33: Final bill for vacation of premises/ change of occupancy | C33: 0 | D33: =[25]ANC!D33+[25]BCC!D33+[25]BRD!D33+[25]GDC!D33+[25]NDC!D33 -> 781 | E33: =C33+D33 -> 781 | F33: =[25]ANC!F33+[25]BCC!F33+[25]BRD!F33+[25]GDC!F33+[25]NDC!F33 -> 781 | G33: =[25]ANC!G33+[25]BCC!G33+[25]BRD!G33+[25]GDC!G33+[25]NDC!G33 -> 0 | H33: =F33+G33 -> 781 | I33: =E33-H33 -> 0
A34: IV | B34: Change of Tariff | C34: 0 | D34: =[25]ANC!D34+[25]BCC!D34+[25]BRD!D34+[25]GDC!D34+[25]NDC!D34 -> 169 | E34: =C34+D34 -> 169 | F34: =[25]ANC!F34+[25]BCC!F34+[25]BRD!F34+[25]GDC!F34+[25]NDC!F34 -> 169 | G34: =[25]ANC!G34+[25]BCC!G34+[25]BRD!G34+[25]GDC!G34+[25]NDC!G34 -> 0 | H34: =F34+G34 -> 169 | I34: =E34-H34 -> 0
A35: F | B35: Service connections | C35: =SUM(C36:C44) -> 0 | D35: =SUM(D36:D44) -> 15119 | E35: =C35+D35 -> 15119 | F35: =SUM(F36:F44) -> 15119 | G35: =SUM(G36:G44) -> 0 | H35: =F35+G35 -> 15119 | I35: =E35-H35 -> 0
A36: I | B36: Where extension of LT line up to 150 Metre is required | C36: 0 | D36: =[25]ANC!D36+[25]BCC!D36+[25]BRD!D36+[25]GDC!D36+[25]NDC!D36 -> 3711 | E36: =C36+D36 -> 3711 | F36: =[25]ANC!F36+[25]BCC!F36+[25]BRD!F36+[25]GDC!F36+[25]NDC!F36 -> 3711 | G36: =[25]ANC!G36+[25]BCC!G36+[25]BRD!G36+[25]GDC!G36+[25]NDC!G36 -> 0 | H36: =F36+G36 -> 3711 | I36: =E36-H36 -> 0
A37: II | B37: Where extension of LT line of more than 150 Metre and/or augmentation of distribution transformer is required | C37: 0 | D37: =[25]ANC!D37+[25]BCC!D37+[25]BRD!D37+[25]GDC!D37+[25]NDC!D37 -> 2498 | E37: =C37+D37 -> 2498 | F37: =[25]ANC!F37+[25]BCC!F37+[25]BRD!F37+[25]GDC!F37+[25]NDC!F37 -> 2498 | G37: =[25]ANC!G37+[25]BCC!G37+[25]BRD!G37+[25]GDC!G37+[25]NDC!G37 -> 0 | H37: =F37+G37 -> 2498 | I37: =E37-H37 -> 0
A38: III | B38: Where erection of new distribution transformer is required | C38: 0 | D38: =[25]ANC!D38+[25]BCC!D38+[25]BRD!D38+[25]GDC!D38+[25]NDC!D38 -> 1800 | E38: =C38+D38 -> 1800 | F38: =[25]ANC!F38+[25]BCC!F38+[25]BRD!F38+[25]GDC!F38+[25]NDC!F38 -> 1800 | G38: =[25]ANC!G38+[25]BCC!G38+[25]BRD!G38+[25]GDC!G38+[25]NDC!G38 -> 0 | H38: =F38+G38 -> 1800 | I38: =E38-H38 -> 0
A39: IV | B39: Where erection of new HT line and distribution transformer is required and/ or existing HT line network is required to be augmented. | C39: 0 | D39: =[25]ANC!D39+[25]BCC!D39+[25]BRD!D39+[25]GDC!D39+[25]NDC!D39 -> 2131 | E39: =C39+D39 -> 2131 | F39: =[25]ANC!F39+[25]BCC!F39+[25]BRD!F39+[25]GDC!F39+[25]NDC!F39 -> 2131 | G39: =[25]ANC!G39+[25]BCC!G39+[25]BRD!G39+[25]GDC!G39+[25]NDC!G39 -> 0 | H39: =F39+G39 -> 2131 | I39: =E39-H39 -> 0
A40: V | B40: Where EHT level line and/ or Sub-station is required to be erected and/ or augmented | C40: 0 | D40: =[25]ANC!D40+[25]BCC!D40+[25]BRD!D40+[25]GDC!D40+[25]NDC!D40 -> 2 | E40: =C40+D40 -> 2 | F40: =[25]ANC!F40+[25]BCC!F40+[25]BRD!F40+[25]GDC!F40+[25]NDC!F40 -> 2 | G40: =[25]ANC!G40+[25]BCC!G40+[25]BRD!G40+[25]GDC!G40+[25]NDC!G40 -> 0 | H40: =F40+G40 -> 2 | I40: =E40-H40 -> 0
A41: VI | B41: Modification in connected load | C41: 0 | D41: =[25]ANC!D41+[25]BCC!D41+[25]BRD!D41+[25]GDC!D41+[25]NDC!D41 -> 2079 | E41: =C41+D41 -> 2079 | F41: =[25]ANC!F41+[25]BCC!F41+[25]BRD!F41+[25]GDC!F41+[25]NDC!F41 -> 2079 | G41: =[25]ANC!G41+[25]BCC!G41+[25]BRD!G41+[25]GDC!G41+[25]NDC!G41 -> 0 | H41: =F41+G41 -> 2079 | I41: =E41-H41 -> 0
A42: VII | B42: Name change/reconnection/ change of category | C42: 0 | D42: =[25]ANC!D42+[25]BCC!D42+[25]BRD!D42+[25]GDC!D42+[25]NDC!D42 -> 2657 | E42: =C42+D42 -> 2657 | F42: =[25]ANC!F42+[25]BCC!F42+[25]BRD!F42+[25]GDC!F42+[25]NDC!F42 -> 2657 | G42: =[25]ANC!G42+[25]BCC!G42+[25]BRD!G42+[25]GDC!G42+[25]NDC!G42 -> 0 | H42: =F42+G42 -> 2657 | I42: =E42-H42 -> 0
A43: VIII | B43: In case connection is denied after payment against demand note | C43: 0 | D43: =[25]ANC!D43+[25]BCC!D43+[25]BRD!D43+[25]GDC!D43+[25]NDC!D43 -> 107 | E43: =C43+D43 -> 107 | F43: =[25]ANC!F43+[25]BCC!F43+[25]BRD!F43+[25]GDC!F43+[25]NDC!F43 -> 107 | G43: =[25]ANC!G43+[25]BCC!G43+[25]BRD!G43+[25]GDC!G43+[25]NDC!G43 -> 0 | H43: =F43+G43 -> 107 | I43: =E43-H43 -> 0
A44: IX | B44: Transfer of connection | C44: 0 | D44: =[25]ANC!D44+[25]BCC!D44+[25]BRD!D44+[25]GDC!D44+[25]NDC!D44 -> 134 | E44: =C44+D44 -> 134 | F44: =[25]ANC!F44+[25]BCC!F44+[25]BRD!F44+[25]GDC!F44+[25]NDC!F44 -> 134 | G44: =[25]ANC!G44+[25]BCC!G44+[25]BRD!G44+[25]GDC!G44+[25]NDC!G44 -> 0 | H44: =F44+G44 -> 134 | I44: =E44-H44 -> 0
A45: G | B45: Request for reconnection/ consumer wanting disconnection | C45: 0 | D45: =[25]ANC!D45+[25]BCC!D45+[25]BRD!D45+[25]GDC!D45+[25]NDC!D45 -> 296 | E45: =C45+D45 -> 296 | F45: =[25]ANC!F45+[25]BCC!F45+[25]BRD!F45+[25]GDC!F45+[25]NDC!F45 -> 296 | G45: =[25]ANC!G45+[25]BCC!G45+[25]BRD!G45+[25]GDC!G45+[25]NDC!G45 -> 0 | H45: =F45+G45 -> 296 | I45: =E45-H45 -> 0
A46: H | B46: Refund of amount due in regard to temporary connection | C46: 0 | D46: =[25]ANC!D46+[25]BCC!D46+[25]BRD!D46+[25]GDC!D46+[25]NDC!D46 -> 438 | E46: =C46+D46 -> 438 | F46: =[25]ANC!F46+[25]BCC!F46+[25]BRD!F46+[25]GDC!F46+[25]NDC!F46 -> 438 | G46: =[25]ANC!G46+[25]BCC!G46+[25]BRD!G46+[25]GDC!G46+[25]NDC!G46 -> 0 | H46: =F46+G46 -> 438 | I46: =E46-H46 -> 0
A47: I | B47: Street Light complaint | C47: 0 | D47: =[25]ANC!D47+[25]BCC!D47+[25]BRD!D47+[25]GDC!D47+[25]NDC!D47 -> 165 | E47: =C47+D47 -> 165 | F47: =[25]ANC!F47+[25]BCC!F47+[25]BRD!F47+[25]GDC!F47+[25]NDC!F47 -> 165 | G47: =[25]ANC!G47+[25]BCC!G47+[25]BRD!G47+[25]GDC!G47+[25]NDC!G47 -> 0 | H47: =F47+G47 -> 165 | I47: =E47-H47 -> 0
A48: J | B48: Others | C48: 0 | D48: =[25]ANC!D48+[25]BCC!D48+[25]BRD!D48+[25]GDC!D48+[25]NDC!D48 -> 26253 | E48: =C48+D48 -> 26253 | F48: =[25]ANC!F48+[25]BCC!F48+[25]BRD!F48+[25]GDC!F48+[25]NDC!F48 -> 26253 | G48: =[25]ANC!G48+[25]BCC!G48+[25]BRD!G48+[25]GDC!G48+[25]NDC!G48 -> 0 | H48: =F48+G48 -> 26253 | I48: =E48-H48 -> 0
A49: TOTAL | C49: =SUM(C48,C47,C46,C45,C35,C30,C27,C20,C14,C8) -> 0 | D49: =SUM(D48,D47,D46,D45,D35,D30,D27,D20,D14,D8) -> 226611 | E49: =SUM(E48,E47,E46,E45,E35,E30,E27,E20,E14,E8) -> 226611 | F49: =SUM(F48,F47,F46,F45,F35,F30,F27,F20,F14,F8) -> 226611 | G49: =SUM(G48,G47,G46,G45,G35,G30,G27,G20,G14,G8) -> 0 | H49: =F49+G49 -> 226611 | I49: =E49-H49 -> 0
A50: The format is to be sent quarterly The quarterly reporting of the year means reporting for the period 1st Quarter as Apr-Jun, 2nd Quarter as Jul-Sep, 3rd Quarter as Oct – Dec and 4th Quarter as Jan - Mar of the financial Year. For any other complaints not mentioned in the classification, the sequence for J can be used.

Sheet MG SoP 04
A1: ='MG COVER PAGE'!A1 -> Name of Distribution Licensee: M G V C L
A2: ='MG SoP 03B '!A2:I2 -> Quarter of the year : Q-I (Apr-May-Jun-2024-25)
A3: ='MG COVER PAGE'!A3 -> Year: 2024-25
A4: Performa SoP 004 : Publicity carried out while displaying the contact details of consumer complaints centers.
A5: Particulars should also cover the details of publication of “Manual of Practice for Handling Complaint/ Consumer Charter/ Complaint Charter”, consumer awareness program conducted, advertisement done through various media like TV, newspaper, radio, pamphlets & booklet distributions, Displays etc. The development of website and any medium through which public education is carried out can be included.
A7: Sr. No. (1) | B7: Actions or steps carried out by distribution licensee towards public awareness in the quarter (2) | C7: Likely number of consumers influenced (3) | D7: Details about Media (4)
D8: the Media
A9: 1 | B9: RTI Officers Name is displayed at customer care centre on each office | C9: 3495022 | D9: -
A10: 2 | B10: Necessary information regarding time schedule for new connection and solving complaints is display on the board. | C10: 3495022 | D10: -
A11: 3 | B11: Contact nos. of various officers of the company for emergency contact is also displayed at customer care centre. | C11: 3495022 | D11: Website/ News paper
A12: 4 | B12: Displayed safety posters at various S/dn,Divisions | C12: 4583 | D12: Posters
A13: 5 | B13: Safety Meeting with Line Staff at various S/dn,Divisions on Every Monday (Line staff influenced) | C13: 3610 | D13: Meeting
A14: The format is to be sent quarterly. The column 2 shall depict any steps taken by licensee in direction of consumer awareness and educating the consumer through conducting of seminars, meetings, distribution of pamphlets, through guidelines placed on website, formulating team that visit rural area educating consumers on billing, safety measures and procedures for grievance redressal, etc. The quarterly reporting of the year means reporting for the period 1st Quarter as Apr – Jun, 2nd Quarter as Jul – Sep, 3rd Quarter as Oct – Dec and 4th Quarter as Jan – Mar of the financial year.

Sheet MG SoP - 05 
A1: Name of Distribution Licensee: M G V C L
A2: Financial Year: 2024-25
A3: Quarter : Q-I (Apr to Jun-2024)
A4: Performa SoP 005: Failure of Distribution Transformer
A5: Sr. No. | B5: Name of Circle | C5: Nos. of existing Distribution Transformers at the start of the quarter | D5: Nos. of Distribution Transformers added during the quarter | E5: Total number of Distribution Transformers on end of quarter | F5: Total number of Distribution transformer failed during quarter | G5: % failure rate of Distribution transformer
C6: A | D6: B | E6: C=A+B | F6: D | G6: H = (D)*100/C | H6: TMS DATA SHEET CUMM (COLUMN CC) | I6: LAST QTR- CUMMULATIVE
A7: 1 | B7: Baroda O&M | C7: 58490 | D7: =E7-C7 -> 594 | E7: 59084 | F7: 677 | G7: =F7*100/E7 -> 1.1458263 | H7: 3468 | I7: 2839
A8: 2 | B8: Baroda City | C8: 10469 | D8: =E8-C8 -> 237 | E8: 10706 | F8: 23 | G8: =F8*100/E8 -> 0.2148328 | H8: 75 | I8: 64
A9: 3 | B9: Anand | C9: 26800 | D9: =E9-C9 -> 454 | E9: 27254 | F9: 212 | G9: =F9*100/E9 -> 0.77786747 | H9: 924 | I9: 822
A10: 4 | B10: Nadiad | C10: 34497 | D10: =E10-C10 -> 1153 | E10: 35650 | F10: 273 | G10: =F10*100/E10 -> 0.7657784 | H10: 1466 | I10: 1301
A11: 5 | B11: Godhra | C11: 61924 | D11: =E11-C11 -> 1156 | E11: 63080 | F11: 908 | G11: =F11*100/E11 -> 1.439442 | H11: 4516 | I11: 3763
B12: MGVCL | C12: =SUM(C7:C11) -> 192180 | D12: =SUM(D7:D11) -> 3594 | E12: =SUM(E7:E11) -> 195774 | F12: =SUM(F7:F11) -> 2093 | G12: =F12/E12*100 -> 1.0690899

Sheet  SoP 007
A1: Performa SoP 007: Sample Test result for Neutral Voltage (To be submitted Half Yearly)
A2: Compliance Sample Test Report for Neutral Voltage
A3: 1 | B3: 2 | C3: 3 | D3: 4 | E3: 5 | F3: 6
A4: Sr. No. | B4: Category of consumers | C4: Sample Size (Numbers) | D4: Standard specified in regulations | E4: Non-Deviation of results from the sample test (Numbers) | F4: %age compliance (6) = (5)*100/3
B5: LT consumers | C5: =SUM(C6:C10) -> 1441 | E5: =SUM(E6:E10) -> 0 | F5: =E5*100/C5 -> 0
A6: 1 | B6: Domestic | C6: 1023 | D6: 2% | E6: 0 | F6: =E6*100/C6 -> 0
A7: 2 | B7: Commercial | C7: 242 | D7: 2% | E7: 0 | F7: =E7*100/C7 -> 0
A8: 3 | B8: Industrial | C8: 23 | D8: 2% | E8: 0 | F8: =E8*100/C8 -> 0
A9: 4 | B9: Agricultural | C9: 143 | D9: 2% | E9: 0 | F9: 0
A10: 5 | B10: Public water works | C10: 10 | D10: 2% | E10: 0 | F10: 0
B11: HT consumers
A12: 6 | B12: HT Industrial | C12: 5 | D12: 2% | E12: 0 | F12: =E12*100/C12 -> 0

Sheet  SoP 008
A1: Performa SoP 008: Sample Test result for Voltage variations (To be submitted Half Yearly)
A2: Compliance Sample Test Report for Voltage variations
A3: 1 | B3: 2 | C3: 3 | D3: 4 | E3: 5
A4: Voltage Level | B4: Sample Size (Numbers) | C4: Limit or prescribed Standard | D4: Non-Deviation of results from the sample test (Numbers) | E4: %age compliance (5) = (4)*100/(2)
A5: Low Voltage | B5: 56 | C5: +6% to -6% | D5: 0 | E5: 0
A6: High Voltage | B6: 24 | C6: +6% to -6% | D6: 0 | E6: 0
A7: Extra High Voltage | B7: 1 | C7: +10% to -12.5% | D7: 0 | E7: 0

Sheet – SoP 009
A1: Performa – SoP 009: Sample Test result for Harmonics (To be submitted Half Yearly)
A2: Compliance Sample Test Report for Harmonics
A3: 1 | B3: 2 | C3: 3 | D3: 4 | E3: 5 | F3: 6
A4: Sr. No. | B4: Category of consumers | C4: Sample Size (Numbers) | D4: Limit or prescribed Standard | E4: Non-Deviation of results from the sample test (Numbers) | F4: %age compliance (6) = (5)*100/(2)
A5: 1 | B5: LT consumers | C5: 33 | D5: 3.5% | E5: 0 | F5: =E5*100/C5 -> 0
A6: 2 | B6: HT consumers | C6: 4 | D6: 3.0% | E6: 0 | F6: 0
A7: 3 | B7: EHT consumers | C7: 1 | D7: 3.0% | E7: 0 | F7: 0

Sheet 010
A1: Q-1(Apr-June-24)
A2: Year: 2024-25
A3: SoP 010 – A System Average Interruption Frequency Index (SAIFI)
A4: Sr. No | B4: Month | C4: Number of Sustained Interruptions during the Reporting Period = Ai | D4: Number of Interrupted Customers for Sustained Interruption events during the Reporting Period = Ni | E4: Total number of Customers Served for the Areas = Nt | F4: Total Number of Interrupted Customers for Sustained Interruption events during the Reporting Period = Σ (Ai x Ni) | G4: SAIFI = Σ (Ai x Ni) /Nt
A5: 1 | B5: 2 | C5: 3 | D5: 4 | E5: 5 | F5: 6 = Σ (3 x 4) | G5: 7 = 6 / 5
A6: 1 | B6: Apr' 24 | C6: 14064 | D6: 3127057 | E6: 3587281 | F6: 17336601 | G6: 4.83
A7: 2 | B7: May'24 | C7: 25276 | D7: 3235113 | E7: 3586724 | F7: 32190221 | G7: 8.97
A8: 3 | B8: June'24 | C8: 38670 | D8: 3237423 | E8: 3591643 | F8: 49578648 | G8: 13.8
C9: =SUM(C6:C8) -> 78010 | D9: =SUM(D6:D8) -> 9599593 | E9: =SUM(E6:E8) -> 10765648 | F9: =SUM(F6:F8) -> 99105470 | G9: =F9/E9 -> 9.2057134

Sheet 011
A1: ='010'!A1 -> Q-1(Apr-June-24)
A2: ='010'!A2 -> Year: 2024-25
A3: SoP 011 – System Average Interruption Duration Index (SAIDI)
A4: Sr. No | B4: Month | C4: Number of Sustained Interruptions during the Reporting Period = Ai (Nos) | D4: Total Outage Duration (Hr : Min) | E4: Restoration time for each Interruption Event = Ri (Hr : Min) | F4: Number of Interrupted Customers for Sustained Interruption events during the Reporting Period = Ni (Nos) | G4: Total Customer Interruption Duration = Ri x Ni (Hr : Min) | H4: Total Number of Customers Served for the Areas = Nt (Nos) | I4: Cumulative Customer Interruptions Duration = Σ(Ri x Ni) (Hr : Min) | J4: SAIDI = Σ (Ri x Ni) / Nt (Hr : Min)
A5: 1 | B5: 2 | C5: 3 | D5: 4 | E5: 5 = 4 / 3 | F5: 6 | G5: 7 = 5 x 6 | H5: 8 | I5: 9 = Σ (5 x 6) | J5: 10 = 9 /8
A6: 1 | B6: ='010'!B6 -> Apr' 24 | C6: 14064 | D6: 320.22778 | E6: 0.022916667 | F6: 3127057 | G6: 1719881:21 | H6: 3587281 | I6: 1312377:43 | J6: 0.015277778
A7: 2 | B7: ='010'!B7 -> May'24 | C7: 25276 | D7: 17680:37 | E7: 0.029166667 | F7: 3235113 | G7: 2264579:06 | H7: 3586724 | I7: 2076756:12 | J7: 0.024305556
A8: 3 | B8: ='010'!B8 -> June'24 | C8: 38670 | D8: 27193:26 | E8: 0.029166667 | F8: 3237423 | G8: 2266196:06 | H8: 3591643 | I8: 1822591:24 | J8: 0.020833333
C9: =SUM(C6:C8) -> 78010 | D9: 52559:31 | E9: 0.08125 | F9: =SUM(F6:F8) -> 9599593 | G9: 6250656:33 | H9: =SUM(H6:H8) -> 10765648 | I9: 5211725:19 | J9: =AVERAGE(J6:J8) -> 0.020138889

Sheet 012
A1: ='010'!A1 -> Q-1(Apr-June-24)
A2: ='011'!A2 -> Year: 2024-25
A3: SoP 012 – : Momentary Average Interruption Frequency Index (MAIFI)
A4: Sr. No | B4: Month | C4: Total Number of Momentary interruptions = Imi | D4: Total Number of Consumers affected due to Momentary Interruption Events during the Reporting Period = Nmi | E4: Number of Customer Momentary Interruptions = IMi * Nmi | F4: Total Number of Customers Served for the Areas = Nt | G4: Cumulative Momentary Customer Interruptions = Σ (Imi x Nmi) | H4: MAIFI = Σ (IMi x Nmi)/ Nt
A5: 1 | B5: 2 | C5: 3 | D5: 4 | E5: 5=3*4 | F5: 6 | G5: 7 = Σ (3 x 4) | H5: 8=7/6
A6: 1 | B6: ='010'!B6 -> Apr' 24 | C6: 39108 | D6: 2927839 | E6: =D6*C6 -> 114501927612 | F6: 3587281 | G6: 53129131 | H6: =G6/F6 -> 14.810418
A7: 2 | B7: ='010'!B7 -> May'24 | C7: 50739 | D7: 2988465 | E7: =D7*C7 -> 151631725635 | F7: 3586724 | G7: 71142336 | H7: =G7/F7 -> 19.834907
A8: 3 | B8: ='010'!B8 -> June'24 | C8: 59538 | D8: 3045309 | E8: =D8*C8 -> 181311607242 | F8: 3591643 | G8: 83818455 | H8: =G8/F8 -> 23.337079
C9: =SUM(C6:C8) -> 149385 | D9: =SUM(D6:D8) -> 8961613 | E9: =D9*C9 -> 1338730558005 | F9: =SUM(F5:F8) -> 10765654 | G9: =SUM(G5:G8) -> 208089922 | H9: =G9/F9 -> 19.329055

Sheet 013
A1: ='010'!A1 -> Q-1(Apr-June-24)
A2: ='011'!A2 -> Year: 2024-25
A3: SoP 013 – : Customer Average Interruption Duration Index (CAIDI)
A4: Sr. No | B4: Month | C4: Total Number of Sustained Interruptions during the Reporting Period = Σ Ai | D4: Total Restoration time for Interruption Events = Σ Ri (Hr : Min) | E4: Total Number of Interrupted Customers for Sustained Interruption events during the Reporting Period = Σni | F4: CAIDI=Σ (Ri x Ni) / Σ (Ai x Ni) = SAIDI/ SAIFI
A5: 1 | B5: 2 | C5: 3 | D5: 4 | E5: 5 | F5: 6 = (4 x 5) / (3 x 5)
A6: 1 | B6: ='010'!B6 -> Apr' 24 | C6: 14064 | D6: 0.022916667 | E6: 3127057 | F6: 4.55
A7: 2 | B7: ='010'!B7 -> May'24 | C7: 25276 | D7: 0.029166667 | E7: 3235113 | F7: 3.9
A8: 3 | B8: ='010'!B8 -> June'24 | C8: 38670 | D8: 0.029166667 | E8: 3237423 | F8: 2.17
C9: =SUM(C6:C8) -> 78010 | D9: 0.08125 | E9: =SUM(E6:E8) -> 9599593 | F9: =AVERAGE(F6:F8) -> 3.54

Sheet SOP 15
B2: Name of Distribution Licensee: M G V C L
B3: Financial Year: 2024-25
B4: Quarter : Q-I (Apr to Jun-2024)
B5: Performa SoP 015: Faulty Meters Replacement
B6: Consumer Category | C6: No. of faulty meters at the start of the quarter | D6: No. of faulty meters added during the quarter | E6: Total no. of defective / faulty Meter | F6: No. of faulty Meters repaired and replaced | G6: No of faulty meters pending at the end of the quarter | H6: Remark
C7: 1 | D7: 2 | E7: (3)=(2)+(1) | F7: 4 | G7: (5)=(3)-(4)
B8: Single Phase | C8: 10113 | D8: 19949 | E8: =D8+C8 -> 30062 | F8: 23217 | G8: =E8-F8 -> 6845
B9: Three Phase | C9: 3504 | D9: 4808 | E9: =C9+D9 -> 8312 | F9: 6378 | G9: =E9-F9 -> 1934

Sheet  SoP 016
A1: Performa SoP 016: Compensation Details (To be submitted Quarterly)
A2: Sr. No. | B2: Service Area | C2: Compensation payable to | D2: Claimed | F2: Payable
C3: consumer for the period of default in case of violation of standard | D3: No. of cases | E3: Amount (Rs.) | F3: No. of cases in which compensation is payable | G3: Amount payable (Rs.) | H3: Amount paid (Rs.)
A4: 1 | B4: Registration of complaint and intimation of Unique complaint Number to the Complainant | C4: Rs. 50/- for each default | D4: 0 | E4: 0 | F4: 0 | G4: 0 | H4: 0
A5: 2 | B5: Issuance of Demand Note for New Connection, Load Enhancement, Shifting of connection at other premises, Conversion of Service, Temporary Supply, Shifting of Service Connection in exiting premises, Deviation of line and Shifting of equipments | C5: Rs. 50 for each day of default. | D5: 0 | E5: 0 | F5: 0 | G5: 0 | H5: 0
A6: 3 | B6: New Connection, Load Enhancement, Shifting of connection at other premises and Conversion of Service where no Network erection and/or augmentation is required. | C6: Rs. 50 for each day of default. | D6: 0 | E6: 0 | F6: 0 | G6: 0 | H6: 0
A7: 4 | B7: New Connection, Load Enhancement, Shifting of connection at other premises and Conversion of Service where Network erection and/or augmentation is required. | C7: Rs. 50 for each day of default. | D7: 0 | E7: 0 | F7: 0 | G7: 0 | H7: 0
A8: 5 | B8: Release of temporary supply | C8: Rs. 50 for each day of default. | D8: 0 | E8: 0 | F8: 0 | G8: 0 | H8: 0
A9: 6 | B9: Shifting of meter/services in the existing premises | C9: Rs. 50 for each day of default. | D9: 0 | E9: 0 | F9: 0 | G9: 0 | H9: 0
A10: 7 | B10: Shifting of LT/HT lines | D10: 0 | E10: 0 | F10: 0 | G10: 0 | H10: 0
A11: 8 | B11: Shifting of Transformer structures | D11: 0 | E11: 0 | F11: 0 | G11: 0 | H11: 0
A12: 9 | B12: Settlement of amount for refunding of excess amount after completion of work. | D12: 0 | E12: 0 | F12: 0 | G12: 0 | H12: 0
A13: 10 | B13: Transfer of Service Connection with respect to change of name or change of ownership | C13: Rs. 50 for each day of default. | D13: 0 | E13: 0 | F13: 0 | G13: 0 | H13: 0
A14: 11 | B14: Application from consumer requesting Change in Tariff Class/Category. | C14: Rs. 50 for each day of default. | D14: 0 | E14: 0 | F14: 0 | G14: 0 | H14: 0
A15: 12 | B15: Complaint Related to Billing | C15: Rs. 50 for each day of default. | D15: 0 | E15: 0 | F15: 0 | G15: 0 | H15: 0
A16: 13 | B16: Replacement of Meter | C16: Rs. 25/- for each day of default subject to maximum of Rs. 1500/- for LT connections and Rs. 250/- for each day of default subject to maximum of Rs. 2500/- for HT connections. | D16: 0 | E16: 0 | F16: 0 | G16: 0 | H16: 0
A17: 14 | B17: Reconnection of Supply | C17: Rs. 25/- for each six hours (or part thereof) of delay in restoration of supply subject to maximum Rs. 500/- for LT connection and Rs. 50/- for each six hours (or part thereof) of delay in restoration of supply subject to maximum Rs. 1000/- for HT connection. | D17: 0 | E17: 0 | F17: 0 | G17: 0 | H17: 0
A18: 15 | B18: More than 2 interruptions in a day to the consumer for the reasons not attributable to the nature of fault as mentioned in Clause 8.4 of these Regulations. | C18: Rs. 25/- for each interruption subject to maximum Rs. 500/- for LT connection and Rs. 50/- for each interruption subject to maximum Rs. 1000/- for HT connection. | D18: 0 | E18: 0 | F18: 0 | G18: 0 | H18: 0
A19: 16 | B19: Failure to restore power supply in case of blowing of fuse of LT side distribution transformer, at consumer premises, trouble of MCB of distribution transformer, loose connection at pole, MCB or meter, etc. | C19: Rs. 50/- per hour per Consumer for the first two hours of default. Thereafter Rs. 100/- per hour per Consumer subject to maximum of Rs. 500/- per day for LT consumer and maximum of Rs. 2000/- per day for HT consumer. | D19: 0 | E19: 0 | F19: 0 | G19: 0 | H19: 0
A20: 17 | B20: Failure to restore power supply in case of blowing of HT side fuse of distribution transformer | D20: 0 | E20: 0 | F20: 0 | G20: 0 | H20: 0
A21: 18 | B21: Failure to restore power supply in case of HT and LT line fault | D21: 0 | E21: 0 | F21: 0 | G21: 0 | H21: 0
A22: 19 | B22: Failure to restore power supply in case of Distribution transformer failure | D22: 0 | E22: 0 | F22: 0 | G22: 0 | H22: 0
A23: 20 | B23: Failure to restore power supply in case of failure of underground service or underground HT/LT cable | D23: 0 | E23: 0 | F23: 0 | G23: 0 | H23: 0
A24: 21 | B24: Scheduled Power Outage | C24: Rs. 50/- per hour per Consumer for the first two hours of default. Thereafter Rs. 100/- per hour per Consumer | D24: 0 | E24: 0 | F24: 0 | G24: 0 | H24: 0
A25: 22 | B25: Site Visit and Intimation to the Consumer about likely time to resolve the complaint related to voltage fluctuation. | C25: Rs. 200/- for each instance for each complaint. | D25: 0 | E25: 0 | F25: 0 | G25: 0 | H25: 0
A26: 23 | B26: Complaint of Neutral Voltage | C26: Rs. 250/- for each complaint | D26: 0 | E26: 0 | F26: 0 | G26: 0 | H26: 0
A27: 24 | B27: Complaint regarding Voltage variations at the point of commencement of supply. | C27: Rs. 25/- for each day of default subject to maximum of Rs. 500/- | D27: 0 | E27: 0 | F27: 0 | G27: 0 | H27: 0

Sheet  SoP 017
A1: Performa SoP 017: Individual Complaint where Compensation has been paid (To be submitted Quarterly)
A2: Sr. No. | B2: Complaint No. | C2: Date of filing Complaint/ Automatic Compensation | D2: Consumer No. and Name and Address of the Consumer | E2: Nature of Complaint | F2: Reference Standard of Performance | G2: Amount of compensation (Rs.) | H2: Whether Compensation paid automatically or Consumer has to approach CGRF to get compensation | I2: Whether CGRF has upheld demand of Consumer of Compensation and if Yes, date of order of CGRF and date of compensation paid
B3: 0 | C3: 0 | D3: 0 | E3: 0 | F3: 0 | G3: 0 | H3: 0 | I3: 0

Sheet SOP 18
A1: SOP 18 Unauthorised use of Electricity (1st Quarter as Apr 24 – Jun 24)
A2: No. of cases Booked | B2: No. of cases where UUE is established by the Licensee | C2: No. of cases where appeal filed by the consumer before the Apellate Authority | D2: No. of cases decided by the Appellate Authority in favour of the the Licensee | E2: No. of cases decided by the Appellate Authority in favour of the the Consumer
A3: 103 | B3: 75 | C3: 0 | D3: 0 | E3: 0
A4: 43 | B4: 43 | C4: 0 | D4: 0 | E4: 0
A5: 141 | B5: 141 | C5: 0 | D5: 0 | E5: 0
A6: 118 | B6: 109 | C6: 7 | D6: 0 | E6: 1
A7: 96 | B7: 48 | C7: 1 | D7: 0 | E7: 0
A8: =SUM(A3:A7) -> 501 | B8: =SUM(B3:B7) -> 416 | C8: =SUM(C3:C7) -> 8 | D8: =SUM(D3:D7) -> 0 | E8: =SUM(E3:E7) -> 1
A13: Note:- | B13: The format is to be sent quarterly.
B14: The format shall include individual consumer wise details.
B15: The quarterly reporting of the year means reporting for the period 1st Quarter as Apr – Jun, 2nd Quarter as Jul – Sep, 3 rd Quarter as Oct – Dec and 4th Quarter as Jan – Mar of the financial year.

Sheet SOP 19
A4: SOP 19 Theft of Electricity (1st Quarter as Apr 24 – Jun 24)
A5: No. of cases Booked | B5: No. of complaints filed by the Licensee in Police Station | C5: No. of cases in which the judgement delivered by the Special Court | D5: No. of cases decided by the Special Court in favour of Licensee | E5: No. of cases decided by the Special Court in favour of Consumer
A6: 289 | B6: 216 | C6: 0 | D6: 0 | E6: 0
A7: 64 | B7: 64 | C7: 0 | D7: 0 | E7: 0
A8: 1065 | B8: 1012 | C8: 0 | D8: 0 | E8: 0
A9: 267 | B9: 267 | C9: 0 | D9: 0 | E9: 0
A10: 333 | B10: 329 | C10: 0 | D10: 0 | E10: 0
A11: =SUM(A6:A10) -> 2018 | B11: =SUM(B6:B10) -> 1888 | C11: =SUM(C6:C10) -> 0 | D11: =SUM(D6:D10) -> 0 | E11: =SUM(E6:E10) -> 0
A16: Note:- | B16: The format is to be sent quarterly.
B17: The format shall include individual consumer wise details.
B18: The quarterly reporting of the year means reporting for the period 1st Quarter as Apr – Jun, 2nd Quarter as Jul – Sep, 3 rd Quarter as Oct – Dec and 4th Quarter as Jan – Mar of the financial year.
