Workbook
Name \1: #REF!
Name \1: #REF!
Name \2: [1]TLPPOCT!#REF!
Name \2: [1]TLPPOCT!#REF!
Name \a: #REF!
Name \a: #REF!
Name \b: #REF!
Name \b: #REF!
Name \C: #REF!
Name \f: #REF!
Name \H: '[2]STN WISE EMR'!#REF!
Name \L: [3]DLC!$HR$111
Name \p: #REF!
Name \p: #REF!
Name \Q: [3]DLC!$GS$323:$GS$335
Name \V: '[4]R.Hrs. Since Comm'!#REF!
Name \X: #REF!
Name \Z: #REF!
Name ________SF01: [5]LMAIN!#REF!
Name ________SF010907: [5]LMAIN!#REF!
Name ________SF02: [5]LMAIN!#REF!
Name ________SF020506: [5]LMAIN!#REF!
Name ________SF0209: [5]LMAIN!#REF!
Name ________SF020907: [5]LMAIN!#REF!
Name ________SF020912: [5]LMAIN!#REF!
Name ________SF03: [5]LMAIN!#REF!
Name ________SF030907: [5]LMAIN!#REF!
Name ________SF044: [5]LMAIN!#REF!
Name ________SF07: [5]LMAIN!#REF!
Name ________SF070805: [5]LMAIN!#REF!
Name ________SF070809: [5]LMAIN!#REF!
Name ________SF0709: [5]LMAIN!#REF!
Name ________SF070907: [5]LMAIN!#REF!
Name ________SF080706: [5]LMAIN!#REF!
Name ________SF080709: [5]LMAIN!#REF!
Name ________SF090726: [5]LMAIN!#REF!
Name ________SF26: [5]LMAIN!#REF!
Name ________SF260907: [5]LMAIN!#REF!
Name ________SF31: [5]LMAIN!#REF!
Name ________SF3108: [5]LMAIN!#REF!
Name ________SF310807: [5]LMAIN!#REF!
Name ________SF3109: [5]LMAIN!#REF!
Name ________SF310907: [5]LMAIN!#REF!
Name ________SF33: [5]LMAIN!#REF!
Name ________SFB1: [5]LMAIN!#REF!
Name ________SM09: [5]LMAIN!#REF!
Name ________SUM1: [5]LMAIN!#REF!
Name _______SF01: [5]LMAIN!#REF!
Name _______SF010907: [5]LMAIN!#REF!
Name _______SF02: [5]LMAIN!#REF!
Name _______SF020506: [5]LMAIN!#REF!
Name _______SF0209: [5]LMAIN!#REF!
Name _______SF020907: [5]LMAIN!#REF!
Name _______SF020912: [5]LMAIN!#REF!
Name _______SF03: [5]LMAIN!#REF!
Name _______SF030907: [5]LMAIN!#REF!
Name _______SF044: [5]LMAIN!#REF!
Name _______SF07: [5]LMAIN!#REF!
Name _______SF070805: [5]LMAIN!#REF!
Name _______SF070809: [5]LMAIN!#REF!

Sheet SHEET-1
I2: [ 1 ]
A5: MADHYA GUJARAT VIJ COMPANY LIMITED
A8: I - KEY PARAMETERS
A10: POWER SUPPLY POSITION
D12: Current Year | F12: Previous Year | H12: % Change
D13: Quarterly | E13: Cummulative | F13: Quarterly | G13: Cummulative | H13: Quarterly | I13: Cummulative
D14: Jan to Mar-24 | F14: Jan to Mar-23
A16: I | B16: POWER PURCHASE
A17: 1 | B17: Purchase From CPPS/Wind Farms/Solar | C17: MUS | D17: =+E17-11226 -> 3276 | E17: 14502 | F17: =+G17-11160 -> 3454.682 | G17: 14614.682 | H17: =(D17-F17)/F17 -> -0.051721692 | I17: =(E17-G17)/G17 -> -0.0077101917
A18: 2 | B18: Purchase from GUVNL [Net of Trading Credit & UI] | C18: MUS
A19: 3 | B19: Purchase from Central Sector | C19: MUS
B20: [a] Share | C20: MUS
B21: [b] Actual Purchase | C21: MUS
B22: Total Purchase of Power | C22: MUS | D22: =+D17+D20+D21 -> 3276 | E22: =+E17+E20+E21 -> 14502 | F22: =+F17+F20+F21 -> 3454.682 | G22: =+G17+G20+G21 -> 14614.682 | H22: =(D22-F22)/F22 -> -0.051721692 | I22: =(E22-G22)/G22 -> -0.0077101917
A24: II | B24: ENERGY BALANCE SHEET
A25: 1 | B25: Total Generation + Purchase of Power | C25: MUS | D25: =+D17 -> 3276 | E25: =+E22 -> 14502 | F25: =+F17 -> 3454.682 | G25: =+G22 -> 14614.682 | H25: =(D25-F25)/F25 -> -0.051721692 | I25: =(E25-G25)/G25 -> -0.0077101917
A26: 2 | B26: Units Sent Out | C26: MUS | D26: =+D25 -> 3276 | E26: =+E25 -> 14502 | F26: =+F25 -> 3454.682 | G26: =+G25 -> 14614.682 | H26: =(D26-F26)/F26 -> -0.051721692 | I26: =(E26-G26)/G26 -> -0.0077101917
A27: 3 | B27: Metered + Estimated Unmetered & Unbilled Sales | C27: MUS | D27: =+E27-9889 -> 2825 | E27: 12714 | F27: =+G27-9732 -> 2908.788 | G27: 12640.788 | H27: =(D27-F27)/F27 -> -0.028805124 | I27: =(E27-G27)/G27 -> 0.0057917275
A28: 4 | B28: T&D Losses [2-3] | C28: MUS | D28: =+D26-D27 -> 451 | E28: =+E26-E27 -> 1788 | F28: 436 | G28: =+G26-G27 -> 1973.894 | H28: =(D28-F28)/F28 -> 0.03440367 | I28: =(E28-G28)/G28 -> -0.094176283
A29: 5 | B29: T & D Loss [4] / [2] * 100 | C29: % | D29: =+(D28/D26) -> 0.13766789 | E29: =+(E28/E26) -> 0.12329334 | F29: =+(F28/F26) -> 0.12620554 | G29: =+(G28/G26) -> 0.1350624 | H29: =D29-F29 -> 0.01146235 | I29: =E29-G29 -> -0.011769059
A31: III | B31: SALES, BILLING AND REALISATION
A32: 1 | B32: Billed [Metered + Unmetered] with E. D. | C32: Rs. In Crores | D32: 2644.71 | E32: =+'SHEET-5'!E25+67.46+74.76+74.66+77.48+78.83+78.67+77.94+81.83+70.78+72.81+66.71+64.67 -> 10604.23 | F32: 2373.75 | G32: 9745.99 | H32: =(D32-F32)/F32 -> 0.1141485 | I32: =(E32-G32)/G32 -> 0.088060833
A33: 2 | B33: Billed - Theft Assessment
A34: 3 | B34: Total Billed [1 + 2] | C34: Rs. In Crores | D34: =+D32 -> 2644.71 | E34: =+E32 -> 10604.23 | F34: =+F32 -> 2373.75 | G34: =+G32 -> 9745.99 | H34: =(D34-F34)/F34 -> 0.1141485 | I34: =(E34-G34)/G34 -> 0.088060833
A35: 4 | B35: Amount realised [Metered + Unmetered] with E. D. | C35: Rs. In Crores | D35: 2862.45 | E35: =+E34*100.04% -> 10608.472 | F35: 2567.5 | G35: 8194.66 | H35: =(D35-F35)/F35 -> 0.11487829 | I35: =(E35-G35)/G35 -> 0.2945591
A36: 5 | B36: Amount realised against Theft of Energy
A37: 6 | B37: Total Amount realised [4 + 5] | C37: Rs. In Crores | D37: =+D35 -> 2862.45 | E37: =+E35 -> 10608.472 | F37: =+F35 -> 2567.5 | G37: =+G35 -> 8194.66 | H37: =(D37-F37)/F37 -> 0.11487829 | I37: =(E37-G37)/G37 -> 0.2945591
A38: 7 | B38: Amount realised as % of amount billed [6] / [3] | C38: % | D38: =+D37/D34 -> 1.0823304 | E38: =+E37/E34 -> 1.0004 | F38: =F37/F34 -> 1.0816219 | G38: =G37/G34 -> 0.84082376 | H38: =D38-F38 -> 0.00070848156 | I38: =E38-G38 -> 0.15957624
G43: 100.01

Sheet SHEET-2
I2: [ 2 ]
A5: MADHYA GUJARAT VIJ COMPANY LIMITED
A8: II - KEY PARAMETERS
A10: COST OF SUPPLY - 2
D12: Current Year | F12: Previous Year | H12: % Change
D13: Quarterly | E13: Cummulative | F13: Quarterly | G13: Cummulative | H13: Quarterly | I13: Cummulative
D14: =+'SHEET-1'!D14:E14 -> Jan to Mar-24 | F14: =+'SHEET-1'!F14:G14 -> Jan to Mar-23
A15: I | B15: COST OF SUPPLY
A16: 1 | B16: Average Cost of Purchase of Power [Net] | C16: Rs. /KWH | D16: =ROUND(+('SHEET-3'!D15/'SHEET-1'!D22)*10,2) -> 4.54 | E16: =ROUND(+('SHEET-3'!E15/'SHEET-1'!E22)*10,2) -> 5.57 | F16: =ROUND(+('SHEET-3'!F15/'SHEET-1'!F22)*10,2) -> 6.02 | G16: =ROUND(+('SHEET-3'!G15/'SHEET-1'!G22)*10,2) -> 5.66 | H16: =(D16-F16)/F16 -> -0.24584718 | I16: =(E16-G16)/G16 -> -0.01590106
A17: 2 | B17: Cost at Bus Bar | C17: Rs. /KWH
A18: 3 | B18: Costo of Supply at EHT [at 66 KV] | C18: Rs. /KWH
A19: 4 | B19: Cost of Supply at LT [at 11 KV] | C19: Rs. /KWH
A20: 5 | B20: Cost of Supply at HT [at 11 KV] | C20: Rs. /KWH
A21: 6 | B21: Average Cost of Supply per unit of sales | C21: Rs. /KWH | D21: =ROUND(+('SHEET-3'!D23/'SHEET-1'!D27)*10,2) -> 6.7 | E21: =ROUND(+('SHEET-3'!E23/'SHEET-1'!E27)*10,2) -> 7.4 | F21: =ROUND(+('SHEET-3'!F23/'SHEET-1'!F27)*10,2) -> 8.02 | G21: =ROUND(+('SHEET-3'!G23/'SHEET-1'!G27)*10,2) -> 7.4 | H21: =(D21-F21)/F21 -> -0.16458853 | I21: =(E21-G21)/G21 -> 0
A23: II | B23: SALES REALISATION WITHOUT E. D.
A24: 1 | B24: H. T. | C24: Rs. /KWH | D24: =ROUND(+'SHEET-5'!D32/100,2) -> 9.49 | E24: =ROUND(+'SHEET-5'!E32/100,2) -> 8.77 | F24: =ROUND(+'SHEET-5'!F32/100,2) -> 7.01 | G24: =ROUND(+'SHEET-5'!G32/100,2) -> 7.73 | H24: =(D24-F24)/F24 -> 0.35378031 | I24: =(E24-G24)/G24 -> 0.13454075
A25: 2 | B25: L. T. | C25: Rs. /KWH | D25: =ROUND(+'SHEET-5'!D39/100,2) -> 6.46 | E25: =ROUND(+'SHEET-5'!E39/100,2) -> 6.74 | F25: =ROUND(+'SHEET-5'!F39/100,2) -> 6.08 | G25: =ROUND(+'SHEET-5'!G39/100,2) -> 6.5 | H25: =(D25-F25)/F25 -> 0.0625 | I25: =(E25-G25)/G25 -> 0.036923077
A26: 3 | B26: Average Sales Realisation | C26: Rs. /KWH | D26: =ROUND(+'SHEET-5'!D40/100,2) -> 7.79 | E26: =ROUND(+'SHEET-5'!E40/100,2) -> 7.64 | F26: =ROUND(+'SHEET-5'!F40/100,2) -> 6.58 | G26: =ROUND(+'SHEET-5'!G40/100,2) -> 7.07 | H26: =(D26-F26)/F26 -> 0.18389058 | I26: =(E26-G26)/G26 -> 0.080622348
B28: Special Observation on above points

Sheet SHEET-3
I2: [ 3 ]
A5: MADHYA GUJARAT VIJ COMPANY LIMITED
A8: I - KEY PARAMETERS
A10: FINANCIAL DATA - 3
D12: Current Year [Provisional] | F12: Previous Year | H12: % Change
D13: Quarterly | E13: Cummulative | F13: Quarterly | G13: Cummulative | H13: Quarterly | I13: Cummulative
D14: =+'SHEET-2'!D14:E14 -> Jan to Mar-24 | F14: =+'SHEET-2'!F14:G14 -> Jan to Mar-23
A15: 1 | B15: Cost of Power Purchase [Net] | C15: Rs. In Crore | D15: =+E15-6588.81 -> 1486.85 | E15: 8075.66 | F15: 2079.77 | G15: 8271.38 | H15: =(D15-F15)/F15 -> -0.28508922 | I15: =(E15-G15)/G15 -> -0.023662315
A16: 2 | B16: Employees Cost | C16: Rs. In Crore | D16: =+E16-457.84 -> 145.63 | E16: ='SHEET-7'!C23 -> 603.47 | F16: 85.51 | G16: =+'SHEET-7'!D23 -> 534.82 | H16: =(D16-F16)/F16 -> 0.70307566 | I16: =(E16-G16)/G16 -> 0.12836094
A17: 3 | B17: Interest | C17: Rs. In Crore | D17: =+E17-63.47 -> 23.69 | E17: =+'SHEET-7'!C29 -> 87.16 | F17: 14 | G17: =+'SHEET-7'!D29 -> 53.62 | H17: =(D17-F17)/F17 -> 0.69214286 | I17: =(E17-G17)/G17 -> 0.62551287
A18: 4 | B18: Repairs and Maintenance | C18: Rs. In Crore | D18: =+E18-82.07 -> 16.09 | E18: ='SHEET-7'!C24 -> 98.16 | F18: 36.72 | G18: =+'SHEET-7'!D24 -> 82.07 | H18: =(D18-F18)/F18 -> -0.56181917 | I18: =(E18-G18)/G18 -> 0.19605215
A19: 5 | B19: Depreciation | C19: Rs. In Crore | D19: =+E19-224.62 -> 76.1 | E19: =+'SHEET-7'!C28 -> 300.72 | F19: 80 | G19: =+'SHEET-7'!D28 -> 279.31 | H19: =(D19-F19)/F19 -> -0.04875 | I19: =(E19-G19)/G19 -> 0.076653181
A20: 6 | B20: Admin. And General Expenditure | C20: Rs. In Crore | D20: =+E20-78.2 -> 26.93 | E20: ='SHEET-7'!C25 -> 105.13 | F20: 24.25 | G20: =+'SHEET-7'!D25 -> 92.98 | H20: =(D20-F20)/F20 -> 0.11051546 | I20: =(E20-G20)/G20 -> 0.13067326
A21: 6a | B21: Expenses Capitalized | C21: Rs. In Crore | D21: 0 | E21: 0 | F21: 0 | G21: 0 | H21: 0 | I21: 0
A22: 7 | B22: Other Debits & Prior Period Adjustment | C22: Rs. In Crore | D22: =+E22-21.94 -> 116.83 | E22: =+'SHEET-7'!C26 -> 138.77 | F22: 13.15 | G22: =+'SHEET-7'!D26 -> 35.82 | H22: =(D22-F22)/F22 -> 7.8844106 | I22: =(E22-G22)/G22 -> 2.8740927
A23: 8 | B23: Total Cost Excluding Profit / Return | C23: Rs. In Crore | D23: =+SUM(D15:D22) -> 1892.12 | E23: =+SUM(E15:E22) -> 9409.07 | F23: =+SUM(F15:F22) -> 2333.4 | G23: =+SUM(G15:G22) -> 9350 | H23: =(D23-F23)/F23 -> -0.1891146 | I23: =(E23-G23)/G23 -> 0.0063176471
B24: Income:
A25: 9 | B25: Other Income | C25: Rs. In Crore | D25: =+E25-189.87 -> 102.4 | E25: =+'SHEET-7'!C14 -> 292.27 | F25: 75 | G25: =+'SHEET-7'!D14 -> 306.56 | H25: =(D25-F25)/F25 -> 0.36533333 | I25: =(E25-G25)/G25 -> -0.04661404
A26: 10 | B26: Sales Amount [Without E. D.] [Incl. T.C/FCA] | C26: Rs. In Crore | D26: =+E26-7535.08 -> 2182.55 | E26: =+'SHEET-7'!C11 -> 9717.63 | F26: 2212.44 | G26: =+'SHEET-7'!D11 -> 8943.02 | H26: =(D26-F26)/F26 -> -0.013509971 | I26: =(E26-G26)/G26 -> 0.086616154
A27: 11 | B27: Agricultural Subsidy Received | C27: Rs. In Crore | D27: =+E27-53.05 -> 17.67 | E27: =+'SHEET-7'!C13 -> 70.72 | F27: 17.19 | G27: =+'SHEET-7'!D13 -> 70.73 | H27: =(D27-F27)/F27 -> 0.027923211 | I27: =(E27-G27)/G27 -> -0.00014138272
A28: 12 | B28: Misc. Revenue Related Recovery | C28: Rs. In Crore | D28: =+E28-79.8 -> 54.68 | E28: =+'SHEET-7'!C12 -> 134.48 | F28: 36.21 | G28: =+'SHEET-7'!D12 -> 97.96 | H28: =(D28-F28)/F28 -> 0.51008009 | I28: =(E28-G28)/G28 -> 0.37280523
A29: 13 | B29: Total Income(9+10+11+12) | C29: Rs. In Crore | D29: =+SUM(D25:D28) -> 2357.3 | E29: =+SUM(E25:E28) -> 10215.1 | F29: =+SUM(F25:F28) -> 2340.84 | G29: =+SUM(G25:G28) -> 9418.27 | H29: =(D29-F29)/F29 -> 0.0070316638 | I29: =(E29-G29)/G29 -> 0.08460471
A30: 14 | B30: Cost of Power Purchase as % of Total Cost [1]/[8] | C30: % | D30: =D15/D23 -> 0.78581168 | E30: =E15/E23 -> 0.85828461 | F30: =F15/F23 -> 0.89130453 | G30: =G15/G23 -> 0.88463957 | H30: =D30-F30 -> -0.10549285 | I30: =E30-G30 -> -0.02635496
A32: 15 | B32: Capital Expenditure | C32: Rs. In Crore | D32: =+E32-363.16 -> 248.14 | E32: 611.3 | F32: 363.56 | G32: 520 | H32: =(D32-F32)/F32 -> -0.31747167 | I32: =(E32-G32)/G32 -> 0.17557692
A33: 16 | B33: New Long Term Borrowings | C33: Rs. In Crore | D33: 0 | E33: =+D33 -> 0 | F33: 0 | G33: 0 | H33: 0 | I33: 0
A34: 17 | B34: C.C.drawl at the end of the Quarter | C34: Rs. In Crore | D34: 0 | E34: =+D34 -> 0 | F34: 0 | G34: 0 | H34: 0 | I34: 0
D57: =3+0.58+0.94 -> 4.52 | E57: 30066981 | F57: 5786401.8 | G57: 9381444.4 | H57: 87524122
E58: =E57/10^7 -> 3.0066981 | F58: =F57/10^7 -> 0.57864017 | G58: =G57/10^7 -> 0.93814444 | H58: =H57/10^7 -> 8.7524122
D66: 0.64
D67: =SUM(D64:D66) -> 0.64

Sheet SHEET-4
I2: [ 4]
A5: MADHYA GUJARAT VIJ COMPANY LIMITED
A7: III - SALES AND REVENUE DATA
A9: NOS. OF CONSUMERS AND UNIT SOLD
D11: Current Year | F11: Previous Year | H11: % Change
D12: Quarterly | E12: Cummulative | F12: Quarterly | G12: Cummulative | H12: Quarterly | I12: Cummulative
A13: [A] | B13: NOS. OF CONSUMERS [WITHOUT PDC] | D13: =+'SHEET-3'!D14:E14 -> Jan to Mar-24 | F13: =+'SHEET-3'!F14:G14 -> Jan to Mar-23
A14: 1 | B14: H. T. | C14: Nos. | D14: =2961+133 -> 3094 | E14: =D14 -> 3094 | F14: 2845 | G14: 2845 | H14: =(D14-F14)/F14 -> 0.087521968 | I14: =(E14-G14)/G14 -> 0.087521968
A15: 2 | B15: Railways | C15: Nos. | D15: 0 | E15: 0 | F15: 0 | G15: 0 | H15: =(D15-F15)/F15 -> #DIV/0! | I15: =(E15-G15)/G15 -> #DIV/0!
A16: 3 | B16: Liecence | C16: Nos. | D16: 0 | E16: 0 | F16: 0 | G16: 0 | H16: 0 | I16: 0
A17: 4 | B17: Total H.T. + E.H.T. | C17: Nos. | D17: =SUM(D14:D16) -> 3094 | E17: =SUM(E14:E16) -> 3094 | F17: 2845 | G17: 2845 | H17: =(D17-F17)/F17 -> 0.087521968 | I17: =(E17-G17)/G17 -> 0.087521968
A18: 5 | B18: Residential | C18: Nos. | D18: 2910781 | E18: =D18 -> 2910781 | F18: 2842088 | G18: 2842088 | H18: =(D18-F18)/F18 -> 0.024169906 | I18: =(E18-G18)/G18 -> 0.024169906
A19: 6 | B19: Commercial | C19: Nos. | D19: 419322 | E19: =D19 -> 419322 | F19: 402351 | G19: 402351 | H19: =(D19-F19)/F19 -> 0.042179589 | I19: =(E19-G19)/G19 -> 0.042179589
A20: 7 | B20: Industrial | C20: Nos.
A21: 8 | B21: Others [Water Works / Public Lighting] | C21: Nos. | D21: 31863 | E21: =D21 -> 31863 | F21: 29362 | G21: 29362 | H21: =(D21-F21)/F21 -> 0.085178121 | I21: =(E21-G21)/G21 -> 0.085178121
A22: 9 | B22: Total L.T. Excluding Agricultural | C22: Nos. | D22: =SUM(D18:D21) -> 3361966 | E22: =D22 -> 3361966 | F22: 3273801 | G22: 3273801 | H22: =(D22-F22)/F22 -> 0.02693047 | I22: =(E22-G22)/G22 -> 0.02693047
A23: 10 | B23: Agricultural | C23: Nos. | D23: =222972+14 -> 222986 | E23: =D23 -> 222986 | F23: 210166 | G23: 210166 | H23: =(D23-F23)/F23 -> 0.0609994 | I23: =(E23-G23)/G23 -> 0.0609994
A24: 11 | B24: Total L. T. Including Agricultural | C24: Nos. | D24: =SUM(D22:D23) -> 3584952 | E24: =SUM(E22:E23) -> 3584952 | F24: 3483967 | G24: 3483967 | H24: =(D24-F24)/F24 -> 0.028985636 | I24: =(E24-G24)/G24 -> 0.028985636
A25: 12 | B25: Total H.T. + E.H.T. + L. T. [WITHOUT P.D.C.] | C25: Nos. | D25: =+D17+D24 -> 3588046 | E25: =+E17+E24 -> 3588046 | F25: 3486812 | G25: 3486812 | H25: =(D25-F25)/F25 -> 0.029033398 | I25: =(E25-G25)/G25 -> 0.029033398
A27: [B] | B27: NOS. OF UNITS SOLD
A29: 1 | B29: H. T. | C29: M.KWH | D29: =+E29-4424.1 -> 1237.108 | E29: 5661.208 | F29: =+G29-4187.265 -> 1761.735 | G29: 5949 | H29: =(D29-F29)/F29 -> -0.29778996 | I29: =(E29-G29)/G29 -> -0.048376534
A30: 2 | B30: Railways | C30: M.KWH | D30: 0 | E30: =+D30 -> 0 | F30: 0 | G30: 0 | H30: =(D30-F30)/F30 -> #DIV/0! | I30: =(E30-G30)/G30 -> #DIV/0!
A31: 3 | B31: Liecence | C31: M.KWH | D31: 0 | E31: 0 | F31: 0 | G31: 0 | H31: 0 | I31: 0
A32: 4 | B32: Total H.T. + E.H.T. | C32: M.KWH | D32: =D29+D30 -> 1237.108 | E32: =E29+E30 -> 5661.208 | F32: =F29+F30 -> 1761.735 | G32: =G29+G30 -> 5949 | H32: =(D32-F32)/F32 -> -0.29778996 | I32: =(E32-G32)/G32 -> -0.048376534
A33: 5 | B33: Residential | C33: M.KWH | D33: =+E33-2405.35 -> 542.935 | E33: 2948.285 | F33: =+G33-2403.11 -> 507.22 | G33: 2910.33 | H33: =(D33-F33)/F33 -> 0.070413233 | I33: =(E33-G33)/G33 -> 0.013041476
A34: 6 | B34: Commercial | C34: M.KWH | D34: =+E34-1474.25 -> 581.624 | E34: 2055.874 | F34: =+G34-1378.409 -> 599.551 | G34: =123.73+1854.23 -> 1977.96 | H34: =(D34-F34)/F34 -> -0.029900709 | I34: =(E34-G34)/G34 -> 0.03939109
A35: 7 | B35: Industrial | C35: M.KWH
A36: 8 | B36: Others [Water Works / Public Lighting] | C36: M.KWH | D36: =+E36-437.86 -> 25.529 | E36: 463.389 | F36: =+G36-310.779-80 -> 24.091 | G36: 414.87 | H36: =(D36-F36)/F36 -> 0.059690341 | I36: =(E36-G36)/G36 -> 0.11694989
A37: 9 | B37: Total L.T. Excluding Agricultural | C37: M.KWH | D37: =SUM(D33:D36) -> 1150.088 | E37: =SUM(E33:E36) -> 5467.548 | F37: =SUM(F33:F36) -> 1130.862 | G37: =SUM(G33:G36) -> 5303.16 | H37: =(D37-F37)/F37 -> 0.01700119 | I37: =(E37-G37)/G37 -> 0.030998122
A38: 10 | B38: Agricultural [Metered + Unmetered] | C38: M.KWH | D38: =+E38-1147.03 -> 438.556 | E38: 1585.586 | F38: =+G38-1286.441+275 -> 377.199 | G38: 1388.64 | H38: =(D38-F38)/F38 -> 0.1626648 | I38: =(E38-G38)/G38 -> 0.14182654
A39: 11 | B39: Total L. T. Including Agricultural | C39: M.KWH | D39: =SUM(D37:D38) -> 1588.644 | E39: =SUM(E37:E38) -> 7053.134 | F39: =SUM(F37:F38) -> 1508.061 | G39: =SUM(G37:G38) -> 6691.8 | H39: =(D39-F39)/F39 -> 0.053434841 | I39: =(E39-G39)/G39 -> 0.053996533
A40: 12 | B40: Total H.T. + E.H.T. + L. T. | C40: M.KWH | D40: =D32+D39 -> 2825.752 | E40: =E32+E39 -> 12714.342 | F40: =F32+F39 -> 3269.796 | G40: =G32+G39 -> 12640.8 | H40: =(D40-F40)/F40 -> -0.13580174 | I40: =(E40-G40)/G40 -> 0.005817828
D52: 1639.71 | E52: 5096.36
D57: 335.74 | E57: 335.74 | F57: =D40-D52 -> 1186.042
D58: 346.72 | E58: 346.72 | F58: =E40-E52 -> 7617.982
D59: =SUM(D57:D58) -> 682.46 | E59: =SUM(E57:E58) -> 682.46
D64: Q1 2014 | E64: Q1 2013
C65: Metered | D65: 153.2 | E65: 171.66 | F65: =(D65-E65)/E65 -> -0.10753816
C66: Unmetered | D66: 136.37 | E66: 136.62 | F66: =(D66-E66)/E66 -> -0.0018298931
D67: =SUM(D65:D66) -> 289.57 | E67: =SUM(E65:E66) -> 308.28 | F67: =(D67-E67)/E67 -> -0.060691579

Sheet SHEET-5
I2: [ 5 ]
A5: MADHYA GUJARAT VIJ COMPANY LIMITED
A7: III - SALES AND REVENUE DATA
A9: SALES REVENUE AMOUNT AND PAISE / UNIT
D11: Current Year | F11: Previous Years | H11: % Change
D12: Quarterly | E12: Cummulative | F12: Quarterly | G12: Cummulative | H12: Quarterly | I12: Cummulative
A13: [C] | B13: SALES REVENUE BILLED : | D13: =+'SHEET-4'!D13:E13 -> Jan to Mar-24 | F13: =+'SHEET-4'!F13:G13 -> Jan to Mar-23
A14: 1 | B14: H. T. | C14: Rs. In Crore | D14: 1173.51 | E14: 4964.91 | F14: =+G14-3360.88 -> 1235.44 | G14: 4596.32 | H14: =(D14-F14)/F14 -> -0.05012789 | I14: =(E14-G14)/G14 -> 0.080192415
A15: 2 | B15: Railway | C15: Rs. In Crore | D15: 0 | E15: 0 | F15: 0 | G15: 0 | H15: =(D15-F15)/F15 -> #DIV/0! | I15: =(E15-G15)/G15 -> #DIV/0!
A16: 3 | B16: Liecence | C16: Rs. In Crore | D16: 0 | E16: 0 | F16: 0 | G16: 0 | H16: 0 | I16: 0
A17: 4 | B17: Total H.T. + E.H.T. | C17: Rs. In Crore | D17: =SUM(D14:D16) -> 1173.51 | E17: =SUM(E14:E16) -> 4964.91 | F17: =SUM(F14:F16) -> 1235.44 | G17: =SUM(G14:G16) -> 4596.32 | H17: =(D17-F17)/F17 -> -0.05012789 | I17: =(E17-G17)/G17 -> 0.080192415
A18: 5 | B18: Residential | C18: Rs. In Crore | D18: 346.41 | E18: 2024.73 | F18: =+G18-1497.14 -> 327.99 | G18: 1825.13 | H18: =(D18-F18)/F18 -> 0.056160249 | I18: =(E18-G18)/G18 -> 0.10936207
A19: 6 | B19: Commercial | C19: Rs. In Crore | D19: 456.67 | E19: 1789.04 | F19: =+G19-1225.25 -> 359.79 | G19: 1585.04 | H19: =(D19-F19)/F19 -> 0.26926818 | I19: =(E19-G19)/G19 -> 0.12870338
A20: 7 | B20: Industrial | C20: Rs. In Crore
A21: 8 | B21: Others [Water Works / Public Lighting] | C21: Rs. In Crore | D21: =40.89+54.87+16 -> 111.76 | E21: 340.17 | F21: =+G21-227.59 -> 74.66 | G21: 302.25 | H21: =(D21-F21)/F21 -> 0.49691937 | I21: =(E21-G21)/G21 -> 0.12545906
A22: 9 | B22: Total L.T. Excluding Agricultural | C22: Rs. In Crore | D22: =SUM(D18:D21) -> 914.84 | E22: =SUM(E18:E21) -> 4153.94 | F22: =SUM(F18:F21) -> 762.44 | G22: =SUM(G18:G21) -> 3712.42 | H22: =(D22-F22)/F22 -> 0.19988458 | I22: =(E22-G22)/G22 -> 0.11893051
A23: 10 | B23: Agricultural [Including Tariff Comp.]/[FPPPA] | C23: Rs. In Crore | D23: 112.04 | E23: 598.78 | F23: =+G23-479.4 -> 154.89 | G23: 634.29 | H23: =(D23-F23)/F23 -> -0.27664794 | I23: =(E23-G23)/G23 -> -0.055983856
A24: 11 | B24: Total L. T. Including Agricultural | C24: Rs. In Crore | D24: =SUM(D22:D23) -> 1026.88 | E24: =SUM(E22:E23) -> 4752.72 | F24: =SUM(F22:F23) -> 917.33 | G24: =SUM(G22:G23) -> 4346.71 | H24: =(D24-F24)/F24 -> 0.11942267 | I24: =(E24-G24)/G24 -> 0.093406277
A25: 12 | B25: Total H.T. + E.H.T. + L. T. | C25: Rs. In Crore | D25: =D17+D24 -> 2200.39 | E25: =E17+E24 -> 9717.63 | F25: =F17+F24 -> 2152.77 | G25: =G17+G24 -> 8943.03 | H25: =(D25-F25)/F25 -> 0.022120338 | I25: =(E25-G25)/G25 -> 0.086614939
A27: [D] | B27: SALES REALISATION
A29: 1 | B29: H. T. | C29: Paise / kwh | D29: =D14/'SHEET-4'!D29*1000 -> 948.59139 | E29: =E14/'SHEET-4'!E29*1000 -> 877.0054 | F29: =F14/'SHEET-4'!F29*1000 -> 701.26324 | G29: =G14/'SHEET-4'!G29*1000 -> 772.62061 | H29: =(D29-F29)/F29 -> 0.35268945 | I29: =(E29-G29)/G29 -> 0.13510485 | N29: =(D14/'SHEET-4'!D29)*1000 -> 948.59139 | O29: =(E14/'SHEET-4'!E29)*1000 -> 877.0054 | P29: =(F14/'SHEET-4'!F29)*1000 -> 701.26324 | Q29: =(G14/'SHEET-4'!G29)*1000 -> 772.62061
A30: 2 | B30: Railway | C30: Paise / kwh | D30: 0 | E30: 0 | F30: 0 | G30: 0 | H30: =(D30-F30)/F30 -> #DIV/0! | I30: =(E30-G30)/G30 -> #DIV/0! | N30: =(D15/'SHEET-4'!D30)*1000 -> #DIV/0! | O30: =(E15/'SHEET-4'!E30)*1000 -> #DIV/0! | P30: =(F15/'SHEET-4'!F30)*1000 -> #DIV/0!
A31: 3 | B31: Liecence | C31: Paise / kwh | D31: 0 | E31: 0 | F31: 0 | G31: =F31 -> 0 | H31: 0 | I31: 0 | N31: =(D16/'SHEET-4'!D31)*1000 -> #DIV/0! | O31: =(E16/'SHEET-4'!E31)*1000 -> #DIV/0! | P31: =(F16/'SHEET-4'!F31)*1000 -> #DIV/0!
A32: 4 | B32: Total H.T. + E.H.T. | C32: Paise / kwh | D32: =D17/'SHEET-4'!D32*1000 -> 948.59139 | E32: =E17/'SHEET-4'!E32*1000 -> 877.0054 | F32: =F17/'SHEET-4'!F32*1000 -> 701.26324 | G32: =G17/'SHEET-4'!G32*1000 -> 772.62061 | H32: =(D32-F32)/F32 -> 0.35268945 | I32: =(E32-G32)/G32 -> 0.13510485 | N32: =(D17/'SHEET-4'!D32)*1000 -> 948.59139 | O32: =(E17/'SHEET-4'!E32)*1000 -> 877.0054 | P32: =(F17/'SHEET-4'!F32)*1000 -> 701.26324
A33: 5 | B33: Residential | C33: Paise / kwh | D33: =D18/'SHEET-4'!D33*1000 -> 638.03218 | E33: =E18/'SHEET-4'!E33*1000 -> 686.7484 | F33: =F18/'SHEET-4'!F33*1000 -> 646.64248 | G33: =G18/'SHEET-4'!G33*1000 -> 627.12132 | H33: =(D33-F33)/F33 -> -0.013315404 | I33: =(E33-G33)/G33 -> 0.095080605 | N33: =(D18/'SHEET-4'!D33)*1000 -> 638.03218 | O33: =(E18/'SHEET-4'!E33)*1000 -> 686.7484 | P33: =(F18/'SHEET-4'!F33)*1000 -> 646.64248
A34: 6 | B34: Commercial | C34: Paise / kwh | D34: =D19/'SHEET-4'!D34*1000 -> 785.16361 | E34: =E19/'SHEET-4'!E34*1000 -> 870.20897 | F34: =F19/'SHEET-4'!F34:F35*1000 -> 600.09907 | G34: =G19/'SHEET-4'!G34*1000 -> 801.35089 | H34: =(D34-F34)/F34 -> 0.30838997 | I34: =(E34-G34)/G34 -> 0.085927509 | N34: =(D19/'SHEET-4'!D34)*1000 -> 785.16361 | O34: =(E19/'SHEET-4'!E34)*1000 -> 870.20897 | P34: =(F19/'SHEET-4'!F34)*1000 -> 600.09907
A35: 7 | B35: Industrial | C35: Paise / kwh | N35: =(D20/'SHEET-4'!D35)*1000 -> #DIV/0! | O35: =(E20/'SHEET-4'!E35)*1000 -> #DIV/0! | P35: =(F20/'SHEET-4'!F35)*1000 -> #DIV/0!
A36: 8 | B36: Others [Water Works / Public Lighting] | C36: Paise / kwh | D36: =D21/'SHEET-4'!D36*1000 -> 4377.7665 | E36: =E21/'SHEET-4'!E36*1000 -> 734.09166 | F36: =F21/'SHEET-4'!F36*1000 -> 3099.0826 | G36: =G21/'SHEET-4'!G36*1000 -> 728.54147 | H36: =(D36-F36)/F36 -> 0.41260075 | I36: =(E36-G36)/G36 -> 0.0076182193 | N36: =(D21/'SHEET-4'!D36)*1000 -> 4377.7665 | O36: =(E21/'SHEET-4'!E36)*1000 -> 734.09166 | P36: =(F21/'SHEET-4'!F36)*1000 -> 3099.0826
A37: 9 | B37: Total L.T. Excluding Agricultural | C37: Paise / kwh | D37: =D22/'SHEET-4'!D37*1000 -> 795.45217 | E37: =E22/'SHEET-4'!E37*1000 -> 759.74459 | F37: =F22/'SHEET-4'!F37*1000 -> 674.21135 | G37: =G22/'SHEET-4'!G37*1000 -> 700.03922 | H37: =(D37-F37)/F37 -> 0.17982613 | I37: =(E37-G37)/G37 -> 0.085288601 | N37: =(D22/'SHEET-4'!D37)*1000 -> 795.45217 | O37: =(E22/'SHEET-4'!E37)*1000 -> 759.74459 | P37: =(F22/'SHEET-4'!F37)*1000 -> 674.21135
A38: 10 | B38: Agricultural | C38: Paise / kwh | D38: =D23/'SHEET-4'!D38*1000 -> 255.47479 | E38: =E23/'SHEET-4'!E38*1000 -> 377.63956 | F38: =F23/'SHEET-4'!F38*1000 -> 410.63205 | G38: =G23/'SHEET-4'!G38*1000 -> 456.77065 | H38: =(D38-F38)/F38 -> -0.37784987 | I38: =(E38-G38)/G38 -> -0.17324032 | N38: =(D23/'SHEET-4'!D38)*1000 -> 255.47479 | O38: =(E23/'SHEET-4'!E38)*1000 -> 377.63956 | P38: =(F23/'SHEET-4'!F38)*1000 -> 410.63205
A39: 11 | B39: Total L. T. Including Agricultural | C39: Paise / kwh | D39: =D24/'SHEET-4'!D39*1000 -> 646.38774 | E39: =E24/'SHEET-4'!E39*1000 -> 673.84513 | F39: =F24/'SHEET-4'!F39*1000 -> 608.28441 | G39: =G24/'SHEET-4'!G39*1000 -> 649.55767 | H39: =(D39-F39)/F39 -> 0.062640639 | I39: =(E39-G39)/G39 -> 0.037390772 | N39: =(D24/'SHEET-4'!D39)*1000 -> 646.38774 | O39: =(E24/'SHEET-4'!E39)*1000 -> 673.84513 | P39: =(F24/'SHEET-4'!F39)*1000 -> 608.28441
A40: 12 | B40: Total H.T. + E.H.T. + L. T. | C40: Paise / kwh | D40: =D25/'SHEET-4'!D40*1000 -> 778.69183 | E40: =E25/'SHEET-4'!E40*1000 -> 764.30459 | F40: =F25/'SHEET-4'!F40*1000 -> 658.38052 | G40: =G25/'SHEET-4'!G40*1000 -> 707.47342 | H40: =(D40-F40)/F40 -> 0.18273826 | I40: =(E40-G40)/G40 -> 0.080329766 | N40: =(D25/'SHEET-4'!D40)*1000 -> 778.69183 | O40: =(E25/'SHEET-4'!E40)*1000 -> 764.30459 | P40: =(F25/'SHEET-4'!F40)*1000 -> 658.38052

Sheet SHEET-6
I2: [ 6 ]
A5: MADHYA GUJARAT VIJ COMPANY LIMITED
A7: III - SALES AND REVENUE DATA
A9: SALES REVENUE FIXED AND ENERGY CHARGE PAISE / UNIT AND UNITS SOLD PER CONSUMER
D11: Current Year | F11: Previous Year | H11: % Change
D12: Quarterly | E12: Cummulative | F12: Quarterly | G12: Cummulative | H12: Quarterly | I12: Cummulative
A13: [A] | B13: SALES REALISATION - FIXED CHARGES | D13: =+'SHEET-5'!D13:E13 -> Jan to Mar-24 | F13: =+'SHEET-5'!F13:G13 -> Jan to Mar-23
A14: 1 | B14: H. T. | C14: Paise / KWH | D14: 96.162409 | E14: 93.578357 | F14: 92.81636 | G14: 92.840765 | H14: =(D14-F14)/F14 -> 0.036050204 | I14: =(E14-G14)/G14 -> 0.0079447009
A15: 2 | B15: Railway | C15: Paise / KWH | D15: 0 | E15: 0 | F15: 0 | G15: 0 | H15: =(D15-F15)/F15 -> #DIV/0! | I15: =(E15-G15)/G15 -> #DIV/0!
A16: 3 | B16: Liecence | C16: Paise / KWH | D16: 0 | E16: 0 | F16: 0 | G16: 0 | H16: 0 | I16: 0
A17: 4 | B17: Total H.T. + E.H.T. | C17: Paise / KWH | D17: 96.162409 | E17: 93.578357 | F17: 92.81636 | G17: 92.840765 | H17: =(D17-F17)/F17 -> 0.036050204 | I17: =(E17-G17)/G17 -> 0.0079447009
A18: 5 | B18: Residential | C18: Paise / KWH | D18: 31.283857 | E18: 20.030457 | F18: 31.180882 | G18: 19.620907 | H18: =(D18-F18)/F18 -> 0.0033025206 | I18: =(E18-G18)/G18 -> 0.020873163
A19: 6 | B19: Commercial | C19: Paise / KWH | D19: 94.792944 | E19: 83.214795 | F19: 91.124459 | G19: 81.45252 | H19: =(D19-F19)/F19 -> 0.040257961 | I19: =(E19-G19)/G19 -> 0.021635599
A20: 7 | B20: Industrial | C20: Paise / KWH
A21: 8 | B21: Other [Specify] | C21: Paise / KWH | D21: 3.559817 | E21: 3.4966805 | F21: 3.6803753 | G21: 3.5238244 | H21: =(D21-F21)/F21 -> -0.032757065 | I21: =(E21-G21)/G21 -> -0.0077029764
A22: 9 | B22: Total L.T. Excluding Agricultural | C22: Paise / KWH | D22: 57.75733 | E22: 43.212976 | F22: 56.237586 | G22: 41.942574 | H22: =(D22-F22)/F22 -> 0.027023627 | I22: =(E22-G22)/G22 -> 0.030289094
A23: 10 | B23: Agricultural | C23: Paise / KWH | D23: 15.312213 | E23: 16.209178 | F23: 12.223788 | G23: 28.529239 | H23: =(D23-F23)/F23 -> 0.25265697 | I23: =(E23-G23)/G23 -> -0.43183981
A24: 11 | B24: Total L. T. Including Agricultural | C24: Paise / KWH | D24: 49.312867 | E24: 39.193462 | F24: 46.592941 | G24: 39.893284 | H24: =(D24-F24)/F24 -> 0.058376352 | I24: =(E24-G24)/G24 -> -0.017542345
A25: 12 | B25: Total H.T. + E.H.T. + L. T. | C25: Paise / KWH | D25: 76.219276 | E25: 67.812796 | F25: 72.813108 | G25: 67.452809 | H25: =(D25-F25)/F25 -> 0.046779609 | I25: =(E25-G25)/G25 -> 0.0053368718
A27: [B] | B27: SALES REALISATION - ENERGY CHARGES
A29: 1 | B29: H. T. | C29: Paise / KWH | D29: 419.42732 | E29: 419.07123 | F29: 418.59258 | G29: 418.15775 | H29: =(D29-F29)/F29 -> 0.0019941728 | I29: =(E29-G29)/G29 -> 0.0021845331
A30: 2 | B30: Railway | C30: Paise / KWH | D30: 0 | E30: 0 | F30: 0 | G30: 0 | H30: =(D30-F30)/F30 -> #DIV/0! | I30: =(E30-G30)/G30 -> #DIV/0!
A31: 3 | B31: Liecence | C31: Paise / KWH | D31: 0 | E31: 0 | F31: 0 | G31: 0 | H31: 0 | I31: 0
A32: 4 | B32: Total H.T. + E.H.T. | C32: Paise / KWH | D32: 419.42732 | E32: 419.07123 | F32: 418.59258 | G32: 418.15775 | H32: =(D32-F32)/F32 -> 0.0019941728 | I32: =(E32-G32)/G32 -> 0.0021845331
A33: 5 | B33: Residential | C33: Paise / KWH | D33: 335.12445 | E33: 358.68631 | F33: 349.25343 | G33: 359.88862 | H33: =(D33-F33)/F33 -> -0.040454802 | I33: =(E33-G33)/G33 -> -0.0033407823
A34: 6 | B34: Commercial | C34: Paise / KWH | D34: 464.02028 | E34: 460.67684 | F34: 468.07005 | G34: 464.14699 | H34: =(D34-F34)/F34 -> -0.00865207 | I34: =(E34-G34)/G34 -> -0.0074764091
A35: 7 | B35: Industrial | C35: Paise / KWH | E35: #DIV/0!
A36: 8 | B36: Other [Specify] | C36: Paise / KWH | D36: 332.2983 | E36: 335.56946 | F36: 348.71932 | G36: 339.68671 | H36: =(D36-F36)/F36 -> -0.047089482 | I36: =(E36-G36)/G36 -> -0.012120736
A37: 9 | B37: Total L.T. Excluding Agricultural | C37: Paise / KWH | D37: 392.89715 | E37: 396.31416 | F37: 402.85455 | G37: 397.9202 | H37: =(D37-F37)/F37 -> -0.024717106 | I37: =(E37-G37)/G37 -> -0.0040360831
A38: 10 | B38: Agricultural (Incl. Tariff Comp.) | C38: Paise / KWH | D38: 73.077616 | E38: 81.042688 | F38: 73.516402 | G38: 82.341677 | H38: =(D38-F38)/F38 -> -0.005968551 | I38: =(E38-G38)/G38 -> -0.015775591
A39: 11 | B39: Total L. T. Including Agricultural | C39: Paise / KWH | D39: 329.269 | E39: 349.38601 | F39: 330.68742 | G39: 349.70609 | H39: =(D39-F39)/F39 -> -0.0042892925 | I39: =(E39-G39)/G39 -> -0.0009152833
B40: Total H.T. + E.H.T. + L. T. | C40: Paise / KWH | D40: 381.04831 | E40: 386.05694 | F40: 380.55149 | G40: 385.33565 | H40: =(D40-F40)/F40 -> 0.001305517 | I40: =(E40-G40)/G40 -> 0.0018718532
A42: [C] | B42: UNIT SOLD PER CONSUMER
A44: 1 | B44: H. T. | C44: KWH | D44: ='SHEET-4'!D29/'SHEET-4'!D14*10^6 -> 399840.98 | E44: ='SHEET-4'!E29/'SHEET-4'!E14*10^6 -> 1829737.6 | F44: ='SHEET-4'!F29/'SHEET-4'!F14*10^6 -> 619239.02 | G44: ='SHEET-4'!G29/'SHEET-4'!G14*10^6 -> 2091036.9 | H44: =(D44-F44)/F44 -> -0.35430266 | I44: =(E44-G44)/G44 -> -0.12496162
A45: 2 | B45: Railway | C45: KWH | D45: 0 | E45: 0 | F45: 0 | G45: 0 | H45: =(D45-F45)/F45 -> #DIV/0! | I45: =(E45-G45)/G45 -> #DIV/0!
A46: 3 | B46: Liecence | C46: KWH | D46: 0 | E46: =D46 -> 0 | F46: 0 | G46: 0 | H46: 0 | I46: 0
A47: 4 | B47: Total H.T. + E.H.T. | C47: KWH | D47: ='SHEET-4'!D32/'SHEET-4'!D17*10^6 -> 399840.98 | E47: ='SHEET-4'!E32/'SHEET-4'!E17*10^6 -> 1829737.6 | F47: ='SHEET-4'!F32/'SHEET-4'!F17*10^6 -> 619239.02 | G47: ='SHEET-4'!G32/'SHEET-4'!G17*10^6 -> 2091036.9 | H47: =(D47-F47)/F47 -> -0.35430266 | I47: =(E47-G47)/G47 -> -0.12496162
A48: 5 | B48: Residential | C48: KWH | D48: ='SHEET-4'!D33/'SHEET-4'!D18*10^6 -> 186.52554 | E48: ='SHEET-4'!E33/'SHEET-4'!E18*10^6 -> 1012.8845 | F48: ='SHEET-4'!F33/'SHEET-4'!F18*10^6 -> 178.46738 | G48: ='SHEET-4'!G33/'SHEET-4'!G18*10^6 -> 1024.0112 | H48: =(D48-F48)/F48 -> 0.045152007 | I48: =(E48-G48)/G48 -> -0.010865804
A49: 6 | B49: Commercial | C49: KWH | D49: ='SHEET-4'!D34/'SHEET-4'!D19*10^6 -> 1387.0582 | E49: ='SHEET-4'!E34/'SHEET-4'!E19*10^6 -> 4902.8527 | F49: ='SHEET-4'!F34/'SHEET-4'!F19*10^6 -> 1490.1193 | G49: ='SHEET-4'!G34/'SHEET-4'!G19*10^6 -> 4916.0062 | H49: =(D49-F49)/F49 -> -0.06916303 | I49: =(E49-G49)/G49 -> -0.0026756422
A50: 7 | B50: Industrial | C50: KWH
...

Sheet SHEET-7
E1: [7]
A4: MADHYA GUJARAT VIJ COMPANY LIMITED
A6: IV - FINANCIAL DATA
C8: Current Year [Provisional] | D8: Previous Year | E8: % Change
C9: April toMar-24 | D9: April toMar-23
A10: [A] | B10: REVENUE | C10: Rs. In Crores | D10: Rs. In Crores
A11: 1 | B11: Sale of Electricity | C11: 9717.63 | D11: 8943.02 | E11: =(C11-D11)/D11 -> 0.086616154
A12: 2 | B12: Misc. Revenue Recovery | C12: 134.48 | D12: 97.96 | E12: =(C12-D12)/D12 -> 0.37280523
A13: 3 | B13: Government Subsidy FOR AG. | C13: 70.72 | D13: 70.73 | E13: =(C13-D13)/D13 -> -0.00014138272
A14: 4 | B14: Other Income | C14: 292.27 | D14: 306.56 | E14: =(C14-D14)/D14 -> -0.04661404
A15: 5 | B15: Total Income | C15: =SUM(C11:C14) -> 10215.1 | D15: =SUM(D11:D14) -> 9418.27 | E15: =(C15-D15)/D15 -> 0.08460471
A17: [B] | B17: EXPENSES
B18: Operating Expenses
A19: 1 | B19: Power Purchase Costs net of trading Credit | C19: =8111.32-35.66 -> 8075.66 | D19: =8408.98-137.6 -> 8271.38 | E19: =(C19-D19)/D19 -> -0.023662315
A20: 2 | B20: Fixed
A21: 3 | B21: Variable
A22: 4 | B22: Fuel Expense | E22: 0
A23: 5 | B23: Employee Cost | C23: 603.47 | D23: 534.82 | E23: =(C23-D23)/D23 -> 0.12836094
A24: 6 | B24: Repairs and Maintenance | C24: 98.16 | D24: 82.07 | E24: =(C24-D24)/D24 -> 0.19605215
A25: 7 | B25: Administrative and General Expenses | C25: 105.13 | D25: 92.98 | E25: =(C25-D25)/D25 -> 0.13067326
A26: 8 | B26: Other Operating Costs | C26: 138.77 | D26: 35.82 | E26: =(C26-D26)/D26 -> 2.8740927
A28: 9 | B28: Depreciation | C28: 300.72 | D28: 279.31 | E28: =(C28-D28)/D28 -> 0.076653181
A29: 10 | B29: Interest | C29: 87.16 | D29: 53.62 | E29: =(C29-D29)/D29 -> 0.62551287
A30: 11 | B30: Other Expenses [Prior Period] | C30: 0 | D30: 0
A31: 12 | B31: Misc. If any | C31: 0 | D31: 0 | E31: 0
A32: 13 | B32: Less : Expenses Capitalized | C32: 0 | D32: 0
A33: 14 | B33: Total Expenses 1 to 13] | C33: =SUM(C19:C32) -> 9409.07 | D33: =SUM(D19:D32) -> 9350 | E33: =(C33-D33)/D33 -> 0.0063176471
A35: [C] | B35: Surplus [deficit] excluding rate of return | C35: =C15-C33 -> 806.03 | D35: =D15-D33 -> 68.27 | E35: =(C35-D35)/D35 -> 10.806504
A37: NOTE : Power Purchase Cost is based on provisional bills received from GUVNL.

Sheet T& D
B1: MGVCL - V - DISTRIBUTION - KEY DATA
B3: Dist losses in Urban>25%, Industrial>10% and GIDC>5% feeders
B4: Category | C4: Circle | D4: Q-IV-Jan-24 TO Mar-24 | H4: Q-IV-JAN -23 TO MAR-23 | K4: Nos of feeders having more than 5% where losses increased in current period | L4: Reason thereof and action being taken
D5: Total nos. of feeders | E5: Nos. of feeders having losses more than 5% | F5: Overall % losses | H5: Total nos. of feeders | I5: Nos. of feeders having losses more than 5% | J5: Overall % losses
B6: GIDC | C6: Baroda O&M | D6: 37 | E6: 0 | F6: 0.67348352 | H6: 37 | I6: 0 | J6: 1.17 | K6: 0 | L6: Various steps are being taken to reduce the losses of feeder having high losses
C7: Anand | D7: 19 | E7: 1+2* | F7: 0.36098299 | H7: 19 | I7: 0 | J7: 0.48 | K7: 0
C8: Nadiad | D8: 1 | E8: 0 | F8: 0.98713853 | H8: 1 | I8: 0 | J8: 1.13 | K8: 0
C9: Baroda City | D9: 17 | E9: 0+1* | F9: 1.6725347 | H9: 16 | I9: 0 | J9: 1.69 | K9: 0
C10: Godhra | D10: 22 | E10: 0+2* | F10: 2.396948 | H10: 17 | I10: 0 | J10: 1.27 | K10: 0
C11: Total | D11: 96 | E11: 1+5* | F11: 1.1822308 | H11: 90 | I11: 0 | J11: 1.18 | K11: 0
D12: * Newly created feeders
B13: Category | C13: Circle | D13: Q-IV-Jan-24 TO Mar-24 | H13: Q-IV-JAN -23 TO MAR-23 | K13: Nos of feeders having more than 25% where losses increased in current period | L13: Reason thereof and action being taken
D14: Total nos. of feeders | E14: Nos. of feeders having losses more than 25% | F14: Overall % losses | H14: Total nos. of feeders | I14: Nos. of feeders having losses more than 25% | J14: Overall % losses
B15: URBAN | C15: Baroda O&M | D15: 21 | E15: 0+1* | F15: 5.5675688 | H15: 20 | I15: 0 | J15: 3.1248892 | K15: 0 | L15: Various steps are being taken to reduce the losses of feeder having high losses
C16: Anand | D16: 48 | E16: 0 | F16: 5.5830751 | H16: 48 | I16: 0 | J16: 2.5 | K16: 0
C17: Nadiad | D17: 45 | E17: 0+1* | F17: 7.3598967 | H17: 42 | I17: 0 | J17: 5.28 | K17: 0
C18: Baroda City | D18: 286 | E18: 2+2* | F18: 4.656661 | H18: 277 | I18: 0 | J18: 4.64 | K18: 0
C19: Godhra | D19: 48 | E19: 8+1* | F19: 17.871481 | H19: 48 | I19: 5 | J19: 16.67 | K19: 4
C20: Total | D20: 448 | E20: 10+5* | F20: 6.7192626 | H20: 435 | I20: 5 | J20: 5.9278877 | K20: 4
D21: * Newly created feeders
B22: Category | C22: Circle | D22: Q-IV-Jan-24 TO Mar-24 | H22: Q-IV-JAN -23 TO MAR-23 | K22: Nos of feeders having more than 10% where losses increased in current period | L22: Reason thereof and action being taken
D23: Total nos. of feeders | E23: Nos. of feeders having losses more than 10% | F23: Overall % losses | H23: Total nos. of feeders | I23: Nos. of feeders having losses more than 10% | J23: Overall % losses
B24: IND | C24: Baroda O&M | D24: 63 | E24: 0+1* | F24: 1.8002895 | H24: 58 | I24: 1 | J24: 2.4161655 | K24: 0 | L24: Various steps are being taken to reduce the losses of feeder having high losses
C25: Anand | D25: 8 | E25: 0 | F25: -0.38341482 | H25: 6 | I25: 0 | J25: 1.2 | K25: 0
C26: Nadiad | D26: 14 | E26: 0 | F26: 7.3598967 | H26: 13 | I26: 0 | J26: 1.22 | K26: 0
C27: Baroda City | D27: 3 | E27: 0 | F27: 4.656661 | H27: 3 | I27: 0 | J27: 1.35 | K27: 0
C28: Godhra | D28: 46 | E28: 1 | F28: 17.871481 | H28: 45 | I28: 0 | J28: 1.99 | K28: 0
C29: Total | D29: 134 | E29: 1+1* | F29: 1.6474962 | H29: 125 | I29: 1 | J29: 2.1431714 | K29: 0
D30: * Newly created feeders

Sheet Meter tesing & defective Q-4
B1: MGVCL
B2: V - DISTRIBUTION - KEY DATA | I2: FY 2023-24 Q-IV (JAN-24 TO MAR-24)
B3: Meter testing and details of non-working defective meters
B4: (A) | C4: Meter testing | E4: Total capacity of laboratory | F4: Tested during the period | G4: Pending for testing at the end of the period
C5: Single Phase | D5: No. | F5: 77161 | G5: 240420
C6: Three Phase | D6: No. | F6: 21906 | G6: 46604
C7: Total | D7: No. | F7: 99067 | G7: 287024
B9: (B) | C9: Non-working/ Defective meters | E9: Defected - op.balance | F9: Added | G9: Total to be attended | H9: Replaced / repaired | I9: Pending at the end of the period
C10: Single Phase | D10: No. | E10: 10105 | F10: 23474 | G10: 33579 | H10: 23466 | I10: 10113
C11: Three Phase | D11: No. | E11: 3802 | F11: 4294 | G11: 8096 | H11: 4592 | I11: 3504
C12: Total | D12: No. | E12: 13907 | F12: 27768 | G12: 41675 | H12: 28058 | I12: 13617
B13: Since the nos. of pending untested meters are normally quite high, action being taken by DISCOMs to increase the nos. of test benches at various locations so that almost nil outstanding balance should accrue.

Sheet Sheet1
A1: SR | B1: CATEGORY | C1: BOARD CHARGE | D1: B. CHG(THEFT) | E1: MIN CHG DIS. | F1: ELE. DUTY | G1: TAX ON SALE | H1: RENT | I1: SUNDRY CHG. | J1: D. P. C. | K1: ASSESSMENT
A2: =========================================================================================================================================
A3: 1 | B3: Residential | C3: 3.1160693e+09 | D3: 17043897 | E3: 172650.77 | F3: 3.4360099e+08 | G3: 0 | H3: 73554896 | I3: 227109.15 | J3: 18633312 | K3: 3.5693021e+09
A4: 2 | B4: General Lighting Purpose | C4: 71089140 | D4: 101753.87 | E4: 17040 | F4: 7364652.5 | G4: 0 | H4: 748929.5 | I4: 23532.4 | J4: 453786.14 | K4: 79798834
A5: 3 | B5: Manufacturing & Service Industries | C5: 2.1273928e+09 | D5: 10987310 | E5: 55383.85 | F5: 3.3524209e+08 | G5: 0 | H5: 15904544 | I5: 285434.14 | J5: 5771228.1 | K5: 2.4956387e+09
B6: TEMP | C6: 78023457 | D6: 0 | E6: 0 | F6: 19271785 | G6: 0 | H6: 469841 | I6: 303675.78 | J6: 245968.69 | K6: 98314728
B7: TOTAL | C7: 2.2054162e+09 | D7: 10987310 | E7: 55383.85 | F7: 3.5451387e+08 | G7: 0 | H7: 16374385 | I7: 589109.92 | J7: 6017196.8 | K7: 2.5939535e+09
A8: 4 | B8: Water Works | C8: 2.2913085e+08 | D8: 7024.2 | E8: 360 | F8: 3568735.5 | G8: 0 | H8: 1043824 | I8: 84685 | J8: 38964480 | K8: 2.7279996e+08
A9: 5 | B9: Agricultural | C9: 2.248283e+08 | D9: 1100948.8 | E9: 69162.01 | F9: 32851.34 | G9: 0 | H9: 6727882.5 | I9: 96521.78 | J9: 1507359.2 | K9: 2.3436303e+08
A10: 6 | B10: Street Light | C10: 93088769 | D10: 0 | E10: 0 | F10: 833815.28 | G10: 0 | H10: 302109.5 | I10: 89765.18 | J10: 4559629.6 | K10: 98874088
A11: 7 | B11: PDC | C11: 2188369.9 | D11: 52177.62 | E11: 0 | F11: 239472.02 | G11: 0 | H11: 183965.5 | I11: 10954.81 | J11: 1881544.9 | K11: 4556484.7
A12: 8 | B12: UNCONNECTED | C12: 1346751 | D12: 29611.2 | E12: 0 | F12: 0 | G12: 0 | H12: 0 | I12: 0 | J12: 12750.19 | K12: 1389112.4
A13: 9 | B13: NON-CONS | C13: 0 | D13: 3642101.8 | E13: 0 | F13: 384932.08 | G13: 0 | H13: 0 | I13: 46327.9 | J13: 55.4 | K13: 4073417.1
A14: 10 | B14: TOT(NORMAL) | C14: 5.8615991e+09 | D14: 29240934 | E14: 314596.63 | F14: 6.9064313e+08 | G14: 0 | H14: 98282186 | I14: 807047.65 | J14: 69889795 | K14: 6.7507768e+09
A15: 11 | B15: TOT(PCD+UC) | C15: 3535120.9 | D15: 81788.82 | E15: 0 | F15: 239472.02 | G15: 0 | H15: 183965.5 | I15: 10954.81 | J15: 1894295.1 | K15: 5945597.1
A16: 12 | B16: TOT(TEMP+NON) | C16: 78023457 | D16: 3642101.8 | E16: 0 | F16: 19656717 | G16: 0 | H16: 469841 | I16: 350003.68 | J16: 246024.09 | K16: 1.0238815e+08
A17: 13 | B17: GRAND TOTAL | C17: 5.9431577e+09 | D17: 32964824 | E17: 314596.63 | F17: 7.1053932e+08 | G17: 0 | H17: 98935992 | I17: 1168006.1 | J17: 72030114 | K17: 6.8591105e+09
A18: =========================================================================================================================================
A19: BREAK-UP OF BOARD CHARGES FROM Apr-2014 TO Jun-2014
A20: =========================================================================================================================================
A21: SR | B21: CATEGORY | C21: CONSUMERS | D21: UNITS BILLED | E21: FIXED-CHRG | F21: ENEG-CHRG | G21: FUEL-COST | H21: ANNUAL-CHG | I21: PRO-BILL | J21: DEBIT-ADJ | K21: BOARD-CHG
A22: =========================================================================================================================================
A23: 1 | B23: Residential | C23: 1178560 | D23: 547896815 | E23: 1.0893635e+08 | F23: 2.2777783e+09 | G23: 6.988271e+08 | H23: 0 | I23: 23878038 | J23: 6649459.7 | K23: 3.1160693e+09
A24: 2 | B24: General Lighting Purpose | C24: 10324 | D24: 12238984 | E24: 3352066 | F24: 49361467 | G24: 14977588 | H24: 0 | I24: 3186689.2 | J24: 211329.99 | K24: 71089140
A25: 3 | B25: Manufacturing & Service Industries | C25: 141223 | D25: 308942121 | E25: 2.0981632e+08 | F25: 1.5067713e+09 | G25: 3.8397436e+08 | H25: 243868.04 | I25: 12422367 | J25: 14164516 | K25: 2.1273928e+09
B26: TEMP | C26: 4704 | D26: 8930434 | E26: 26180159 | F26: 41354592 | G26: 10417809 | H26: 0 | I26: 0 | J26: 70898.07 | K26: 78023457
B27: TOTAL | C27: 145927 | D27: 317872555 | E27: 2.3599648e+08 | F27: 1.5481259e+09 | G27: 3.9439217e+08 | H27: 243868.04 | I27: 12422367 | J27: 14235414 | K27: 2.2054162e+09
A28: 4 | B28: Water Works | C28: 8003 | D28: 48527153 | E28: 1355207.1 | F28: 1.6440131e+08 | G28: 58237666 | H28: 0 | I28: 2690678.8 | J28: 2445989 | K28: 2.2913085e+08
A29: 5 | B29: Agricultural | C29: 64962 | D29: 168792969 | E29: 32021769 | F29: 1.8627927e+08 | G29: 0 | H29: 0 | I29: 5083644.2 | J29: 1443616.6 | K29: 2.248283e+08
A30: 6 | B30: Street Light | C30: 4333 | D30: 15223858 | E30: 212629.18 | F30: 71319701 | G30: 20672610 | H30: 0 | I30: 303088.92 | J30: 580739.07 | K30: 93088769
A31: 7 | B31: PDC | C31: 75006 | D31: 254352 | E31: 0 | F31: 0 | G31: 0 | H31: 0 | I31: 0 | J31: 2188369.9 | K31: 2188369.9
A32: 8 | B32: UNCONNECTED | C32: 2231 | D32: 0 | E32: 1316135.1 | F32: 5130 | G32: 0 | H32: 0 | I32: 0 | J32: 25485.9 | K32: 1346751
A33: 9 | B33: NON-CONS | C33: 255 | D33: 740096 | E33: 0 | F33: 0 | G33: 0 | H33: 0 | I33: 0 | J33: 0 | K33: 0
A34: 10 | B34: TOT(NORMAL) | C34: 1407405 | D34: 1101621900 | E34: 3.5569434e+08 | F34: 4.2559114e+09 | G34: 1.1766893e+09 | H34: 243868.04 | I34: 47564507 | J34: 25495650 | K34: 5.8615991e+09
A35: 11 | B35: TOT(PDC+UN) | C35: 77237 | D35: 254352 | E35: 1316135.1 | F35: 5130 | G35: 0 | H35: 0 | I35: 0 | J35: 2213855.8 | K35: 3535120.9
A36: 12 | B36: TOT(TEMP+NON) | C36: 4959 | D36: 9670530 | E36: 26180159 | F36: 41354592 | G36: 10417809 | H36: 0 | I36: 0 | J36: 70898.07 | K36: 78023457
A37: 13 | B37: GRAND TOTAL | C37: 1489601 | D37: 1111546782 | E37: 3.8319064e+08 | F37: 4.2972711e+09 | G37: 1.1871071e+09 | H37: 243868.04 | I37: 47564507 | J37: 27780404 | K37: 5.9431577e+09
A38: =========================================================================================================================================
A41: LT C. G. L. FROM Apr-2014 TO Jun-2014
A42: LAST MONTH END DATE : 30-06-2014 | E42: PERIOD: Apr-2014 TO Jun-2014 | I42: PROCESSED ON: 18-Dec-2014
...
