Workbook
Name \1: #REF!
Name \1: #REF!
Name \2: [1]TLPPOCT!#REF!
Name \2: [1]TLPPOCT!#REF!
Name \a: #REF!
Name \a: #REF!
Name \b: #REF!
Name \b: #REF!
Name \p: #REF!
Name \p: #REF!
Name _____S8: #REF!
Name _____S8: #REF!
Name _____S88: #REF!
Name _____S88: #REF!
Name _____S888: #REF!
Name _____S888: #REF!
Name ____SPA007: [2]TLPPOCT!#REF!
Name ____SPA007: [2]TLPPOCT!#REF!
Name __1_1_1: #REF!
Name __1_1_1: #REF!
Name __2_1_1: #REF!
Name __2_1_1: #REF!
Name __S8: #REF!
Name __S8: #REF!
Name __S88: #REF!
Name __S88: #REF!
Name __S888: #REF!
Name __S888: #REF!
Name __SF01: [4]LMAIN!#REF!
Name __SF01: [4]LMAIN!#REF!
Name __SF010907: [4]LMAIN!#REF!
Name __SF010907: [4]LMAIN!#REF!
Name __SF02: [4]LMAIN!#REF!
Name __SF02: [4]LMAIN!#REF!
Name __SF020506: [4]LMAIN!#REF!
Name __SF020506: [4]LMAIN!#REF!
Name __SF0209: [4]LMAIN!#REF!
Name __SF0209: [4]LMAIN!#REF!
Name __SF020907: [4]LMAIN!#REF!
Name __SF020907: [4]LMAIN!#REF!
Name __SF020912: [4]LMAIN!#REF!
Name __SF020912: [4]LMAIN!#REF!
Name __SF03: [4]LMAIN!#REF!
Name __SF03: [4]LMAIN!#REF!
Name __SF030907: [4]LMAIN!#REF!
Name __SF030907: [4]LMAIN!#REF!
Name __SF044: [4]LMAIN!#REF!
Name __SF044: [4]LMAIN!#REF!
Name __SF07: [4]LMAIN!#REF!
Name __SF07: [4]LMAIN!#REF!
Name __SF070805: [4]LMAIN!#REF!
Name __SF070805: [4]LMAIN!#REF!
Name __SF070809: [4]LMAIN!#REF!
Name __SF070809: [4]LMAIN!#REF!
Name __SF0709: [4]LMAIN!#REF!
Name __SF0709: [4]LMAIN!#REF!
Name __SF070907: [4]LMAIN!#REF!
Name __SF070907: [4]LMAIN!#REF!
Name __SF080706: [4]LMAIN!#REF!
Name __SF080706: [4]LMAIN!#REF!

Sheet SHEET-1
I2: [ 1 ]
A5: MADHYA GUJARAT VIJ COMPANY LIMITED
A8: I - KEY PARAMETERS
A10: POWER SUPPLY POSITION
D12: Current Year | F12: Previous Year | H12: % Change
D13: Quarterly | E13: Cummulative | F13: Quarterly | G13: Cummulative | H13: Quarterly | I13: Cummulative
D14: Oct-2023 to December-2023 | F14: Oct-2022 to December-2022
A16: I | B16: POWER PURCHASE
A17: 1 | B17: Purchase From CPPS/Wind Farms/Solar | C17: MUS | D17: =+E17-7786 -> 3440 | E17: 11226 | F17: 3450 | G17: 11160 | H17: =(D17-F17)/F17 -> -0.0028985507 | I17: =(E17-G17)/G17 -> 0.0059139785
A18: 2 | B18: Purchase from GUVNL [Net of Trading Credit & UI] | C18: MUS
A19: 3 | B19: Purchase from Central Sector | C19: MUS
B20: [a] Share | C20: MUS
B21: [b] Actual Purchase | C21: MUS
B22: Total Purchase of Power | C22: MUS | D22: =+D17+D20+D21 -> 3440 | E22: =+E17+E20+E21 -> 11226 | F22: =+F17+F20+F21 -> 3450 | G22: =+G17+G20+G21 -> 11160 | H22: =(D22-F22)/F22 -> -0.0028985507 | I22: =(E22-G22)/G22 -> 0.0059139785
A24: II | B24: ENERGY BALANCE SHEET
A25: 1 | B25: Total Generation + Purchase of Power | C25: MUS | D25: =+D17 -> 3440 | E25: =+E22 -> 11226 | F25: =+F17 -> 3450 | G25: =+G22 -> 11160 | H25: =(D25-F25)/F25 -> -0.0028985507 | I25: =(E25-G25)/G25 -> 0.0059139785
A26: 2 | B26: Units Sent Out | C26: MUS | D26: =+D25 -> 3440 | E26: =+E25 -> 11226 | F26: =+F25 -> 3450 | G26: =+G25 -> 11160 | H26: =(D26-F26)/F26 -> -0.0028985507 | I26: =(E26-G26)/G26 -> 0.0059139785
A27: 3 | B27: Metered + Estimated Unmetered & Unbilled Sales | C27: MUS | D27: =+E27-6773 -> 3116 | E27: 9889 | F27: 3143 | G27: 9732 | H27: =(D27-F27)/F27 -> -0.0085905186 | I27: =(E27-G27)/G27 -> 0.016132347
A28: 4 | B28: T&D Losses [2-3] | C28: MUS | D28: =+D26-D27 -> 324 | E28: =+E26-E27 -> 1337 | F28: =+F26-F27 -> 307 | G28: =+G26-G27 -> 1428 | H28: =(D28-F28)/F28 -> 0.055374593 | I28: =(E28-G28)/G28 -> -0.06372549
A29: 5 | B29: T & D Loss [4] / [2] * 100 | C29: % | D29: =+(D28/D26) -> 0.094186047 | E29: =+(E28/E26) -> 0.11909852 | F29: =+(F28/F26) -> 0.088985507 | G29: =+(G28/G26) -> 0.12795699 | H29: =D29-F29 -> 0.0052005393 | I29: =E29-G29 -> -0.008858468
A31: III | B31: SALES, BILLING AND REALISATION
A32: 1 | B32: Billed [Metered + Unmetered] with E. D. | C32: Rs. In Crores | D32: =+'SHEET-5'!D25+300.79 -> 2674.84 | E32: =+'SHEET-5'!E25+902.99 -> 8438.07 | F32: 2649.53 | G32: 7602.05 | H32: =(D32-F32)/F32 -> 0.0095526376 | I32: =(E32-G32)/G32 -> 0.10997297
A33: 2 | B33: Billed - Theft Assessment
A34: 3 | B34: Total Billed [1 + 2] | C34: Rs. In Crores | D34: =+D32 -> 2674.84 | E34: =+E32 -> 8438.07 | F34: =+F32 -> 2649.53 | G34: =+G32 -> 7602.05 | H34: =(D34-F34)/F34 -> 0.0095526376 | I34: =(E34-G34)/G34 -> 0.10997297
A35: 4 | B35: Amount realised [Metered + Unmetered] with E. D. | C35: Rs. In Crores | D35: =+D34*99.53% -> 2662.2683 | E35: =+E34*97.6% -> 8235.5563 | F35: 2631.2482 | G35: 7414.2794 | H35: =(D35-F35)/F35 -> 0.011789085 | I35: =(E35-G35)/G35 -> 0.11076963
A36: 5 | B36: Amount realised against Theft of Energy
A37: 6 | B37: Total Amount realised [4 + 5] | C37: Rs. In Crores | D37: =+D35 -> 2662.2683 | E37: =+E35 -> 8235.5563 | F37: =+F35 -> 2631.2482 | G37: =+G35 -> 7414.2794 | H37: =(D37-F37)/F37 -> 0.011789085 | I37: =(E37-G37)/G37 -> 0.11076963
A38: 7 | B38: Amount realised as % of amount billed [6] / [3] | C38: % | D38: =+D37/D34 -> 0.9953 | E38: =+E37/E34 -> 0.976 | F38: =+F37/F34 -> 0.9931 | G38: =+G37/G34 -> 0.9753 | H38: =D38-F38 -> 0.0022 | I38: =E38-G38 -> 0.0007

Sheet SHEET-2
I2: [ 2 ]
A5: MADHYA GUJARAT VIJ COMPANY LIMITED
A8: II - KEY PARAMETERS
A10: COST OF SUPPLY - 2
D12: Current Year | F12: Previous Year | H12: % Change
D13: Quarterly | E13: Cummulative | F13: Quarterly | G13: Cummulative | H13: Quarterly | I13: Cummulative
D14: =+'SHEET-1'!D14:E14 -> Oct-2023 to December-2023 | F14: =+'SHEET-1'!F14:G14 -> Oct-2022 to December-2022
A15: I | B15: COST OF SUPPLY
A16: 1 | B16: Average Cost of Purchase of Power [Net] | C16: Rs. /KWH | D16: =ROUND(+('SHEET-3'!D15/'SHEET-1'!D22)*10,2) -> 5.65 | E16: =ROUND(+('SHEET-3'!E15/'SHEET-1'!E22)*10,2) -> 5.87 | F16: 6.6 | G16: 5.89 | H16: =(D16-F16)/F16 -> -0.14393939 | I16: =(E16-G16)/G16 -> -0.0033955857
A17: 2 | B17: Cost at Bus Bar | C17: Rs. /KWH
A18: 3 | B18: Costo of Supply at EHT [at 66 KV] | C18: Rs. /KWH
A19: 4 | B19: Cost of Supply at LT [at 11 KV] | C19: Rs. /KWH
A20: 5 | B20: Cost of Supply at HT [at 11 KV] | C20: Rs. /KWH
A21: 6 | B21: Average Cost of Supply per unit of sales | C21: Rs. /KWH | D21: =ROUND(+('SHEET-3'!D23/'SHEET-1'!D27)*10,2) -> 7.21 | E21: =ROUND(+('SHEET-3'!E23/'SHEET-1'!E27)*10,2) -> 7.6 | F21: 8.22 | G21: 7.64 | H21: =(D21-F21)/F21 -> -0.12287105 | I21: =(E21-G21)/G21 -> -0.0052356021
A23: II | B23: SALES REALISATION WITHOUT E. D.
A24: 1 | B24: H. T. | C24: Rs. /KWH | D24: =ROUND(+'SHEET-5'!D32/100,2) -> 9.61 | E24: =ROUND(+'SHEET-5'!E32/100,2) -> 8.57 | F24: 8.4 | G24: 8.03 | H24: =(D24-F24)/F24 -> 0.14404762 | I24: =(E24-G24)/G24 -> 0.067247821
A25: 2 | B25: L. T. | C25: Rs. /KWH | D25: =ROUND(+'SHEET-5'!D39/100,2) -> 6.12 | E25: =ROUND(+'SHEET-5'!E39/100,2) -> 6.85 | F25: 6.89 | G25: 6.18 | H25: =(D25-F25)/F25 -> -0.11175617 | I25: =(E25-G25)/G25 -> 0.10841424
A26: 3 | B26: Average Sales Realisation | C26: Rs. /KWH | D26: =ROUND(+'SHEET-5'!D40/100,2) -> 7.62 | E26: =ROUND(+'SHEET-5'!E40/100,2) -> 7.62 | F26: 7.58 | G26: 6.98 | H26: =(D26-F26)/F26 -> 0.0052770449 | I26: =(E26-G26)/G26 -> 0.091690544
B28: Special Observation on above points

Sheet SHEET-3
I2: [ 3 ]
A5: MADHYA GUJARAT VIJ COMPANY LIMITED
A8: I - KEY PARAMETERS
A10: FINANCIAL DATA - 3
D12: Current Year [Provisional] | F12: Previous Year | H12: % Change
D13: Quarterly | E13: Cummulative | F13: Quarterly | G13: Cummulative | H13: Quarterly | I13: Cummulative
D14: =+'SHEET-2'!D14:E14 -> Oct-2023 to December-2023 | F14: =+'SHEET-2'!F14:G14 -> Oct-2022 to December-2022
A15: 1 | B15: Cost of Power Purchase [Net] | C15: Rs. In Crore | D15: 1942.75 | E15: 6588.81 | F15: 2278.33 | G15: 6570.38 | H15: =(D15-F15)/F15 -> -0.1472921 | I15: =(E15-G15)/G15 -> 0.0028050128
A16: 2 | B16: Employees Cost | C16: Rs. In Crore | D16: 152.39 | E16: =+'SHEET-7'!C23 -> 457.84 | F16: 158.36 | G16: 450.16 | H16: =(D16-F16)/F16 -> -0.037698914 | I16: =(E16-G16)/G16 -> 0.017060601
A17: 3 | B17: Interest | C17: Rs. In Crore | D17: 21.58 | E17: =+'SHEET-7'!C29 -> 63.47 | F17: 12.15 | G17: 36.43 | H17: =(D17-F17)/F17 -> 0.77613169 | I17: =(E17-G17)/G17 -> 0.7422454
A18: 4 | B18: Repairs and Maintenance | C18: Rs. In Crore | D18: 18.49 | E18: =+'SHEET-7'!C24 -> 82.07 | F18: 20.42 | G18: 61.28 | H18: =(D18-F18)/F18 -> -0.094515181 | I18: =(E18-G18)/G18 -> 0.3392624
A19: 5 | B19: Depreciation | C19: Rs. In Crore | D19: 77.35 | E19: =+'SHEET-7'!C28 -> 224.62 | F19: 75.65 | G19: 210.41 | H19: =(D19-F19)/F19 -> 0.02247191 | I19: =(E19-G19)/G19 -> 0.067534813
A20: 6 | B20: Admin. And General Expenditure | C20: Rs. In Crore | D20: 27.44 | E20: =+'SHEET-7'!C25 -> 78.2 | F20: 24.25 | G20: 71.19 | H20: =(D20-F20)/F20 -> 0.13154639 | I20: =(E20-G20)/G20 -> 0.098468886
A21: 6a | B21: Expenses Capitalized | C21: Rs. In Crore | D21: 0 | E21: 0 | F21: 0 | G21: 0 | H21: =(D21-F21)/F21 -> #DIV/0! | I21: =(E21-G21)/G21 -> #DIV/0!
A22: 7 | B22: Other Debits & Prior Period Adjustment | C22: Rs. In Crore | D22: 6.8 | E22: =+'SHEET-7'!C26 -> 21.94 | F22: 13.16 | G22: 39.46 | H22: =(D22-F22)/F22 -> -0.48328267 | I22: =(E22-G22)/G22 -> -0.44399392
A23: 8 | B23: Total Cost Excluding Profit / Return | C23: Rs. In Crore | D23: =+SUM(D15:D22) -> 2246.8 | E23: =+SUM(E15:E22) -> 7516.95 | F23: =+SUM(F15:F22) -> 2582.32 | G23: =+SUM(G15:G22) -> 7439.31 | H23: =(D23-F23)/F23 -> -0.12992968 | I23: =(E23-G23)/G23 -> 0.010436452
B24: Income:
A25: 9 | B25: Other Income | C25: Rs. In Crore | D25: 79.67 | E25: =+'SHEET-7'!C14 -> 189.87 | F25: 71.96 | G25: 215.87 | H25: =(D25-F25)/F25 -> 0.10714286 | I25: =(E25-G25)/G25 -> -0.12044286
A26: 10 | B26: Sales Amount [Without E. D.] [Incl. T.C/FCA] | C26: Rs. In Crore | D26: 2374.1 | E26: =+'SHEET-7'!C11 -> 7535.08 | F26: =2235.51+145 -> 2380.51 | G26: 6909.79 | H26: =(D26-F26)/F26 -> -0.0026927003 | I26: =(E26-G26)/G26 -> 0.090493344
A27: 11 | B27: Agricultural Subsidy Received | C27: Rs. In Crore | D27: 17.68 | E27: =+'SHEET-7'!C13 -> 53.05 | F27: 17.2 | G27: 51.59 | H27: =(D27-F27)/F27 -> 0.027906977 | I27: =(E27-G27)/G27 -> 0.028300058
A28: 12 | B28: Misc. Revenue Related Recovery | C28: Rs. In Crore | D28: =+E28-53.68 -> 26.12 | E28: =+'SHEET-7'!C12 -> 79.8 | F28: 25.1 | G28: 53.99 | H28: =(D28-F28)/F28 -> 0.04063745 | I28: =(E28-G28)/G28 -> 0.47805149
A29: 13 | B29: Total Income(9+10+11+12) | C29: Rs. In Crore | D29: =+SUM(D25:D28) -> 2497.57 | E29: =+SUM(E25:E28) -> 7857.8 | F29: =+SUM(F25:F28) -> 2494.77 | G29: =+SUM(G25:G28) -> 7231.24 | H29: =(D29-F29)/F29 -> 0.001122348 | I29: =(E29-G29)/G29 -> 0.086646274
A30: 14 | B30: Cost of Power Purchase as % of Total Cost [1]/[8] | C30: % | D30: =D15/D23 -> 0.8646742 | E30: =E15/E23 -> 0.87652705 | F30: =F15/F23 -> 0.88228028 | G30: =G15/G23 -> 0.8831975 | H30: =D30-F30 -> -0.017606072 | I30: =E30-G30 -> -0.006670452
B31: PROFIT BEFORE TAX | D31: =+D29-D23 -> 250.77 | E31: =+E29-E23 -> 340.85 | F31: =+F29-F23 -> -87.55 | G31: =+G29-G23 -> -208.07
A32: 15 | B32: Capital Expenditure | C32: Rs. In Crore | D32: 127.91 | E32: 363.16 | F32: 64.44 | G32: 227.36 | H32: =(D32-F32)/F32 -> 0.98494724 | I32: =(E32-G32)/G32 -> 0.59729064
A33: 16 | B33: New Long Term Borrowings | C33: Rs. In Crore | D33: 0 | E33: =+D33 -> 0 | F33: 0 | G33: =+F33 -> 0 | H33: 0 | I33: 0
A34: 17 | B34: C.C.drawl at the end of the Quarter | C34: Rs. In Crore | D34: 0 | E34: 0 | F34: 0 | G34: =+F34 -> 0 | H34: 0 | I34: 0
D57: =3+0.58+0.94 -> 4.52 | E57: 30066981 | F57: 5786401.8 | G57: 9381444.4 | H57: 87524122
E58: =E57/10^7 -> 3.0066981 | F58: =F57/10^7 -> 0.57864017 | G58: =G57/10^7 -> 0.93814444 | H58: =H57/10^7 -> 8.7524122
D66: 0.64
D67: =SUM(D64:D66) -> 0.64

Sheet SHEET-4
I2: [ 4]
A5: MADHYA GUJARAT VIJ COMPANY LIMITED
A7: III - SALES AND REVENUE DATA
A9: NOS. OF CONSUMERS AND UNIT SOLD
D11: Current Year | F11: Previous Year | H11: % Change
D12: Quarterly | E12: Cummulative | F12: Quarterly | G12: Cummulative | H12: Quarterly | I12: Cummulative
A13: [A] | B13: NOS. OF CONSUMERS [WITHOUT PDC] | D13: =+'SHEET-3'!D14:E14 -> Oct-2023 to December-2023 | F13: =+'SHEET-3'!F14:G14 -> Oct-2022 to December-2022
A14: 1 | B14: H. T. | C14: Nos. | D14: 3022 | E14: 3022 | F14: 2802 | G14: 2802 | H14: =(D14-F14)/F14 -> 0.078515346 | I14: =(E14-G14)/G14 -> 0.078515346 | M14: 2760
A15: 2 | B15: Railways | C15: Nos. | D15: 0 | E15: 0 | F15: 0 | G15: =F15 -> 0 | H15: =(D15-F15)/F15 -> #DIV/0! | I15: =(E15-G15)/G15 -> #DIV/0!
A16: 3 | B16: Liecence | C16: Nos. | D16: 0 | E16: 0 | F16: 0 | G16: =F16 -> 0 | H16: 0 | I16: 0
A17: 4 | B17: Total H.T. + E.H.T. | C17: Nos. | D17: =SUM(D14:D16) -> 3022 | E17: =SUM(E14:E16) -> 3022 | F17: =SUM(F14:F16) -> 2802 | G17: =SUM(G14:G16) -> 2802 | H17: =(D17-F17)/F17 -> 0.078515346 | I17: =(E17-G17)/G17 -> 0.078515346
A18: 5 | B18: Residential | C18: Nos. | D18: 2901017 | E18: 2901017 | F18: 2834466 | G18: 2834466 | H18: =(D18-F18)/F18 -> 0.023479202 | I18: =(E18-G18)/G18 -> 0.023479202 | M18: 2834466
A19: 6 | B19: Commercial | C19: Nos. | D19: 416267 | E19: 416267 | F19: 400308 | G19: 400308 | H19: =(D19-F19)/F19 -> 0.039866803 | I19: =(E19-G19)/G19 -> 0.039866803 | M19: 34940
A20: 7 | B20: Industrial | C20: Nos. | M20: 365368
A21: 8 | B21: Others [Water Works / Public Lighting] | C21: Nos. | D21: 30975 | E21: 30975 | F21: 28481 | G21: 28481 | H21: =(D21-F21)/F21 -> 0.08756715 | I21: =(E21-G21)/G21 -> 0.08756715 | M21: 28481
A22: 9 | B22: Total L.T. Excluding Agricultural | C22: Nos. | D22: =+SUM(D18:D21) -> 3348259 | E22: =D22 -> 3348259 | F22: =+SUM(F18:F21) -> 3263255 | G22: =F22 -> 3263255 | H22: =(D22-F22)/F22 -> 0.026048838 | I22: =(E22-G22)/G22 -> 0.026048838 | M22: =SUM(M18:M21) -> 3263255
A23: 10 | B23: Agricultural | C23: Nos. | D23: 219423 | E23: 219423 | F23: 207452 | G23: 207452 | H23: =(D23-F23)/F23 -> 0.057704915 | I23: =(E23-G23)/G23 -> 0.057704915 | M23: 207442
A24: 11 | B24: Total L. T. Including Agricultural | C24: Nos. | D24: =+D22+D23 -> 3567682 | E24: =D24 -> 3567682 | F24: =+F22+F23 -> 3470707 | G24: =F24 -> 3470707 | H24: =(D24-F24)/F24 -> 0.027940993 | I24: =(E24-G24)/G24 -> 0.027940993 | M24: =SUM(M23) -> 207442
A25: 12 | B25: Total H.T. + E.H.T. + L. T. [WITHOUT P.D.C.] | C25: Nos. | D25: =+D17+D24 -> 3570704 | E25: =D25 -> 3570704 | F25: =+F17+F24 -> 3473509 | G25: =F25 -> 3473509 | H25: =(D25-F25)/F25 -> 0.02798179 | I25: =(E25-G25)/G25 -> 0.02798179 | M25: =+M22+M24+M14 -> 3473457
A27: [B] | B27: NOS. OF UNITS SOLD
A29: 1 | B29: H. T. | C29: M.KWH | D29: 1339.76 | E29: 4424.101 | F29: 1431.457 | G29: 4187.265 | H29: =(D29-F29)/F29 -> -0.064058508 | I29: =(E29-G29)/G29 -> 0.056561025 | M29: 2755.808
A30: 2 | B30: Railways | C30: M.KWH | D30: 0 | E30: =+D30 -> 0 | F30: 0 | G30: =+F30 -> 0 | H30: =(D30-F30)/F30 -> #DIV/0! | I30: =(E30-G30)/G30 -> #DIV/0! | M30: 0
A31: 3 | B31: Liecence | C31: M.KWH | D31: 0 | E31: 0 | F31: 0 | G31: 0 | H31: 0 | I31: 0 | M31: 0
A32: 4 | B32: Total H.T. + E.H.T. | C32: M.KWH | D32: =D29+D30 -> 1339.76 | E32: =E29+E30 -> 4424.101 | F32: =F29+F30 -> 1431.457 | G32: =G29+G30 -> 4187.265 | H32: =(D32-F32)/F32 -> -0.064058508 | I32: =(E32-G32)/G32 -> 0.056561025 | M32: 2755.808
A33: 5 | B33: Residential | C33: M.KWH | D33: 600.26 | E33: 2405.353 | F33: 607.102 | G33: 2403.11 | H33: =(D33-F33)/F33 -> -0.011269935 | I33: =(E33-G33)/G33 -> 0.00093337384 | M33: 1796.008
A34: 6 | B34: Commercial | C34: M.KWH | D34: 461.15 | E34: 1474.251 | F34: =+G34-952.796 -> 425.613 | G34: 1378.409 | H34: =(D34-F34)/F34 -> 0.08349604 | I34: =(E34-G34)/G34 -> 0.069530887 | M34: 1078.533
A35: 7 | B35: Industrial | C35: M.KWH
A36: 8 | B36: Others [Water Works / Public Lighting] | C36: M.KWH | D36: =120.95+31.21 -> 152.16 | E36: =341.03+96.828 -> 437.858 | F36: 110.517 | G36: 310.779 | H36: =(D36-F36)/F36 -> 0.37680176 | I36: =(E36-G36)/G36 -> 0.40890472 | M36: 200.262
A37: 9 | B37: Total L.T. Excluding Agricultural | C37: M.KWH | D37: =SUM(D33:D36) -> 1213.57 | E37: =SUM(E33:E36) -> 4317.462 | F37: 1183.45 | G37: 4258.253 | H37: =(D37-F37)/F37 -> 0.025451012 | I37: =(E37-G37)/G37 -> 0.013904528 | M37: 3074.803
A38: 10 | B38: Agricultural [Metered + Unmetered] | C38: M.KWH | D38: 562.41 | E38: 1147.025 | F38: 527.596 | G38: 1286.441 | H38: =(D38-F38)/F38 -> 0.065986095 | I38: =(E38-G38)/G38 -> -0.10837341 | M38: 758.845
A39: 11 | B39: Total L. T. Including Agricultural | C39: M.KWH | D39: =SUM(D37:D38) -> 1775.98 | E39: =SUM(E37:E38) -> 5464.487 | F39: =SUM(F37:F38) -> 1711.046 | G39: =SUM(G37:G38) -> 5544.694 | H39: =(D39-F39)/F39 -> 0.037949886 | I39: =(E39-G39)/G39 -> -0.014465541 | M39: 3833.648
A40: 12 | B40: Total H.T. + E.H.T. + L. T. | C40: M.KWH | D40: =D32+D39 -> 3115.74 | E40: =E32+E39 -> 9888.588 | F40: =F32+F39 -> 3142.503 | G40: =G32+G39 -> 9731.959 | H40: =(D40-F40)/F40 -> -0.0085164597 | I40: =(E40-G40)/G40 -> 0.016094293 | M40: 6589.456
D52: 1639.71 | E52: 5096.36
D57: 335.74 | E57: 335.74 | F57: =D40-D52 -> 1476.03
D58: 346.72 | E58: 346.72 | F58: =E40-E52 -> 4792.228
D59: =SUM(D57:D58) -> 682.46 | E59: =SUM(E57:E58) -> 682.46
D64: Q1 2014 | E64: Q1 2013
C65: Metered | D65: 153.2 | E65: 171.66 | F65: =(D65-E65)/E65 -> -0.10753816
C66: Unmetered | D66: 136.37 | E66: 136.62 | F66: =(D66-E66)/E66 -> -0.0018298931
D67: =SUM(D65:D66) -> 289.57 | E67: =SUM(E65:E66) -> 308.28 | F67: =(D67-E67)/E67 -> -0.060691579

Sheet SHEET-5
I2: [ 5 ]
A5: MADHYA GUJARAT VIJ COMPANY LIMITED
A7: III - SALES AND REVENUE DATA
A9: SALES REVENUE AMOUNT AND PAISE / UNIT
D11: Current Year | F11: Previous Years | H11: % Change
D12: Quarterly | E12: Cummulative | F12: Quarterly | G12: Cummulative | H12: Quarterly | I12: Cummulative
A13: [C] | B13: SALES REVENUE BILLED : | D13: =+'SHEET-4'!D13:E13 -> Oct-2023 to December-2023 | F13: =+'SHEET-4'!F13:G13 -> Oct-2022 to December-2022 | K13: YTD Q2
A14: 1 | B14: H. T. | C14: Rs. In Crore | D14: 1287.63 | E14: 3791.4 | F14: 1202.25 | G14: 3360.88 | H14: =(D14-F14)/F14 -> 0.071016843 | I14: =(E14-G14)/G14 -> 0.1280974 | K14: 2158.63
A15: 2 | B15: Railway | C15: Rs. In Crore | D15: 0 | E15: 0 | F15: 0 | G15: 0 | H15: =(D15-F15)/F15 -> #DIV/0! | I15: =(E15-G15)/G15 -> #DIV/0! | K15: 0
A16: 3 | B16: Liecence | C16: Rs. In Crore | D16: 0 | E16: 0 | F16: 0 | G16: 0 | H16: 0 | I16: 0 | K16: 0
A17: 4 | B17: Total H.T. + E.H.T. | C17: Rs. In Crore | D17: =SUM(D14:D16) -> 1287.63 | E17: =SUM(E14:E16) -> 3791.4 | F17: =SUM(F14:F16) -> 1202.25 | G17: =SUM(G14:G16) -> 3360.88 | H17: =(D17-F17)/F17 -> 0.071016843 | I17: =(E17-G17)/G17 -> 0.1280974 | K17: 2158.63
A18: 5 | B18: Residential | C18: Rs. In Crore | D18: 419.58 | E18: 1678.32 | F18: 475.24 | G18: 1497.14 | H18: =(D18-F18)/F18 -> -0.11711977 | I18: =(E18-G18)/G18 -> 0.12101741 | K18: 1021.9
A19: 6 | B19: Commercial | C19: Rs. In Crore | D19: 410 | E19: 1309.55 | F19: 358.9 | G19: 1225.25 | H19: =(D19-F19)/F19 -> 0.14237949 | I19: =(E19-G19)/G19 -> 0.068802285 | K19: 866.35
A20: 7 | B20: Industrial | C20: Rs. In Crore
A21: 8 | B21: Others [Water Works / Public Lighting] | C21: Rs. In Crore | D21: =71.7+23.38 -> 95.08 | E21: =71.71+250.4 -> 322.11 | F21: 85.67 | G21: 227.59 | H21: =(D21-F21)/F21 -> 0.10984008 | I21: =(E21-G21)/G21 -> 0.41530823 | K21: 141.92
A22: 9 | B22: Total L.T. Excluding Agricultural | C22: Rs. In Crore | D22: =SUM(D18:D21) -> 924.66 | E22: =SUM(E18:E21) -> 3309.98 | F22: =SUM(F18:F21) -> 919.81 | G22: =SUM(G18:G21) -> 2949.98 | H22: =(D22-F22)/F22 -> 0.0052728281 | I22: =(E22-G22)/G22 -> 0.12203473 | K22: 2030.17
A23: 10 | B23: Agricultural [Including Tariff Comp.]/[FPPPA] | C23: Rs. In Crore | D23: =123.61+38.15 -> 161.76 | E23: =113.33+320.38 -> 433.71 | F23: 258.44 | G23: 479.4 | H23: =(D23-F23)/F23 -> -0.3740907 | I23: =(E23-G23)/G23 -> -0.095306633 | K23: 220.96
A24: 11 | B24: Total L. T. Including Agricultural | C24: Rs. In Crore | D24: =SUM(D22:D23) -> 1086.42 | E24: =SUM(E22:E23) -> 3743.69 | F24: =SUM(F22:F23) -> 1178.25 | G24: =SUM(G22:G23) -> 3429.38 | H24: =(D24-F24)/F24 -> -0.077937619 | I24: =(E24-G24)/G24 -> 0.091652135 | K24: 2251.13
A25: 12 | B25: Total H.T. + E.H.T. + L. T. | C25: Rs. In Crore | D25: =D17+D24 -> 2374.05 | E25: =E17+E24-0.01 -> 7535.08 | F25: =F17+F24 -> 2380.5 | G25: =G17+G24 -> 6790.26 | H25: =(D25-F25)/F25 -> -0.0027095148 | I25: =(E25-G25)/G25 -> 0.10968947
A27: [D] | B27: SALES REALISATION
A29: 1 | B29: H. T. | C29: Paise / kwh | D29: =D14/'SHEET-4'!D29*1000 -> 961.09005 | E29: =E14/'SHEET-4'!E29*1000 -> 856.98767 | F29: =F14/'SHEET-4'!F29*1000 -> 839.87853 | G29: =G14/'SHEET-4'!G29*1000 -> 802.64325 | H29: =(D29-F29)/F29 -> 0.14432029 | I29: =(E29-G29)/G29 -> 0.067706811 | N29: =(D14/'SHEET-4'!D29)*1000 -> 961.09005 | O29: =(E14/'SHEET-4'!E29)*1000 -> 856.98767 | P29: =(F14/'SHEET-4'!F29)*1000 -> 839.87853 | Q29: =(G14/'SHEET-4'!G29)*1000 -> 802.64325
A30: 2 | B30: Railway | C30: Paise / kwh | D30: 0 | E30: 0 | F30: 0 | G30: 0 | H30: =(D30-F30)/F30 -> #DIV/0! | I30: =(E30-G30)/G30 -> #DIV/0! | N30: =(D15/'SHEET-4'!D30)*1000 -> #DIV/0! | O30: =(E15/'SHEET-4'!E30)*1000 -> #DIV/0! | P30: =(F15/'SHEET-4'!F30)*1000 -> #DIV/0!
A31: 3 | B31: Liecence | C31: Paise / kwh | D31: 0 | E31: 0 | F31: 0 | G31: 0 | H31: 0 | I31: 0 | N31: =(D16/'SHEET-4'!D31)*1000 -> #DIV/0! | O31: =(E16/'SHEET-4'!E31)*1000 -> #DIV/0! | P31: =(F16/'SHEET-4'!F31)*1000 -> #DIV/0!
A32: 4 | B32: Total H.T. + E.H.T. | C32: Paise / kwh | D32: =D17/'SHEET-4'!D32*1000 -> 961.09005 | E32: =E17/'SHEET-4'!E32*1000 -> 856.98767 | F32: =F17/'SHEET-4'!F32*1000 -> 839.87853 | G32: =G17/'SHEET-4'!G32*1000 -> 802.64325 | H32: =(D32-F32)/F32 -> 0.14432029 | I32: =(E32-G32)/G32 -> 0.067706811 | N32: =(D17/'SHEET-4'!D32)*1000 -> 961.09005 | O32: =(E17/'SHEET-4'!E32)*1000 -> 856.98767 | P32: =(F17/'SHEET-4'!F32)*1000 -> 839.87853
A33: 5 | B33: Residential | C33: Paise / kwh | D33: =D18/'SHEET-4'!D33*1000*0.8 -> 559.19768 | E33: =E18/'SHEET-4'!E33*1000*0.8 -> 558.19499 | F33: =F18/'SHEET-4'!F33*1000*0.8 -> 626.24073 | G33: =G18/'SHEET-4'!G33*1000*0.8 -> 498.40082 | H33: =(D33-F33)/F33 -> -0.10705635 | I33: =(E33-G33)/G33 -> 0.11997205 | N33: =(D18/'SHEET-4'!D33)*1000 -> 698.9971 | O33: =(E18/'SHEET-4'!E33)*1000 -> 697.74374 | P33: =(F18/'SHEET-4'!F33)*1000 -> 782.80091
A34: 6 | B34: Commercial | C34: Paise / kwh | D34: =D19/'SHEET-4'!D34*1000 -> 889.08164 | E34: =E19/'SHEET-4'!E34*1000 -> 888.28157 | F34: 770.45 | G34: 793.37 | H34: =(D34-F34)/F34 -> 0.15397708 | I34: =(E34-G34)/G34 -> 0.11963091 | N34: =(D19/'SHEET-4'!D34)*1000 -> 889.08164 | O34: =(E19/'SHEET-4'!E34)*1000 -> 888.28157 | P34: =(F19/'SHEET-4'!F34)*1000 -> 843.25432
A35: 7 | B35: Industrial | C35: Paise / kwh | N35: =(D20/'SHEET-4'!D35)*1000 -> #DIV/0! | O35: =(E20/'SHEET-4'!E35)*1000 -> #DIV/0! | P35: =(F20/'SHEET-4'!F35)*1000 -> #DIV/0!
A36: 8 | B36: Others [Water Works / Public Lighting] | C36: Paise / kwh | D36: =D21/'SHEET-4'!D36*1000 -> 624.86856 | E36: =E21/'SHEET-4'!E36*1000 -> 735.64946 | F36: =F21/'SHEET-4'!F36*1000 -> 775.17486 | G36: =G21/'SHEET-4'!G36*1000 -> 732.32104 | H36: =(D36-F36)/F36 -> -0.19389986 | I36: =(E36-G36)/G36 -> 0.0045450267 | N36: =(D21/'SHEET-4'!D36)*1000 -> 624.86856 | O36: =(E21/'SHEET-4'!E36)*1000 -> 735.64946 | P36: =(F21/'SHEET-4'!F36)*1000 -> 775.17486
A37: 9 | B37: Total L.T. Excluding Agricultural | C37: Paise / kwh | D37: =D22/'SHEET-4'!D37*1000 -> 761.9338 | E37: =E22/'SHEET-4'!E37*1000 -> 766.64948 | F37: 777.23 | G37: 692.77 | H37: =(D37-F37)/F37 -> -0.019680405 | I37: =(E37-G37)/G37 -> 0.10664359 | N37: =(D22/'SHEET-4'!D37)*1000 -> 761.9338 | O37: =(E22/'SHEET-4'!E37)*1000 -> 766.64948 | P37: =(F22/'SHEET-4'!F37)*1000 -> 777.2276
A38: 10 | B38: Agricultural | C38: Paise / kwh | D38: =D23/'SHEET-4'!D38*1000 -> 287.61935 | E38: =E23/'SHEET-4'!E38*1000 -> 378.1173 | F38: =F23/'SHEET-4'!F38*1000 -> 489.8445 | G38: =G23/'SHEET-4'!G38*1000 -> 372.65603 | H38: =(D38-F38)/F38 -> -0.4128354 | I38: =(E38-G38)/G38 -> 0.01465499 | N38: =(D23/'SHEET-4'!D38)*1000 -> 287.61935 | O38: =(E23/'SHEET-4'!E38)*1000 -> 378.1173 | P38: =(F23/'SHEET-4'!F38)*1000 -> 489.8445
A39: 11 | B39: Total L. T. Including Agricultural | C39: Paise / kwh | D39: =D24/'SHEET-4'!D39*1000 -> 611.72986 | E39: =E24/'SHEET-4'!E39*1000 -> 685.0945 | F39: 688.61 | G39: 618.5 | H39: =(D39-F39)/F39 -> -0.1116454 | I39: =(E39-G39)/G39 -> 0.10767098 | N39: =(D24/'SHEET-4'!D39)*1000 -> 611.72986 | O39: =(E24/'SHEET-4'!E39)*1000 -> 685.0945 | P39: =(F24/'SHEET-4'!F39)*1000 -> 688.61387
A40: 12 | B40: Total H.T. + E.H.T. + L. T. | C40: Paise / kwh | D40: =D25/'SHEET-4'!D40*1000 -> 761.95382 | E40: =E25/'SHEET-4'!E40*1000 -> 761.99757 | F40: 757.52 | G40: 697.73 | H40: =(D40-F40)/F40 -> 0.0058530753 | I40: =(E40-G40)/G40 -> 0.092109508 | N40: =(D25/'SHEET-4'!D40)*1000 -> 761.95382 | O40: =(E25/'SHEET-4'!E40)*1000 -> 761.99757 | P40: =(F25/'SHEET-4'!F40)*1000 -> 757.51718

Sheet SHEET-6
I2: [ 6 ]
A5: MADHYA GUJARAT VIJ COMPANY LIMITED
A7: III - SALES AND REVENUE DATA
A9: SALES REVENUE FIXED AND ENERGY CHARGE PAISE / UNIT AND UNITS SOLD PER CONSUMER
D11: Current Year | F11: Previous Year | H11: % Change
D12: Quarterly | E12: Cummulative | F12: Quarterly | G12: Cummulative | H12: Quarterly | I12: Cummulative
A13: [A] | B13: SALES REALISATION - FIXED CHARGES | D13: =+'SHEET-5'!D13:E13 -> Oct-2023 to December-2023 | F13: =+'SHEET-5'!F13:G13 -> Oct-2022 to December-2022
A14: 1 | B14: H. T. | C14: Paise / KWH | D14: 94.237212 | E14: 92.725069 | F14: 92.945335 | G14: 92.848882 | H14: =(D14-F14)/F14 -> 0.013899313 | I14: =(E14-G14)/G14 -> -0.0013334865
A15: 2 | B15: Railway | C15: Paise / KWH | D15: 0 | E15: 0 | F15: 0 | G15: 0 | H15: =(D15-F15)/F15 -> #DIV/0! | I15: =(E15-G15)/G15 -> #DIV/0!
A16: 3 | B16: Liecence | C16: Paise / KWH | D16: 0 | E16: 0 | F16: 0 | G16: 0 | H16: 0 | I16: 0
A17: 4 | B17: Total H.T. + E.H.T. | C17: Paise / KWH | D17: =SUM(D14:D16) -> 94.237212 | E17: =SUM(E14:E16) -> 92.725069 | F17: =SUM(F14:F16) -> 92.945335 | G17: =SUM(G14:G16) -> 92.848882 | H17: =(D17-F17)/F17 -> 0.013899313 | I17: =(E17-G17)/G17 -> -0.0013334865
A18: 5 | B18: Residential | C18: Paise / KWH | D18: 18.780035 | E18: 17.838907 | F18: 18.983145 | G18: 17.424439 | H18: =(D18-F18)/F18 -> -0.01069949 | I18: =(E18-G18)/G18 -> 0.023786625
A19: 6 | B19: Commercial | C19: Paise / KWH | D19: 82.669221 | E19: 79.824999 | F19: 81.335565 | G19: 78.581655 | H19: =(D19-F19)/F19 -> 0.01639696 | I19: =(E19-G19)/G19 -> 0.01582232
A20: 7 | B20: Industrial | C20: Paise / KWH
A21: 8 | B21: Other [Specify] | C21: Paise / KWH | D21: 3.4583454 | E21: 3.4755451 | F21: 3.4883153 | G21: 3.4730346 | H21: =(D21-F21)/F21 -> -0.0085914952 | I21: =(E21-G21)/G21 -> 0.00072285539
A22: 9 | B22: Total L.T. Excluding Agricultural | C22: Paise / KWH | D22: 41.557353 | E22: 39.749173 | F22: 41.200123 | G22: 38.578213 | H22: =(D22-F22)/F22 -> 0.0086705927 | I22: =(E22-G22)/G22 -> 0.030352881
A23: 10 | B23: Agricultural | C23: Paise / KWH | D23: 16.938811 | E23: 16.546284 | F23: 35.45946 | G23: 35.400265 | H23: =(D23-F23)/F23 -> -0.52230487 | I23: =(E23-G23)/G23 -> -0.53259435
A24: 11 | B24: Total L. T. Including Agricultural | C24: Paise / KWH | D24: 38.076112 | E24: 36.594034 | F24: 40.435761 | G24: 38.147625 | H24: =(D24-F24)/F24 -> -0.058355504 | I24: =(E24-G24)/G24 -> -0.040725761
A25: 12 | B25: Total H.T. + E.H.T. + L. T. | C25: Paise / KWH | D25: 67.196786 | E25: 65.337674 | F25: 67.760933 | G25: 65.860464 | H25: =(D25-F25)/F25 -> -0.0083255498 | I25: =(E25-G25)/G25 -> -0.0079378405
A27: [B] | B27: SALES REALISATION - ENERGY CHARGES
A29: 1 | B29: H. T. | C29: Paise / KWH | D29: 418.88435 | E29: 418.95364 | F29: 418.34047 | G29: 418.01312 | H29: =(D29-F29)/F29 -> 0.0013000895 | I29: =(E29-G29)/G29 -> 0.0022499808
A30: 2 | B30: Railway | C30: Paise / KWH | D30: 0 | E30: 0 | F30: 0 | G30: 0 | H30: =(D30-F30)/F30 -> #DIV/0! | I30: =(E30-G30)/G30 -> #DIV/0!
A31: 3 | B31: Liecence | C31: Paise / KWH | D31: 0 | E31: 0 | F31: 0 | G31: 0 | H31: 0 | I31: 0
A32: 4 | B32: Total H.T. + E.H.T. | C32: Paise / KWH | D32: =SUM(D29:D31) -> 418.88435 | E32: =SUM(E29:E31) -> 418.95364 | F32: =F29 -> 418.34047 | G32: =G29 -> 418.01312 | H32: =(D32-F32)/F32 -> 0.0013000895 | I32: =(E32-G32)/G32 -> 0.0022499808
A33: 5 | B33: Residential | C33: Paise / KWH | D33: 361.37187 | E33: 363.27488 | F33: 355.8102 | G33: 361.90938 | H33: =(D33-F33)/F33 -> 0.015630979 | I33: =(E33-G33)/G33 -> 0.0037730583
A34: 6 | B34: Commercial | C34: Paise / KWH | D34: 461.53671 | E34: 459.69796 | F34: 462.67466 | G34: 462.98253 | H34: =(D34-F34)/F34 -> -0.0024594978 | I34: =(E34-G34)/G34 -> -0.0070943702
A35: 7 | B35: Industrial | C35: Paise / KWH | E35: #DIV/0! | G35: #DIV/0!
A36: 8 | B36: Other [Specify] | C36: Paise / KWH | D36: 346.04476 | E36: 336.66451 | F36: 334.1834 | G36: 336.75627 | H36: =(D36-F36)/F36 -> 0.035493563 | I36: =(E36-G36)/G36 -> -0.0002724783
A37: 9 | B37: Total L.T. Excluding Agricultural | C37: Paise / KWH | D37: 398.81056 | E37: 397.12794 | F37: 394.16306 | G37: 396.75889 | H37: =(D37-F37)/F37 -> 0.011790814 | I37: =(E37-G37)/G37 -> 0.00093015327
A38: 10 | B38: Agricultural (Incl. Tariff Comp.) | C38: Paise / KWH | D38: 81.542492 | E38: 84.036196 | F38: 92.701908 | G38: 86.060599 | H38: =(D38-F38)/F38 -> -0.12037956 | I38: =(E38-G38)/G38 -> -0.023522985
A39: 11 | B39: Total L. T. Including Agricultural | C39: Paise / KWH | D39: 340.9127 | E39: 354.55358 | F39: 354.02387 | G39: 354.66159 | H39: =(D39-F39)/F39 -> -0.037034708 | I39: =(E39-G39)/G39 -> -0.00030453301
B40: Total H.T. + E.H.T. + L. T. | C40: Paise / KWH | D40: 380.85232 | E40: 387.53163 | F40: 387.49323 | G40: 386.75684 | H40: =(D40-F40)/F40 -> -0.017138142 | I40: =(E40-G40)/G40 -> 0.0020032988
A42: [C] | B42: UNIT SOLD PER CONSUMER
A44: 1 | B44: H. T. | C44: KWH | D44: ='SHEET-4'!D29/'SHEET-4'!D14*10^6 -> 443335.54 | E44: ='SHEET-4'!E29/'SHEET-4'!E14*10^6 -> 1463964.6 | F44: ='[36]SHEET-4'!F29/'[36]SHEET-4'!F14*10^6 -> 513635.81 | G44: ='[36]SHEET-4'!G29/'[36]SHEET-4'!G14*10^6 -> 1454235.4 | H44: =(D44-F44)/F44 -> -0.13686793 | I44: =(E44-G44)/G44 -> 0.0066902265
A45: 2 | B45: Railway | C45: KWH | D45: 0 | E45: 0 | F45: 0 | G45: 0 | H45: =(D45-F45)/F45 -> #DIV/0! | I45: =(E45-G45)/G45 -> #DIV/0!
A46: 3 | B46: Liecence | C46: KWH | D46: 0 | E46: =D46 -> 0 | F46: 0 | G46: =F46 -> 0 | H46: 0 | I46: 0
A47: 4 | B47: Total H.T. + E.H.T. | C47: KWH | D47: ='SHEET-4'!D32/'SHEET-4'!D17*10^6 -> 443335.54 | E47: ='SHEET-4'!E32/'SHEET-4'!E17*10^6 -> 1463964.6 | F47: ='[36]SHEET-4'!F32/'[36]SHEET-4'!F17*10^6 -> 513635.81 | G47: ='[36]SHEET-4'!G32/'[36]SHEET-4'!G17*10^6 -> 1454235.4 | H47: =(D47-F47)/F47 -> -0.13686793 | I47: =(E47-G47)/G47 -> 0.0066902265
A48: 5 | B48: Residential | C48: KWH | D48: ='SHEET-4'!D33/'SHEET-4'!D18*10^6 -> 206.91364 | E48: ='SHEET-4'!E33/'SHEET-4'!E18*10^6 -> 829.1413 | F48: ='[36]SHEET-4'!F33/'[36]SHEET-4'!F18*10^6 -> 192.573 | G48: ='[36]SHEET-4'!G33/'[36]SHEET-4'!G18*10^6 -> 809.29542 | H48: =(D48-F48)/F48 -> 0.074468625 | I48: =(E48-G48)/G48 -> 0.024522413
A49: 6 | B49: Commercial | C49: KWH | D49: ='SHEET-4'!D34/'SHEET-4'!D19*10^6 -> 1107.8226 | E49: ='SHEET-4'!E34/'SHEET-4'!E19*10^6 -> 3541.5995 | F49: ='[36]SHEET-4'!F34/'[36]SHEET-4'!F19*10^6 -> 1095.7433 | G49: ='[36]SHEET-4'!G34/'[36]SHEET-4'!G19*10^6 -> 3548.7225 | H49: =(D49-F49)/F49 -> 0.011023852 | I49: =(E49-G49)/G49 -> -0.002007209
A50: 7 | B50: Industrial | C50: KWH
...

Sheet SHEET-7
E1: [7]
A4: MADHYA GUJARAT VIJ COMPANY LIMITED
A6: IV - FINANCIAL DATA
C8: Current Year [Provisional] | D8: Previous Year | E8: % Change
C9: April 23 to December-23 | D9: April 22 to December-22
A10: [A] | B10: REVENUE | C10: Rs. In Crores | D10: Rs. In Crores
A11: 1 | B11: Sale of Electricity | C11: =7161.5+373.58 -> 7535.08 | D11: 6909.79 | E11: =(C11-D11)/D11 -> 0.090493344
A12: 2 | B12: Misc. Revenue Recovery | C12: 79.8 | D12: 53.99 | E12: =(C12-D12)/D12 -> 0.47805149
A13: 3 | B13: Government Subsidy FOR AG. | C13: 53.05 | D13: 51.59 | E13: =(C13-D13)/D13 -> 0.028300058
A14: 4 | B14: Other Income | C14: 189.87 | D14: 215.87 | E14: =(C14-D14)/D14 -> -0.12044286
A15: 5 | B15: Total Income | C15: =SUM(C11:C14) -> 7857.8 | D15: =SUM(D11:D14) -> 7231.24 | E15: =(C15-D15)/D15 -> 0.086646274
A17: [B] | B17: EXPENSES
B18: Operating Expenses
A19: 1 | B19: Power Purchase Costs net of trading Credit | C19: =6570.49+36.63+1.47-19.78 -> 6588.81 | D19: 6570.39 | E19: =(C19-D19)/D19 -> 0.0028034866
A20: 2 | B20: Fixed
A21: 3 | B21: Variable
A22: 4 | B22: Fuel Expense | E22: 0
A23: 5 | B23: Employee Cost | C23: 457.84 | D23: 450.16 | E23: =(C23-D23)/D23 -> 0.017060601
A24: 6 | B24: Repairs and Maintenance | C24: 82.07 | D24: 61.28 | E24: =(C24-D24)/D24 -> 0.3392624
A25: 7 | B25: Administrative and General Expenses | C25: 78.2 | D25: 71.19 | E25: =(C25-D25)/D25 -> 0.098468886
A26: 8 | B26: Other Operating Costs | C26: =14.92+6.79+0.23 -> 21.94 | D26: 39.46 | E26: =(C26-D26)/D26 -> -0.44399392
A28: 9 | B28: Depreciation | C28: 224.62 | D28: 210.41 | E28: =(C28-D28)/D28 -> 0.067534813
A29: 10 | B29: Interest | C29: 63.47 | D29: 36.43 | E29: =(C29-D29)/D29 -> 0.7422454
A30: 11 | B30: Other Expenses [Prior Period] | C30: 0 | D30: 0 | E30: =(C30-D30)/D30 -> #DIV/0!
A31: 12 | B31: Misc. If any | C31: =+'SHEET-3'!E22*0 -> 0 | D31: 0 | E31: 0
A32: 13 | B32: Less : Expenses Capitalized | C32: 0 | D32: 0
A33: 14 | B33: Total Expenses 1 to 13] | C33: =SUM(C19:C32) -> 7516.95 | D33: =SUM(D19:D32) -> 7439.32 | E33: =(C33-D33)/D33 -> 0.010435094
A35: [C] | B35: Surplus [deficit] excluding rate of return | C35: =C15-C33 -> 340.85 | D35: =D15-D33 -> -208.08 | E35: =(C35-D35)/D35 -> -2.6380719
A37: NOTE : Power Purchase Cost is based on provisional bills received from GUVNL.

Sheet Meter tesing & defective 
B1: MGVCL
B2: V - DISTRIBUTION - KEY DATA | I2: FY 2023-24 Q-III (OCT-23 TO DEC-23)
B3: Meter testing and details of non-working defective meters
B4: (A) | C4: Meter testing | E4: Total capacity of laboratory | F4: Tested during the period | G4: Pending for testing at the end of the period
C5: Single Phase | D5: No. | F5: 67144 | G5: 223913
C6: Three Phase | D6: No. | F6: 18531 | G6: 41977
C7: Total | D7: No. | F7: 85675 | G7: 265890
B9: (B) | C9: Non-working/ Defective meters | E9: Defected - op.balance | F9: Added | G9: Total to be attended | H9: Replaced / repaired | I9: Pending at the end of the period
C10: Single Phase | D10: No. | E10: 10706 | F10: 33889 | G10: 44595 | H10: 34490 | I10: 10105
C11: Three Phase | D11: No. | E11: 1981 | F11: 8217 | G11: 10198 | H11: 6396 | I11: 3802
C12: Total | D12: No. | E12: 12687 | F12: 42106 | G12: 54793 | H12: 40886 | I12: 13907
B13: Since the nos. of pending untested meters are normally quite high, action being taken by DISCOMs to increase the nos. of test benches at various locations so that almost nil outstanding balance should accrue.

Sheet T&D
B1: MGVCL - V - DISTRIBUTION - KEY DATA
B3: Dist losses in Urban>25%, Industrial>10% and GIDC>5% feeders
B4: Category | C4: Circle | D4: Q-III-Oct-23 TO DEC-23 | H4: Q-III-Oct-22 TO DEC-22 | K4: Nos of feeders having more than 5% where losses increased in current period | L4: Reason thereof and action being taken
D5: Total nos. of feeders | E5: Nos. of feeders having losses more than 5% | F5: Overall % losses | H5: Total nos. of feeders | I5: Nos. of feeders having losses more than 5% | J5: Overall % losses
B6: GIDC | C6: Baroda O&M | D6: 35 | E6: 0 | F6: 0.38811589 | H6: 37 | I6: 0 | J6: 1.217522 | K6: 0 | L6: Various steps are being taken to reduce the losses of feeder having high losses
C7: Anand | D7: 19 | E7: 1 + 2* | F7: 0.43749694 | H7: 17 | I7: 0 | J7: 0.61540533 | K7: 0
C8: Nadiad | D8: 1 | E8: 0 | F8: 0.40146867 | H8: 1 | I8: 0 | J8: 0.68750761 | K8: 0
C9: Baroda City | D9: 17 | E9: 1* | F9: 2.6211964 | H9: 16 | I9: 0 | J9: 1.3336534 | K9: 0
C10: Godhra | D10: 22 | E10: 2+1* | F10: 2.8772076 | H10: 17 | I10: 1 | J10: 2.3709344 | K10: 1
C11: Total | D11: =SUM(D6:D10) -> 94 | E11: 3+4* | F11: 1.3078313 | H11: 88 | I11: 1 | J11: 1.3910686 | K11: =SUM(K6:K10) -> 1
D12: * Newly created feeders
B13: Category | C13: Circle | D13: =D4 -> Q-III-Oct-23 TO DEC-23 | H13: =H4 -> Q-III-Oct-22 TO DEC-22 | K13: Nos of feeders having more than 25% where losses increased in current period | L13: Reason thereof and action being taken
D14: Total nos. of feeders | E14: Nos. of feeders having losses more than 25% | F14: Overall % losses | H14: Total nos. of feeders | I14: Nos. of feeders having losses more than 25% | J14: Overall % losses
B15: URBAN | C15: Baroda O&M | D15: 22 | E15: 1* | F15: 6.1131551 | H15: 20 | I15: 0 | J15: 3.8627811 | K15: 0 | L15: Various steps are being taken to reduce the losses of feeder having high losses
C16: Anand | D16: 48 | E16: 1 | F16: 4.7934991 | H16: 48 | I16: 0 | J16: 3.1467024 | K16: 1
C17: Nadiad | D17: 43 | E17: 1* | F17: 7.2113614 | H17: 42 | I17: 0 | J17: 5.7696657 | K17: 0
C18: Baroda City | D18: 284 | E18: 2+2* | F18: 4.2195821 | H18: 276 | I18: 0 | J18: 3.7808681 | K18: 0
C19: Godhra | D19: 48 | E19: 7 | F19: 18.10082 | H19: 48 | I19: 5 | J19: 16.587863 | K19: 1
C20: Total | D20: =SUM(D15:D19) -> 445 | E20: 10 +4* | F20: 6.4039383 | H20: 434 | I20: 5 | J20: 5.5943585 | K20: =SUM(K15:K19) -> 2
D21: * Newly created feeders
B22: Category | C22: Circle | D22: =D13 -> Q-III-Oct-23 TO DEC-23 | H22: =H13 -> Q-III-Oct-22 TO DEC-22 | K22: Nos of feeders having more than 10% where losses increased in current period | L22: Reason thereof and action being taken
D23: Total nos. of feeders | E23: Nos. of feeders having losses more than 10% | F23: Overall % losses | H23: Total nos. of feeders | I23: Nos. of feeders having losses more than 10% | J23: Overall % losses
B24: IND | C24: Baroda O&M | D24: 61 | E24: 1+1* | F24: 1.4908027 | H24: 58 | I24: 1 | J24: 2.6585825 | K24: 1 | L24: Various steps are being taken to reduce the losses of feeder having high losses
C25: Anand | D25: 8 | E25: 0 | F25: -0.918513 | H25: 6 | I25: 0 | J25: 1.1623436 | K25: 0
C26: Nadiad | D26: 14 | E26: 0 | F26: 1.3347478 | H26: 13 | I26: 0 | J26: 1.5314466 | K26: 0
C27: Baroda City | D27: 3 | E27: 0 | F27: 0.27090825 | H27: 3 | I27: 0 | J27: 0.32493373 | K27: 0
C28: Godhra | D28: 46 | E28: 1 | F28: 1.7186672 | H28: 45 | I28: 1 | J28: 1.7050487 | K28: 0
C29: Total | D29: =SUM(D24:D28) -> 132 | E29: 2+1* | F29: 1.4625439 | H29: 125 | I29: 2 | J29: 2.1862262 | K29: =SUM(K24:K28) -> 1
D30: * Newly created feeders

Sheet Sheet1
A1: SR | B1: CATEGORY | C1: BOARD CHARGE | D1: B. CHG(THEFT) | E1: MIN CHG DIS. | F1: ELE. DUTY | G1: TAX ON SALE | H1: RENT | I1: SUNDRY CHG. | J1: D. P. C. | K1: ASSESSMENT
A2: =========================================================================================================================================
A3: 1 | B3: Residential | C3: 3.1160693e+09 | D3: 17043897 | E3: 172650.77 | F3: 3.4360099e+08 | G3: 0 | H3: 73554896 | I3: 227109.15 | J3: 18633312 | K3: 3.5693021e+09
A4: 2 | B4: General Lighting Purpose | C4: 71089140 | D4: 101753.87 | E4: 17040 | F4: 7364652.5 | G4: 0 | H4: 748929.5 | I4: 23532.4 | J4: 453786.14 | K4: 79798834
A5: 3 | B5: Manufacturing & Service Industries | C5: 2.1273928e+09 | D5: 10987310 | E5: 55383.85 | F5: 3.3524209e+08 | G5: 0 | H5: 15904544 | I5: 285434.14 | J5: 5771228.1 | K5: 2.4956387e+09
B6: TEMP | C6: 78023457 | D6: 0 | E6: 0 | F6: 19271785 | G6: 0 | H6: 469841 | I6: 303675.78 | J6: 245968.69 | K6: 98314728
B7: TOTAL | C7: 2.2054162e+09 | D7: 10987310 | E7: 55383.85 | F7: 3.5451387e+08 | G7: 0 | H7: 16374385 | I7: 589109.92 | J7: 6017196.8 | K7: 2.5939535e+09
A8: 4 | B8: Water Works | C8: 2.2913085e+08 | D8: 7024.2 | E8: 360 | F8: 3568735.5 | G8: 0 | H8: 1043824 | I8: 84685 | J8: 38964480 | K8: 2.7279996e+08
A9: 5 | B9: Agricultural | C9: 2.248283e+08 | D9: 1100948.8 | E9: 69162.01 | F9: 32851.34 | G9: 0 | H9: 6727882.5 | I9: 96521.78 | J9: 1507359.2 | K9: 2.3436303e+08
A10: 6 | B10: Street Light | C10: 93088769 | D10: 0 | E10: 0 | F10: 833815.28 | G10: 0 | H10: 302109.5 | I10: 89765.18 | J10: 4559629.6 | K10: 98874088
A11: 7 | B11: PDC | C11: 2188369.9 | D11: 52177.62 | E11: 0 | F11: 239472.02 | G11: 0 | H11: 183965.5 | I11: 10954.81 | J11: 1881544.9 | K11: 4556484.7
A12: 8 | B12: UNCONNECTED | C12: 1346751 | D12: 29611.2 | E12: 0 | F12: 0 | G12: 0 | H12: 0 | I12: 0 | J12: 12750.19 | K12: 1389112.4
A13: 9 | B13: NON-CONS | C13: 0 | D13: 3642101.8 | E13: 0 | F13: 384932.08 | G13: 0 | H13: 0 | I13: 46327.9 | J13: 55.4 | K13: 4073417.1
A14: 10 | B14: TOT(NORMAL) | C14: 5.8615991e+09 | D14: 29240934 | E14: 314596.63 | F14: 6.9064313e+08 | G14: 0 | H14: 98282186 | I14: 807047.65 | J14: 69889795 | K14: 6.7507768e+09
A15: 11 | B15: TOT(PCD+UC) | C15: 3535120.9 | D15: 81788.82 | E15: 0 | F15: 239472.02 | G15: 0 | H15: 183965.5 | I15: 10954.81 | J15: 1894295.1 | K15: 5945597.1
A16: 12 | B16: TOT(TEMP+NON) | C16: 78023457 | D16: 3642101.8 | E16: 0 | F16: 19656717 | G16: 0 | H16: 469841 | I16: 350003.68 | J16: 246024.09 | K16: 1.0238815e+08
A17: 13 | B17: GRAND TOTAL | C17: 5.9431577e+09 | D17: 32964824 | E17: 314596.63 | F17: 7.1053932e+08 | G17: 0 | H17: 98935992 | I17: 1168006.1 | J17: 72030114 | K17: 6.8591105e+09
A18: =========================================================================================================================================
A19: BREAK-UP OF BOARD CHARGES FROM Apr-2014 TO Jun-2014
A20: =========================================================================================================================================
A21: SR | B21: CATEGORY | C21: CONSUMERS | D21: UNITS BILLED | E21: FIXED-CHRG | F21: ENEG-CHRG | G21: FUEL-COST | H21: ANNUAL-CHG | I21: PRO-BILL | J21: DEBIT-ADJ | K21: BOARD-CHG
A22: =========================================================================================================================================
A23: 1 | B23: Residential | C23: 1178560 | D23: 547896815 | E23: 1.0893635e+08 | F23: 2.2777783e+09 | G23: 6.988271e+08 | H23: 0 | I23: 23878038 | J23: 6649459.7 | K23: 3.1160693e+09
A24: 2 | B24: General Lighting Purpose | C24: 10324 | D24: 12238984 | E24: 3352066 | F24: 49361467 | G24: 14977588 | H24: 0 | I24: 3186689.2 | J24: 211329.99 | K24: 71089140
A25: 3 | B25: Manufacturing & Service Industries | C25: 141223 | D25: 308942121 | E25: 2.0981632e+08 | F25: 1.5067713e+09 | G25: 3.8397436e+08 | H25: 243868.04 | I25: 12422367 | J25: 14164516 | K25: 2.1273928e+09
B26: TEMP | C26: 4704 | D26: 8930434 | E26: 26180159 | F26: 41354592 | G26: 10417809 | H26: 0 | I26: 0 | J26: 70898.07 | K26: 78023457
B27: TOTAL | C27: 145927 | D27: 317872555 | E27: 2.3599648e+08 | F27: 1.5481259e+09 | G27: 3.9439217e+08 | H27: 243868.04 | I27: 12422367 | J27: 14235414 | K27: 2.2054162e+09
A28: 4 | B28: Water Works | C28: 8003 | D28: 48527153 | E28: 1355207.1 | F28: 1.6440131e+08 | G28: 58237666 | H28: 0 | I28: 2690678.8 | J28: 2445989 | K28: 2.2913085e+08
A29: 5 | B29: Agricultural | C29: 64962 | D29: 168792969 | E29: 32021769 | F29: 1.8627927e+08 | G29: 0 | H29: 0 | I29: 5083644.2 | J29: 1443616.6 | K29: 2.248283e+08
A30: 6 | B30: Street Light | C30: 4333 | D30: 15223858 | E30: 212629.18 | F30: 71319701 | G30: 20672610 | H30: 0 | I30: 303088.92 | J30: 580739.07 | K30: 93088769
A31: 7 | B31: PDC | C31: 75006 | D31: 254352 | E31: 0 | F31: 0 | G31: 0 | H31: 0 | I31: 0 | J31: 2188369.9 | K31: 2188369.9
A32: 8 | B32: UNCONNECTED | C32: 2231 | D32: 0 | E32: 1316135.1 | F32: 5130 | G32: 0 | H32: 0 | I32: 0 | J32: 25485.9 | K32: 1346751
A33: 9 | B33: NON-CONS | C33: 255 | D33: 740096 | E33: 0 | F33: 0 | G33: 0 | H33: 0 | I33: 0 | J33: 0 | K33: 0
A34: 10 | B34: TOT(NORMAL) | C34: 1407405 | D34: 1101621900 | E34: 3.5569434e+08 | F34: 4.2559114e+09 | G34: 1.1766893e+09 | H34: 243868.04 | I34: 47564507 | J34: 25495650 | K34: 5.8615991e+09
A35: 11 | B35: TOT(PDC+UN) | C35: 77237 | D35: 254352 | E35: 1316135.1 | F35: 5130 | G35: 0 | H35: 0 | I35: 0 | J35: 2213855.8 | K35: 3535120.9
A36: 12 | B36: TOT(TEMP+NON) | C36: 4959 | D36: 9670530 | E36: 26180159 | F36: 41354592 | G36: 10417809 | H36: 0 | I36: 0 | J36: 70898.07 | K36: 78023457
A37: 13 | B37: GRAND TOTAL | C37: 1489601 | D37: 1111546782 | E37: 3.8319064e+08 | F37: 4.2972711e+09 | G37: 1.1871071e+09 | H37: 243868.04 | I37: 47564507 | J37: 27780404 | K37: 5.9431577e+09
A38: =========================================================================================================================================
A41: LT C. G. L. FROM Apr-2014 TO Jun-2014
A42: LAST MONTH END DATE : 30-06-2014 | E42: PERIOD: Apr-2014 TO Jun-2014 | I42: PROCESSED ON: 18-Dec-2014
...
