Workbook
Name \1: #REF!
Name \1: #REF!
Name \2: [1]TLPPOCT!#REF!
Name \2: [1]TLPPOCT!#REF!
Name \a: #REF!
Name \a: #REF!
Name \b: #REF!
Name \b: #REF!
Name \p: #REF!
Name \p: #REF!
Name _____S8: #REF!
Name _____S8: #REF!
Name _____S88: #REF!
Name _____S88: #REF!
Name _____S888: #REF!
Name _____S888: #REF!
Name ____SPA007: [2]TLPPOCT!#REF!
Name ____SPA007: [2]TLPPOCT!#REF!
Name __1_1_1: #REF!
Name __1_1_1: #REF!
Name __2_1_1: #REF!
Name __2_1_1: #REF!
Name __S8: #REF!
Name __S8: #REF!
Name __S88: #REF!
Name __S88: #REF!
Name __S888: #REF!
Name __S888: #REF!
Name __SF01: [4]LMAIN!#REF!
Name __SF01: [4]LMAIN!#REF!
Name __SF010907: [4]LMAIN!#REF!
Name __SF010907: [4]LMAIN!#REF!
Name __SF02: [4]LMAIN!#REF!
Name __SF02: [4]LMAIN!#REF!
Name __SF020506: [4]LMAIN!#REF!
Name __SF020506: [4]LMAIN!#REF!
Name __SF0209: [4]LMAIN!#REF!
Name __SF0209: [4]LMAIN!#REF!
Name __SF020907: [4]LMAIN!#REF!
Name __SF020907: [4]LMAIN!#REF!
Name __SF020912: [4]LMAIN!#REF!
Name __SF020912: [4]LMAIN!#REF!
Name __SF03: [4]LMAIN!#REF!
Name __SF03: [4]LMAIN!#REF!
Name __SF030907: [4]LMAIN!#REF!
Name __SF030907: [4]LMAIN!#REF!
Name __SF044: [4]LMAIN!#REF!
Name __SF044: [4]LMAIN!#REF!
Name __SF07: [4]LMAIN!#REF!
Name __SF07: [4]LMAIN!#REF!
Name __SF070805: [4]LMAIN!#REF!
Name __SF070805: [4]LMAIN!#REF!
Name __SF070809: [4]LMAIN!#REF!
Name __SF070809: [4]LMAIN!#REF!
Name __SF0709: [4]LMAIN!#REF!
Name __SF0709: [4]LMAIN!#REF!
Name __SF070907: [4]LMAIN!#REF!
Name __SF070907: [4]LMAIN!#REF!
Name __SF080706: [4]LMAIN!#REF!
Name __SF080706: [4]LMAIN!#REF!

Sheet SHEET-1
I2: [ 1 ]
A5: MADHYA GUJARAT VIJ COMPANY LIMITED
A8: I - KEY PARAMETERS
A10: POWER SUPPLY POSITION
D12: Current Year | F12: Previous Year | H12: % Change
D13: Quarterly | E13: Cummulative | F13: Quarterly | G13: Cummulative | H13: Quarterly | I13: Cummulative
D14: July-2023 to Sept-2023 | F14: July-2022 to Sept-2022
A16: I | B16: POWER PURCHASE
A17: 1 | B17: Purchase From CPPS/Wind Farms/Solar | C17: MUS | D17: =+E17-4086.41 -> 3699.76 | E17: 7786.17 | F17: 3607.95 | G17: 7710 | H17: =(D17-F17)/F17 -> 0.025446583 | I17: =(E17-G17)/G17 -> 0.0098793774
A18: 2 | B18: Purchase from GUVNL [Net of Trading Credit & UI] | C18: MUS
A19: 3 | B19: Purchase from Central Sector | C19: MUS
B20: [a] Share | C20: MUS
B21: [b] Actual Purchase | C21: MUS
B22: Total Purchase of Power | C22: MUS | D22: =+D17+D20+D21 -> 3699.76 | E22: =+E17+E20+E21 -> 7786.17 | F22: =+F17+F20+F21 -> 3607.95 | G22: =+G17+G20+G21 -> 7710 | H22: =(D22-F22)/F22 -> 0.025446583 | I22: =(E22-G22)/G22 -> 0.0098793774
A24: II | B24: ENERGY BALANCE SHEET
A25: 1 | B25: Total Generation + Purchase of Power | C25: MUS | D25: =+D17 -> 3699.76 | E25: =+E22 -> 7786.17 | F25: 3607.95 | G25: 7710 | H25: =(D25-F25)/F25 -> 0.025446583 | I25: =(E25-G25)/G25 -> 0.0098793774
A26: 2 | B26: Units Sent Out | C26: MUS | D26: =+D25 -> 3699.76 | E26: =+E25 -> 7786.17 | F26: 3607.95 | G26: 7710 | H26: =(D26-F26)/F26 -> 0.025446583 | I26: =(E26-G26)/G26 -> 0.0098793774
A27: 3 | B27: Metered + Estimated Unmetered & Unbilled Sales | C27: MUS | D27: =+E27-3571.94 -> 3200.926 | E27: 6772.866 | F27: 3175.26 | G27: 6589 | H27: =(D27-F27)/F27 -> 0.0080831176 | I27: =(E27-G27)/G27 -> 0.027904993
A28: 4 | B28: T&D Losses [2-3] | C28: MUS | D28: =+D26-D27 -> 498.834 | E28: =+E26-E27 -> 1013.304 | F28: 432.69 | G28: 1121 | H28: =(D28-F28)/F28 -> 0.15286695 | I28: =(E28-G28)/G28 -> -0.096071365
A29: 5 | B29: T & D Loss [4] / [2] * 100 | C29: % | D29: =+(D28/D26) -> 0.13482875 | E29: =+(E28/E26) -> 0.13014152 | F29: 0.11992683 | G29: 0.14539559 | H29: =D29-F29 -> 0.014901917 | I29: =E29-G29 -> -0.01525407
A31: III | B31: SALES, BILLING AND REALISATION
A32: 1 | B32: Billed [Metered + Unmetered] with E. D. | C32: Rs. In Crores | D32: =+E32-2845.04 -> 2918.15 | E32: =+'SHEET-5'!E25+85.67+97.62+103.55+109.75+103.97+101.65 -> 5763.19 | F32: 2223.62 | G32: 4409.76 | H32: =(D32-F32)/F32 -> 0.31234204 | I32: =(E32-G32)/G32 -> 0.30691693
A33: 2 | B33: Billed - Theft Assessment
A34: 3 | B34: Total Billed [1 + 2] | C34: Rs. In Crores | D34: =+D32 -> 2918.15 | E34: =+E32 -> 5763.19 | F34: =+F32 -> 2223.62 | G34: =+G32 -> 4409.76 | H34: =(D34-F34)/F34 -> 0.31234204 | I34: =(E34-G34)/G34 -> 0.30691693
A35: 4 | B35: Amount realised [Metered + Unmetered] with E. D. | C35: Rs. In Crores | D35: =+E35-2697.96 -> 2871.0105 | E35: =+E34*96.63% -> 5568.9705 | F35: 2154.9101 | G35: 4264.2379 | H35: =(D35-F35)/F35 -> 0.33231101 | I35: =(E35-G35)/G35 -> 0.30597087
A36: 5 | B36: Amount realised against Theft of Energy
A37: 6 | B37: Total Amount realised [4 + 5] | C37: Rs. In Crores | D37: =+D35 -> 2871.0105 | E37: =+E35 -> 5568.9705 | F37: =+F35 -> 2154.9101 | G37: =+G35 -> 4264.2379 | H37: =(D37-F37)/F37 -> 0.33231101 | I37: =(E37-G37)/G37 -> 0.30597087
A38: 7 | B38: Amount realised as % of amount billed [6] / [3] | C38: % | D38: =+D37/D34 -> 0.9838461 | E38: =+E37/E34 -> 0.9663 | F38: =F37/F34 -> 0.9691 | G38: =G37/G34 -> 0.967 | H38: =D38-F38 -> 0.0147461 | I38: =E38-G38 -> -0.0007

Sheet SHEET-2
I2: [ 2 ]
A5: MADHYA GUJARAT VIJ COMPANY LIMITED
A8: II - KEY PARAMETERS
A10: COST OF SUPPLY - 2
D12: Current Year | F12: Previous Year | H12: % Change
D13: Quarterly | E13: Cummulative | F13: Quarterly | G13: Cummulative | H13: Quarterly | I13: Cummulative
D14: =+'SHEET-1'!D14:E14 -> July-2023 to Sept-2023 | F14: =+'SHEET-1'!F14:G14 -> July-2022 to Sept-2022
A15: I | B15: COST OF SUPPLY
A16: 1 | B16: Average Cost of Purchase of Power [Net] | C16: Rs. /KWH | D16: =ROUND(+('SHEET-3'!D15/'SHEET-1'!D22)*10,2) -> 6.35 | E16: 6.36 | F16: 6.26 | G16: 5.57 | H16: =(D16-F16)/F16 -> 0.014376997 | I16: =(E16-G16)/G16 -> 0.14183124
A17: 2 | B17: Cost at Bus Bar | C17: Rs. /KWH
A18: 3 | B18: Costo of Supply at EHT [at 66 KV] | C18: Rs. /KWH
A19: 4 | B19: Cost of Supply at LT [at 11 KV] | C19: Rs. /KWH
A20: 5 | B20: Cost of Supply at HT [at 11 KV] | C20: Rs. /KWH
A21: 6 | B21: Average Cost of Supply per unit of sales | C21: Rs. /KWH | D21: =ROUND(+('SHEET-3'!D23/'SHEET-1'!D27)*10,2) -> 8.25 | E21: =ROUND(+('SHEET-3'!E23/'SHEET-1'!E27)*10,2) -> 7.8 | F21: 8.02 | G21: 7.37 | H21: =(D21-F21)/F21 -> 0.028678304 | I21: =(E21-G21)/G21 -> 0.05834464
A23: II | B23: SALES REALISATION WITHOUT E. D.
A24: 1 | B24: H. T. | C24: Rs. /KWH | D24: =ROUND(+'SHEET-5'!D32/100,2) -> 8.75 | E24: =ROUND(+'SHEET-5'!E32/100,2) -> 8.12 | F24: 9.03 | G24: 7.83 | H24: =(D24-F24)/F24 -> -0.031007752 | I24: =(E24-G24)/G24 -> 0.037037037
A25: 2 | B25: L. T. | C25: Rs. /KWH | D25: =ROUND(+'SHEET-5'!D39/100,2) -> 7.71 | E25: =ROUND(+'SHEET-5'!E39/100,2) -> 7.2 | F25: 5.43 | G25: 5.87 | H25: =(D25-F25)/F25 -> 0.4198895 | I25: =(E25-G25)/G25 -> 0.22657581
A26: 3 | B26: Average Sales Realisation | C26: Rs. /KWH | D26: =ROUND(+'SHEET-5'!D40/100,2) -> 8.18 | E26: =ROUND(+'SHEET-5'!E40/100,2) -> 7.62 | F26: 7 | G26: 6.69 | H26: =(D26-F26)/F26 -> 0.16857143 | I26: =(E26-G26)/G26 -> 0.13901345
B28: Special Observation on above points

Sheet SHEET-3
I2: [ 3 ]
A5: MADHYA GUJARAT VIJ COMPANY LIMITED
A8: I - KEY PARAMETERS
A10: FINANCIAL DATA - 3
D12: Current Year [Provisional] | F12: Previous Year | H12: % Change
D13: Quarterly | E13: Cummulative | F13: Quarterly | G13: Cummulative | H13: Quarterly | I13: Cummulative
D14: =+'SHEET-2'!D14:E14 -> July-2023 to Sept-2023 | F14: =+'SHEET-2'!F14:G14 -> July-2022 to Sept-2022
A15: 1 | B15: Cost of Power Purchase [Net] | C15: Rs. In Crore | D15: =+E15-2307.96 -> 2350.47 | E15: 4658.43 | F15: 2257.05 | G15: 4292.05 | H15: =(D15-F15)/F15 -> 0.04139031 | I15: =(E15-G15)/G15 -> 0.085362472
A16: 2 | B16: Employees Cost | C16: Rs. In Crore | D16: =+E16-165.03 -> 140.42 | E16: =165.03+140.42 -> 305.45 | F16: 150.06 | G16: 291.8 | H16: =(D16-F16)/F16 -> -0.06424097 | I16: =(E16-G16)/G16 -> 0.046778615
A17: 3 | B17: Interest | C17: Rs. In Crore | D17: =+E17-18.95 -> 22.93 | E17: =18.95+22.93 -> 41.88 | F17: 12.14 | G17: 24.28 | H17: =(D17-F17)/F17 -> 0.88879736 | I17: =(E17-G17)/G17 -> 0.72487644
A18: 4 | B18: Repairs and Maintenance | C18: Rs. In Crore | D18: =+E18-44.92 -> 19.73 | E18: =44.93+19.72 -> 64.65 | F18: 20.69 | G18: 40.86 | H18: =(D18-F18)/F18 -> -0.046399227 | I18: =(E18-G18)/G18 -> 0.58223201
A19: 5 | B19: Depreciation | C19: Rs. In Crore | D19: =+E19-70.81 -> 76.47 | E19: =70.81+76.47 -> 147.28 | F19: 69.88 | G19: 134.76 | H19: =(D19-F19)/F19 -> 0.094304522 | I19: =(E19-G19)/G19 -> 0.092905907
A20: 6 | B20: Admin. And General Expenditure | C20: Rs. In Crore | D20: =+E20-24.93 -> 24.81 | E20: =24.93+24.81 -> 49.74 | F20: 24.23 | G20: 46.94 | H20: =(D20-F20)/F20 -> 0.023937268 | I20: =(E20-G20)/G20 -> 0.059650618
A21: 6a | B21: Expenses Capitalized | C21: Rs. In Crore | D21: 0 | E21: =+'SHEET-7'!C32 -> 0 | F21: 0 | G21: 0 | H21: =(D21-F21)/F21 -> #DIV/0! | I21: =(E21-G21)/G21 -> #DIV/0!
A22: 7 | B22: Other Debits & Prior Period Adjustment | C22: Rs. In Crore | D22: =+E22-9.3 -> 5.61 | E22: =9.29+5.62 -> 14.91 | F22: 13.15 | G22: 26.3 | H22: =(D22-F22)/F22 -> -0.57338403 | I22: =(E22-G22)/G22 -> -0.43307985
A23: 8 | B23: Total Cost Excluding Profit / Return | C23: Rs. In Crore | D23: =+SUM(D15:D22) -> 2640.44 | E23: =+SUM(E15:E22) -> 5282.34 | F23: 2547.2 | G23: 4856.99 | H23: =(D23-F23)/F23 -> 0.036604899 | I23: =(E23-G23)/G23 -> 0.087574815
B24: Income | C24: Rs. In Crore
A25: 9 | B25: Other Inncome | C25: Rs. In Crore | D25: =+E25-58.54 -> 51.66 | E25: 110.2 | F25: 75.27 | G25: 143.91 | H25: 0 | I25: 0
A26: 10 | B26: Sales Amount [Without E. D.] [Incl. T.C/FCA] | C26: Rs. In Crore | D26: 0 | E26: 0 | F26: 2263.22 | G26: 4472.97 | H26: 0 | I26: 0
A27: 11 | B27: Agricultural Subsidy Received | C27: Rs. In Crore | D27: =+E27-17.68 -> 17.68 | E27: 35.36 | F27: 17.2 | G27: 34.39 | H27: =(D27-F27)/F27 -> 0.027906977 | I27: =(E27-G27)/G27 -> 0.028205874
A28: 12 | B28: Misc. Revenue Related Recovery | C28: Rs. In Crore | D28: =+E28-29.51 -> 23.98 | E28: 53.49 | F28: 26.89 | G28: 53.68 | H28: =(D28-F28)/F28 -> -0.10821867 | I28: =(E28-G28)/G28 -> -0.0035394933
A29: 13 | B29: Total Income(9+10+11+12) | C29: Rs. In Crore | D29: =SUM(D25:D28) -> 93.32 | E29: =SUM(E25:E28) -> 199.05 | F29: =SUM(F25:F28) -> 2382.58 | G29: =SUM(G25:G28) -> 4704.95 | H29: =(D29-F29)/F29 -> -0.96083237 | I29: =(E29-G29)/G29 -> -0.95769349
A30: 14 | B30: Cost of Power Purchase as % of Total Cost [1]/[8] | C30: Rs. In Crore | D30: =D15/D23 -> 0.89018118 | E30: =E15/E23 -> 0.88188757 | F30: =F15/F23 -> 0.88609061 | G30: =G15/G23 -> 0.88368516 | H30: =(D30-F30)/F30 -> 0.004616427 | I30: =(E30-G30)/G30 -> -0.0020341979
A32: 15 | B32: Capital Expenditure | C32: Rs. In Crore | D32: =+E32-30.21 -> 205.02 | E32: 235.23 | F32: -41.55 | G32: -11.34 | H32: =(D32-F32)/F32 -> -5.934296 | I32: =(E32-G32)/G32 -> -21.743386
A33: 16 | B33: New Long Term Borrowings | C33: Rs. In Crore | D33: 0 | E33: =+D33 -> 0 | F33: 0 | G33: 0 | H33: 0 | I33: 0
A34: 17 | B34: C.C.drawl at the end of the Quarter | C34: Rs. In Crore | D34: 0 | E34: =+D34 -> 0 | F34: =+G34-0.02 -> 0.02 | G34: 0.04 | H34: 0 | I34: 0
D54: =3+0.58+0.94 -> 4.52 | E54: 30066981 | F54: 5786401.8 | G54: 9381444.4 | H54: 87524122
E55: =E54/10^7 -> 3.0066981 | F55: =F54/10^7 -> 0.57864017 | G55: =G54/10^7 -> 0.93814444 | H55: =H54/10^7 -> 8.7524122
D63: 0.64
D64: =SUM(D61:D63) -> 0.64

Sheet SHEET-4
I2: [ 4]
A5: MADHYA GUJARAT VIJ COMPANY LIMITED
A7: III - SALES AND REVENUE DATA
A9: NOS. OF CONSUMERS AND UNIT SOLD
D11: Current Year | F11: Previous Year | H11: % Change
D12: Quarterly | E12: Cummulative | F12: Quarterly | G12: Cummulative | H12: Quarterly | I12: Cummulative
A13: [A] | B13: NOS. OF CONSUMERS [WITHOUT PDC] | D13: =+'SHEET-3'!D14:E14 -> July-2023 to Sept-2023 | F13: =+'SHEET-3'!F14:G14 -> July-2022 to Sept-2022
A14: 1 | B14: H. T. | C14: Nos. | D14: 2970 | E14: =D14 -> 2970 | F14: 2760 | G14: 2760 | H14: =(D14-F14)/F14 -> 0.076086957 | I14: =(E14-G14)/G14 -> 0.076086957
A15: 2 | B15: Railways | C15: Nos. | D15: 0 | E15: =D15 -> 0 | F15: 0 | G15: 0 | H15: =(D15-F15)/F15 -> #DIV/0! | I15: =(E15-G15)/G15 -> #DIV/0!
A16: 3 | B16: Liecence | C16: Nos. | D16: 0 | E16: =D16 -> 0 | F16: 0 | G16: 0 | H16: 0 | I16: 0
A17: 4 | B17: Total H.T. + E.H.T. | C17: Nos. | D17: =SUM(D14:D16) -> 2970 | E17: =SUM(E14:E16) -> 2970 | F17: 2760 | G17: 2760 | H17: =(D17-F17)/F17 -> 0.076086957 | I17: =(E17-G17)/G17 -> 0.076086957
A18: 5 | B18: Residential | C18: Nos. | D18: 2882711 | E18: =D18 -> 2882711 | F18: 2820031 | G18: 2820031 | H18: =(D18-F18)/F18 -> 0.022226706 | I18: =(E18-G18)/G18 -> 0.022226706
A19: 6 | B19: Commercial | C19: Nos. | D19: 410999 | E19: =D19 -> 410999 | F19: 396797 | G19: 396797 | H19: =(D19-F19)/F19 -> 0.035791601 | I19: =(E19-G19)/G19 -> 0.035791601
A20: 7 | B20: Industrial | C20: Nos.
A21: 8 | B21: Others [Water Works / Public Lighting] | C21: Nos. | D21: 30552 | E21: =D21 -> 30552 | F21: 26744 | G21: 26744 | H21: =(D21-F21)/F21 -> 0.14238708 | I21: =(E21-G21)/G21 -> 0.14238708
A22: 9 | B22: Total L.T. Excluding Agricultural | C22: Nos. | D22: =+SUM(D18:D21) -> 3324262 | E22: =D22 -> 3324262 | F22: 3243572 | G22: 3243572 | H22: =(D22-F22)/F22 -> 0.024876895 | I22: =(E22-G22)/G22 -> 0.024876895
A23: 10 | B23: Agricultural | C23: Nos. | D23: 216348 | E23: =D23 -> 216348 | F23: 205178 | G23: 205178 | H23: =(D23-F23)/F23 -> 0.054440535 | I23: =(E23-G23)/G23 -> 0.054440535
A24: 11 | B24: Total L. T. Including Agricultural | C24: Nos. | D24: =+D22+D23 -> 3540610 | E24: =D24 -> 3540610 | F24: 3448750 | G24: 3448750 | H24: =(D24-F24)/F24 -> 0.026635738 | I24: =(E24-G24)/G24 -> 0.026635738
A25: 12 | B25: Total H.T. + E.H.T. + L. T. [WITHOUT P.D.C.] | C25: Nos. | D25: =+D17+D24 -> 3543580 | E25: =D25 -> 3543580 | F25: 3451510 | G25: 3451510 | H25: =(D25-F25)/F25 -> 0.026675281 | I25: =(E25-G25)/G25 -> 0.026675281
A27: [B] | B27: NOS. OF UNITS SOLD
A29: 1 | B29: H. T. | C29: M.KWH | D29: 1443.45 | E29: =1443.45+1640.89 -> 3084.34 | F29: 1385.644 | G29: 2755.808 | H29: =(D29-F29)/F29 -> 0.041717786 | I29: =(E29-G29)/G29 -> 0.1192144
A30: 2 | B30: Railways | C30: M.KWH | D30: 0 | E30: =+D30 -> 0 | F30: 0 | G30: 0 | H30: =(D30-F30)/F30 -> #DIV/0! | I30: =(E30-G30)/G30 -> #DIV/0!
A31: 3 | B31: Liecence | C31: M.KWH | D31: 0 | E31: 0 | F31: 0 | G31: 0 | H31: 0 | I31: 0
A32: 4 | B32: Total H.T. + E.H.T. | C32: M.KWH | D32: =D29+D30 -> 1443.45 | E32: =E29+E30 -> 3084.34 | F32: 1385.644 | G32: 2755.808 | H32: =(D32-F32)/F32 -> 0.041717786 | I32: =(E32-G32)/G32 -> 0.1192144
A33: 5 | B33: Residential | C33: M.KWH | D33: 870.28 | E33: =934.81+870.28 -> 1805.09 | F33: 831.399 | G33: 1796.008 | H33: =(D33-F33)/F33 -> 0.046765753 | I33: =(E33-G33)/G33 -> 0.0050567703
A34: 6 | B34: Commercial | C34: M.KWH | D34: 503.25 | E34: =509.86+503.25 -> 1013.11 | F34: 497.109 | G34: 1078.533 | H34: =(D34-F34)/F34 -> 0.012353428 | I34: =(E34-G34)/G34 -> -0.060659247
A35: 7 | B35: Industrial | C35: M.KWH
A36: 8 | B36: Others [Water Works / Public Lighting] | C36: M.KWH | D36: 148.54 | E36: =137.16+148.54 -> 285.7 | F36: 96.031 | G36: 200.262 | H36: =(D36-F36)/F36 -> 0.54679218 | I36: =(E36-G36)/G36 -> 0.42663111
A37: 9 | B37: Total L.T. Excluding Agricultural | C37: M.KWH | D37: =SUM(D33:D36) -> 1522.07 | E37: =SUM(E33:E36) -> 3103.9 | F37: 1424.539 | G37: 3074.803 | H37: =(D37-F37)/F37 -> 0.068464956 | I37: =(E37-G37)/G37 -> 0.0094630453
A38: 10 | B38: Agricultural [Metered + Unmetered] | C38: M.KWH | D38: 235.4 | E38: =349.22+235.4 -> 584.62 | F38: 365.233 | G38: 758.845 | H38: =(D38-F38)/F38 -> -0.35547993 | I38: =(E38-G38)/G38 -> -0.22959234
A39: 11 | B39: Total L. T. Including Agricultural | C39: M.KWH | D39: =SUM(D37:D38) -> 1757.47 | E39: =SUM(E37:E38) -> 3688.52 | F39: 1789.772 | G39: 3833.648 | H39: =(D39-F39)/F39 -> -0.018048109 | I39: =(E39-G39)/G39 -> -0.037856371
A40: 12 | B40: Total H.T. + E.H.T. + L. T. | C40: M.KWH | D40: =D32+D39 -> 3200.92 | E40: =E32+E39 -> 6772.86 | F40: 3175.416 | G40: 6589.456 | H40: =(D40-F40)/F40 -> 0.0080317036 | I40: =(E40-G40)/G40 -> 0.02783295
D52: 1639.71 | E52: 5096.36
D57: 335.74 | E57: 335.74 | F57: =D40-D52 -> 1561.21
D58: 346.72 | E58: 346.72 | F58: =E40-E52 -> 1676.5
D59: =SUM(D57:D58) -> 682.46 | E59: =SUM(E57:E58) -> 682.46
D64: Q1 2014 | E64: Q1 2013
C65: Metered | D65: 153.2 | E65: 171.66 | F65: =(D65-E65)/E65 -> -0.10753816
C66: Unmetered | D66: 136.37 | E66: 136.62 | F66: =(D66-E66)/E66 -> -0.0018298931
D67: =SUM(D65:D66) -> 289.57 | E67: =SUM(E65:E66) -> 308.28 | F67: =(D67-E67)/E67 -> -0.060691579

Sheet SHEET-5
I2: [ 5 ]
A5: MADHYA GUJARAT VIJ COMPANY LIMITED
A7: III - SALES AND REVENUE DATA
A9: SALES REVENUE AMOUNT AND PAISE / UNIT
D11: Current Year | F11: Previous Years | H11: % Change
D12: Quarterly | E12: Cummulative | F12: Quarterly | G12: Cummulative | H12: Quarterly | I12: Cummulative
A13: [C] | B13: SALES REVENUE BILLED : | D13: =+'SHEET-4'!D13:E13 -> July-2023 to Sept-2023 | F13: =+'SHEET-4'!F13:G13 -> July-2022 to Sept-2022
A14: 1 | B14: H. T. | C14: Rs. In Crore | D14: 1263.23 | E14: 2503.77 | F14: 1251.22 | G14: 2158.63 | H14: =(D14-F14)/F14 -> 0.0095986317 | I14: =(E14-G14)/G14 -> 0.15988845
A15: 2 | B15: Railway | C15: Rs. In Crore | D15: 0 | E15: 0 | F15: 0 | G15: 0 | H15: =(D15-F15)/F15 -> #DIV/0! | I15: =(E15-G15)/G15 -> #DIV/0!
A16: 3 | B16: Liecence | C16: Rs. In Crore | D16: 0 | E16: 0 | F16: 0 | G16: 0 | H16: 0 | I16: 0
A17: 4 | B17: Total H.T. + E.H.T. | C17: Rs. In Crore | D17: =SUM(D14:D16) -> 1263.23 | E17: =SUM(E14:E16) -> 2503.77 | F17: 1251.22 | G17: 2158.63 | H17: =(D17-F17)/F17 -> 0.0095986317 | I17: =(E17-G17)/G17 -> 0.15988845
A18: 5 | B18: Residential | C18: Rs. In Crore | D18: 612.13 | E18: =612.13+646.61 -> 1258.74 | F18: 417.99 | G18: 1021.9 | H18: =(D18-F18)/F18 -> 0.46446087 | I18: =(E18-G18)/G18 -> 0.23176436
A19: 6 | B19: Commercial | C19: Rs. In Crore | D19: 445.14 | E19: 947.82 | F19: 397.73 | G19: 866.35 | H19: =(D19-F19)/F19 -> 0.11920147 | I19: =(E19-G19)/G19 -> 0.094038206
A20: 7 | B20: Industrial | C20: Rs. In Crore
A21: 8 | B21: Others [Water Works / Public Lighting] | C21: Rs. In Crore | D21: 123.42 | E21: 178.71 | F21: 74.11 | G21: 141.92 | H21: =(D21-F21)/F21 -> 0.6653623 | I21: =(E21-G21)/G21 -> 0.25923055
A22: 9 | B22: Total L.T. Excluding Agricultural | C22: Rs. In Crore | D22: =SUM(D18:D21) -> 1180.69 | E22: =SUM(E18:E21) -> 2385.27 | F22: 889.83 | G22: 2030.17 | H22: =(D22-F22)/F22 -> 0.32687142 | I22: =(E22-G22)/G22 -> 0.17491146
A23: 10 | B23: Agricultural [Including Tariff Comp.]/[FPPPA] | C23: Rs. In Crore | D23: 174.89 | E23: 271.94 | F23: 82.57 | G23: 220.96 | H23: =(D23-F23)/F23 -> 1.1180816 | I23: =(E23-G23)/G23 -> 0.23072049
A24: 11 | B24: Total L. T. Including Agricultural | C24: Rs. In Crore | D24: =SUM(D22:D23) -> 1355.58 | E24: =SUM(E22:E23) -> 2657.21 | F24: 972.4 | G24: 2251.13 | H24: =(D24-F24)/F24 -> 0.39405594 | I24: =(E24-G24)/G24 -> 0.1803894
A25: 12 | B25: Total H.T. + E.H.T. + L. T. | C25: Rs. In Crore | D25: =D17+D24 -> 2618.81 | E25: =E17+E24 -> 5160.98 | F25: 2223.62 | G25: 4409.76 | H25: =(D25-F25)/F25 -> 0.17772371 | I25: =(E25-G25)/G25 -> 0.17035394
A27: [D] | B27: SALES REALISATION
A29: 1 | B29: H. T. | C29: Paise / kwh | D29: =D14/'SHEET-4'!D29*1000 -> 875.14635 | E29: =E14/'SHEET-4'!E29*1000 -> 811.76848 | F29: 902.98807 | G29: 783.30203 | H29: =(D29-F29)/F29 -> -0.030832875 | I29: =(E29-G29)/G29 -> 0.036341604 | N29: =(D14/'SHEET-4'!D29)*1000 -> 875.14635 | O29: =(E14/'SHEET-4'!E29)*1000 -> 811.76848 | P29: =(F14/'SHEET-4'!F29)*1000 -> 902.98807 | Q29: =(G14/'SHEET-4'!G29)*1000 -> 783.30203
A30: 2 | B30: Railway | C30: Paise / kwh | D30: 0 | E30: 0 | F30: 0 | G30: 0 | H30: =(D30-F30)/F30 -> #DIV/0! | I30: =(E30-G30)/G30 -> #DIV/0! | N30: =(D15/'SHEET-4'!D30)*1000 -> #DIV/0! | O30: =(E15/'SHEET-4'!E30)*1000 -> #DIV/0! | P30: =(F15/'SHEET-4'!F30)*1000 -> #DIV/0!
A31: 3 | B31: Liecence | C31: Paise / kwh | D31: 0 | E31: 0 | F31: 0 | G31: 0 | H31: 0 | I31: 0 | N31: =(D16/'SHEET-4'!D31)*1000 -> #DIV/0! | O31: =(E16/'SHEET-4'!E31)*1000 -> #DIV/0! | P31: =(F16/'SHEET-4'!F31)*1000 -> #DIV/0!
A32: 4 | B32: Total H.T. + E.H.T. | C32: Paise / kwh | D32: =D17/'SHEET-4'!D32*1000 -> 875.14635 | E32: =E17/'SHEET-4'!E32*1000 -> 811.76848 | F32: 902.98807 | G32: 783.30203 | H32: =(D32-F32)/F32 -> -0.030832875 | I32: =(E32-G32)/G32 -> 0.036341604 | N32: =(D17/'SHEET-4'!D32)*1000 -> 875.14635 | O32: =(E17/'SHEET-4'!E32)*1000 -> 811.76848 | P32: =(F17/'SHEET-4'!F32)*1000 -> 902.98807
A33: 5 | B33: Residential | C33: Paise / kwh | D33: =D18/'SHEET-4'!D33*1000 -> 703.37133 | E33: =E18/'SHEET-4'!E33*1000 -> 697.32811 | F33: 502.75499 | G33: 568.9841 | H33: =(D33-F33)/F33 -> 0.39903399 | I33: =(E33-G33)/G33 -> 0.22556695 | N33: =(D18/'SHEET-4'!D33)*1000 -> 703.37133 | O33: =(E18/'SHEET-4'!E33)*1000 -> 697.32811 | P33: =(F18/'SHEET-4'!F33)*1000 -> 502.75499
A34: 6 | B34: Commercial | C34: Paise / kwh | D34: =D19/'SHEET-4'!D34*1000 -> 884.53055 | E34: =E19/'SHEET-4'!E34*1000 -> 935.55488 | F34: 800.0861 | G34: 803.26703 | H34: =(D34-F34)/F34 -> 0.10554421 | I34: =(E34-G34)/G34 -> 0.16468726 | N34: =(D19/'SHEET-4'!D34)*1000 -> 884.53055 | O34: =(E19/'SHEET-4'!E34)*1000 -> 935.55488 | P34: =(F19/'SHEET-4'!F34)*1000 -> 800.0861
A35: 7 | B35: Industrial | C35: Paise / kwh | N35: =(D20/'SHEET-4'!D35)*1000 -> #DIV/0! | O35: =(E20/'SHEET-4'!E35)*1000 -> #DIV/0! | P35: =(F20/'SHEET-4'!F35)*1000 -> #DIV/0!
A36: 8 | B36: Others [Water Works / Public Lighting] | C36: Paise / kwh | D36: =D21/'SHEET-4'!D36*1000 -> 830.8873 | E36: =E21/'SHEET-4'!E36*1000 -> 625.51628 | F36: 771.72996 | G36: 708.67164 | H36: =(D36-F36)/F36 -> 0.076655493 | I36: =(E36-G36)/G36 -> -0.11733977 | N36: =(D21/'SHEET-4'!D36)*1000 -> 830.8873 | O36: =(E21/'SHEET-4'!E36)*1000 -> 625.51628 | P36: =(F21/'SHEET-4'!F36)*1000 -> 771.72996
A37: 9 | B37: Total L.T. Excluding Agricultural | C37: Paise / kwh | D37: =D22/'SHEET-4'!D37*1000 -> 775.71334 | E37: =E22/'SHEET-4'!E37*1000 -> 768.47514 | F37: 624.64418 | G37: 660.26019 | H37: =(D37-F37)/F37 -> 0.24184833 | I37: =(E37-G37)/G37 -> 0.16389745 | N37: =(D22/'SHEET-4'!D37)*1000 -> 775.71334 | O37: =(E22/'SHEET-4'!E37)*1000 -> 768.47514 | P37: =(F22/'SHEET-4'!F37)*1000 -> 624.64418
A38: 10 | B38: Agricultural | C38: Paise / kwh | D38: =D23/'SHEET-4'!D38*1000 -> 742.94817 | E38: =E23/'SHEET-4'!E38*1000 -> 465.15685 | F38: 226.07486 | G38: 291.17936 | H38: =(D38-F38)/F38 -> 2.2862927 | I38: =(E38-G38)/G38 -> 0.59749255 | N38: =(D23/'SHEET-4'!D38)*1000 -> 742.94817 | O38: =(E23/'SHEET-4'!E38)*1000 -> 465.15685 | P38: =(F23/'SHEET-4'!F38)*1000 -> 226.07486
A39: 11 | B39: Total L. T. Including Agricultural | C39: Paise / kwh | D39: =D24/'SHEET-4'!D39*1000 -> 771.32469 | E39: =E24/'SHEET-4'!E39*1000 -> 720.40005 | F39: 543.30943 | G39: 587.2031 | H39: =(D39-F39)/F39 -> 0.41967846 | I39: =(E39-G39)/G39 -> 0.22683284 | N39: =(D24/'SHEET-4'!D39)*1000 -> 771.32469 | O39: =(E24/'SHEET-4'!E39)*1000 -> 720.40005 | P39: =(F24/'SHEET-4'!F39)*1000 -> 543.30943
A40: 12 | B40: Total H.T. + E.H.T. + L. T. | C40: Paise / kwh | D40: =D25/'SHEET-4'!D40*1000 -> 818.14291 | E40: =E25/'SHEET-4'!E40*1000 -> 762.00896 | F40: 700.26101 | G40: 669.21458 | H40: =(D40-F40)/F40 -> 0.16833995 | I40: =(E40-G40)/G40 -> 0.13866163 | N40: =(D25/'SHEET-4'!D40)*1000 -> 818.14291 | O40: =(E25/'SHEET-4'!E40)*1000 -> 762.00896 | P40: =(F25/'SHEET-4'!F40)*1000 -> 700.26101

Sheet SHEET-6
I2: [ 6 ]
A5: MADHYA GUJARAT VIJ COMPANY LIMITED
A7: III - SALES AND REVENUE DATA
A9: SALES REVENUE FIXED AND ENERGY CHARGE PAISE / UNIT AND UNITS SOLD PER CONSUMER
D11: Current Year | F11: Previous Year | H11: % Change
D12: Quarterly | E12: Cummulative | F12: Quarterly | G12: Cummulative | H12: Quarterly | I12: Cummulative
A13: [A] | B13: SALES REALISATION - FIXED CHARGES | D13: =+'SHEET-5'!D13:E13 -> July-2023 to Sept-2023 | F13: =+'SHEET-5'!F13:G13 -> July-2022 to Sept-2022
A14: 1 | B14: H. T. | C14: Paise / KWH | D14: 90.930599 | E14: 91.967042 | F14: 92.426083 | G14: 92.800694 | H14: =(D14-F14)/F14 -> -0.016180326 | I14: =(E14-G14)/G14 -> -0.0089832496
A15: 2 | B15: Railway | C15: Paise / KWH | D15: 0 | E15: 0 | F15: 0 | G15: 0 | H15: =(D15-F15)/F15 -> #DIV/0! | I15: =(E15-G15)/G15 -> #DIV/0!
A16: 3 | B16: Liecence | C16: Paise / KWH | D16: 0 | E16: 0 | F16: 0 | G16: 0 | H16: 0 | I16: 0
A17: 4 | B17: Total H.T. + E.H.T. | C17: Paise / KWH | D17: 90.930599 | E17: 90.930599 | F17: 92.426083 | G17: 92.800694 | H17: =(D17-F17)/F17 -> -0.016180326 | I17: =(E17-G17)/G17 -> -0.020151733
A18: 5 | B18: Residential | C18: Paise / KWH | D18: 15.624629 | E18: 17.395133 | F18: 15.346847 | G18: 16.73084 | H18: =(D18-F18)/F18 -> 0.018100247 | I18: =(E18-G18)/G18 -> 0.039704693
A19: 6 | B19: Commercial | C19: Paise / KWH | D19: 76.522258 | E19: 78.444656 | F19: 76.604946 | G19: 77.243731 | H19: =(D19-F19)/F19 -> -0.0010794079 | I19: =(E19-G19)/G19 -> 0.015547224
A20: 7 | B20: Industrial | C20: Paise / KWH
A21: 8 | B21: Other [Specify] | C21: Paise / KWH | D21: 3.4857075 | E21: 3.4840922 | F21: 3.4692466 | G21: 3.4653618 | H21: =(D21-F21)/F21 -> 0.0047448 | I21: =(E21-G21)/G21 -> 0.0054050383
A22: 9 | B22: Total L.T. Excluding Agricultural | C22: Paise / KWH | D22: 36.247732 | E22: 38.88504 | F22: 35.473107 | G22: 37.366066 | H22: =(D22-F22)/F22 -> 0.021836965 | I22: =(E22-G22)/G22 -> 0.040651163
A23: 10 | B23: Agricultural | C23: Paise / KWH | D23: 24.385123 | E23: 16.345515 | F23: 56.343948 | G23: 35.37369 | H23: =(D23-F23)/F23 -> -0.56720955 | I23: =(E23-G23)/G23 -> -0.53791887
A24: 11 | B24: Total L. T. Including Agricultural | C24: Paise / KWH | D24: 35.216162 | E24: 35.879109 | F24: 37.2436 | G24: 37.093964 | H24: =(D24-F24)/F24 -> -0.0544372 | I24: =(E24-G24)/G24 -> -0.032750728
A25: 12 | B25: Total H.T. + E.H.T. + L. T. | C25: Paise / KWH | D25: 63.392925 | E25: 64.422981 | F25: 65.033276 | G25: 64.94815 | H25: =(D25-F25)/F25 -> -0.025223256 | I25: =(E25-G25)/G25 -> -0.0080859807
A27: [B] | B27: SALES REALISATION - ENERGY CHARGES
A29: 1 | B29: H. T. | C29: Paise / KWH | D29: 418.94904 | E29: 418.9172 | F29: 417.76285 | G29: 417.84957 | H29: =(D29-F29)/F29 -> 0.0028393889 | I29: =(E29-G29)/G29 -> 0.0025550495
A30: 2 | B30: Railway | C30: Paise / KWH | D30: 0 | E30: 0 | F30: 0 | G30: 0 | H30: =(D30-F30)/F30 -> #DIV/0! | I30: =(E30-G30)/G30 -> #DIV/0!
A31: 3 | B31: Liecence | C31: Paise / KWH | D31: 0 | E31: 0 | F31: 0 | G31: 0 | H31: 0 | I31: 0
A32: 4 | B32: Total H.T. + E.H.T. | C32: Paise / KWH | D32: 418.94904 | E32: 418.9172 | F32: 417.76285 | G32: 417.84957 | H32: =(D32-F32)/F32 -> 0.0028393889 | I32: =(E32-G32)/G32 -> 0.0025550495
A33: 5 | B33: Residential | C33: Paise / KWH | D33: 371.14776 | E33: 366.84359 | F33: 367.05571 | G33: 364.62341 | H33: =(D33-F33)/F33 -> 0.011148311 | I33: =(E33-G33)/G33 -> 0.0060889571
A34: 6 | B34: Commercial | C34: Paise / KWH | D34: 458.83099 | E34: 460.13361 | F34: 465.56174 | G34: 463.1321 | H34: =(D34-F34)/F34 -> -0.014457271 | I34: =(E34-G34)/G34 -> -0.0064743937
A35: 7 | B35: Industrial | C35: Paise / KWH | E35: #DIV/0! | G35: #DIV/0!
A36: 8 | B36: Other [Specify] | C36: Paise / KWH | D36: 330.89191 | E36: 338.40321 | F36: 342.67161 | G36: 338.04816 | H36: =(D36-F36)/F36 -> -0.034376044 | I36: =(E36-G36)/G36 -> 0.0010503019
A37: 9 | B37: Total L.T. Excluding Agricultural | C37: Paise / KWH | D37: 399.71526 | E37: 399.30072 | F37: 399.1623 | G37: 397.95898 | H37: =(D37-F37)/F37 -> 0.0013853048 | I37: =(E37-G37)/G37 -> 0.0033715399
A38: 10 | B38: Agricultural (Incl. Tariff Comp.) | C38: Paise / KWH | D38: 82.6247 | E38: 81.90538 | F38: 86.905245 | G38: 83.079 | H38: =(D38-F38)/F38 -> -0.049255323 | I38: =(E38-G38)/G38 -> -0.01412656
A39: 11 | B39: Total L. T. Including Agricultural | C39: Paise / KWH | D39: 372.14113 | E39: 356.97203 | F39: 372.67325 | G39: 354.95525 | H39: =(D39-F39)/F39 -> -0.0014278406 | I39: =(E39-G39)/G39 -> 0.0056817896
B40: Total H.T. + E.H.T. + L. T. | C40: Paise / KWH | D40: 395.81355 | E40: 388.49673 | F40: 395.38019 | G40: 386.40334 | H40: =(D40-F40)/F40 -> 0.0010960529 | I40: =(E40-G40)/G40 -> 0.0054176191
A42: [C] | B42: UNIT SOLD PER CONSUMER
A44: 1 | B44: H. T. | C44: KWH | D44: ='SHEET-4'!D29/'SHEET-4'!D14*10^6 -> 486010.1 | E44: ='SHEET-4'!E29/'SHEET-4'!E14*10^6 -> 1038498.3 | F44: 502044.93 | G44: 998481.16 | H44: =(D44-F44)/F44 -> -0.031939027 | I44: =(E44-G44)/G44 -> 0.040078029
A45: 2 | B45: Railway | C45: KWH | D45: 0 | E45: 0 | F45: 0 | G45: 0 | H45: =(D45-F45)/F45 -> #DIV/0! | I45: =(E45-G45)/G45 -> #DIV/0!
A46: 3 | B46: Liecence | C46: KWH | D46: 0 | E46: =D46 -> 0 | F46: 0 | G46: 0 | H46: 0 | I46: 0
A47: 4 | B47: Total H.T. + E.H.T. | C47: KWH | D47: ='SHEET-4'!D32/'SHEET-4'!D17*10^6 -> 486010.1 | E47: ='SHEET-4'!E32/'SHEET-4'!E17*10^6 -> 1038498.3 | F47: 502044.93 | G47: 998481.16 | H47: =(D47-F47)/F47 -> -0.031939027 | I47: =(E47-G47)/G47 -> 0.040078029
A48: 5 | B48: Residential | C48: KWH | D48: ='SHEET-4'!D33/'SHEET-4'!D18*10^6 -> 301.89637 | E48: ='SHEET-4'!E33/'SHEET-4'!E18*10^6 -> 626.17793 | F48: 294.8191 | G48: 636.87527 | H48: =(D48-F48)/F48 -> 0.024005484 | I48: =(E48-G48)/G48 -> -0.016796603
A49: 6 | B49: Commercial | C49: KWH | D49: ='SHEET-4'!D34/'SHEET-4'!D19*10^6 -> 1224.4555 | E49: ='SHEET-4'!E34/'SHEET-4'!E19*10^6 -> 2464.9938 | F49: 1252.8043 | G49: 2718.0977 | H49: =(D49-F49)/F49 -> -0.022628272 | I49: =(E49-G49)/G49 -> -0.093118006
A50: 7 | B50: Industrial | C50: KWH
...

Sheet SHEET-7
E1: [7]
A4: MADHYA GUJARAT VIJ COMPANY LIMITED
A6: IV - FINANCIAL DATA
C8: Current Year [Provisional] | D8: Previous Year | E8: % Change
C9: April to Sept-23 | D9: April to Sept-22
A10: [A] | B10: REVENUE | C10: Rs. In Crores | D10: Rs. In Crores
A11: 1 | B11: Sale of Electricity | C11: 5160.98 | D11: 4472.97 | E11: =(C11-D11)/D11 -> 0.15381503
A12: 2 | B12: Misc. Revenue Recovery | C12: 53.49 | D12: 53.68 | E12: =(C12-D12)/D12 -> -0.0035394933
A13: 3 | B13: Government Subsidy FOR AG. | C13: 35.36 | D13: 34.39 | E13: =(C13-D13)/D13 -> 0.028205874
A14: 4 | B14: Other Income | C14: 110.2 | D14: 143.91 | E14: =(C14-D14)/D14 -> -0.23424362
A15: 5 | B15: Total Income | C15: =SUM(C11:C14) -> 5360.03 | D15: =SUM(D11:D14) -> 4704.95 | E15: =(C15-D15)/D15 -> 0.13923209
A17: [B] | B17: EXPENSES
B18: Operating Expenses
A19: 1 | B19: Power Purchase Costs net of trading Credit | C19: =4002.14+656.29 -> 4658.43 | D19: 4292.05 | E19: =(C19-D19)/D19 -> 0.085362472
A20: 2 | B20: Fixed
A21: 3 | B21: Variable
A22: 4 | B22: Fuel Expense | E22: 0
A23: 5 | B23: Employee Cost | C23: =+'SHEET-3'!E16 -> 305.45 | D23: 291.8 | E23: =(C23-D23)/D23 -> 0.046778615
A24: 6 | B24: Repairs and Maintenance | C24: =+'SHEET-3'!E18 -> 64.65 | D24: 40.86 | E24: =(C24-D24)/D24 -> 0.58223201
A25: 7 | B25: Administrative and General Expenses | C25: =24.93+24.81 -> 49.74 | D25: 46.94 | E25: =(C25-D25)/D25 -> 0.059650618
A26: 8 | B26: Other Operating Costs | C26: =9.29+5.62 -> 14.91 | D26: 26.3 | E26: =(C26-D26)/D26 -> -0.43307985
A28: 9 | B28: Depreciation | C28: =+'SHEET-3'!E19 -> 147.28 | D28: 134.76 | E28: =(C28-D28)/D28 -> 0.092905907
A29: 10 | B29: Interest | C29: =+'SHEET-3'!E17 -> 41.88 | D29: 24.28 | E29: =(C29-D29)/D29 -> 0.72487644
A30: 11 | B30: Other Expenses [Prior Period] | C30: 0 | D30: 0 | E30: =(C30-D30)/D30 -> #DIV/0!
A31: 12 | B31: Misc. If any | C31: =+'SHEET-3'!E22*0 -> 0 | D31: 0 | E31: 0
A32: 13 | B32: Less : Expenses Capitalized | C32: 0 | D32: 0
A33: 14 | B33: Total Expenses 1 to 13] | C33: =SUM(C19:C32) -> 5282.34 | D33: =SUM(D19:D32) -> 4856.99 | E33: =(C33-D33)/D33 -> 0.087574815
A35: [C] | B35: Surplus [deficit] excluding rate of return | C35: =C15-C33 -> 77.69 | D35: =D15-D33 -> -152.04 | E35: =(C35-D35)/D35 -> -1.510984
A37: NOTE : Power Purchase Cost is based on provisional bills received from GUVNL.

Sheet Meter tesing & defective Q-2
B1: MGVCL
B2: V - DISTRIBUTION - KEY DATA | I2: FY 2023-24 Q-II (JUL-23 TO SEP-23)
B3: Meter testing and details of non-working defective meters
B4: (A) | C4: Meter testing | E4: Total capacity of laboratory | F4: Tested during the period | G4: Pending for testing at the end of the period
C5: Single Phase | D5: No. | F5: 68878 | G5: 204972
C6: Three Phase | D6: No. | F6: 16224 | G6: 38390
C7: Total | D7: No. | F7: 85102 | G7: 243362
B9: (B) | C9: Non-working/ Defective meters | E9: Defected - op.balance | F9: Added | G9: Total to be attended | H9: Replaced / repaired | I9: Pending at the end of the period
C10: Single Phase | D10: No. | E10: 6744 | F10: 35238 | G10: 41982 | H10: 31276 | I10: 10706
C11: Three Phase | D11: No. | E11: 554 | F11: 5793 | G11: 6347 | H11: 4366 | I11: 1981
C12: Total | D12: No. | E12: 7298 | F12: 41031 | G12: 48329 | H12: 35642 | I12: 12687
B13: Since the nos. of pending untested meters are normally quite high, action being taken by DISCOMs to increase the nos. of test benches at various locations so that almost nil outstanding balance should accrue.

Sheet T&D
B1: MGVCL - V - DISTRIBUTION - KEY DATA
B3: Dist losses in Urban>25%, Industrial>10% and GIDC>5% feeders
B4: Category | C4: Circle | D4: Q-II-JUL-23 TO SEP-23 | H4: Q-II-JUL-22 TO SEP-22 | K4: Nos of feeders having more than 5% where losses increased in current period | L4: Reason thereof and action being taken
D5: Total nos. of feeders | E5: Nos. of feeders having losses more than 5% | F5: Overall % losses | H5: Total nos. of feeders | I5: Nos. of feeders having losses more than 5% | J5: Overall % losses
B6: GIDC | C6: Baroda O&M | D6: 35 | E6: 2 | F6: 1.2100041 | H6: 37 | I6: 1 | J6: 1.8738896 | K6: 2 | L6: Various steps are being taken to reduce the losses of feeder having high losses
C7: Anand | D7: 19 | E7: 1+ 2* | F7: 0.7074764 | H7: 17 | I7: 2 | J7: 0.3848542 | K7: 1
C8: Nadiad | D8: 1 | E8: 0 | F8: 1.9146196 | H8: 1 | I8: 0 | J8: 2.0973422 | K8: 0
C9: Baroda City | D9: 17 | E9: 1+1* | F9: 1.6018738 | H9: 16 | I9: 1 | J9: 3.230286 | K9: 1
C10: Godhra | D10: 22 | E10: 2+5* | F10: 2.9652432 | H10: 17 | I10: 3 | J10: 1.4697798 | K10: 0
C11: Total | D11: =SUM(D6:D10) -> 94 | E11: 6 + 8* | F11: 1.6020938 | H11: 88 | I11: =SUM(I6:I10) -> 7 | J11: 1.8331459 | K11: =SUM(K6:K10) -> 4
D12: * Newly created feeders
B13: Category | C13: Circle | D13: =D4 -> Q-II-JUL-23 TO SEP-23 | H13: =H4 -> Q-II-JUL-22 TO SEP-22 | K13: Nos of feeders having more than 25% where losses increased in current period | L13: Reason thereof and action being taken
D14: Total nos. of feeders | E14: Nos. of feeders having losses more than 25% | F14: Overall % losses | H14: Total nos. of feeders | I14: Nos. of feeders having losses more than 25% | J14: Overall % losses
B15: URBAN | C15: Baroda O&M | D15: 23 | E15: 1 + 1* | F15: 8.6084696 | H15: 19 | I15: 1 | J15: 9.5626009 | K15: 1 | L15: Various steps are being taken to reduce the losses of feeder having high losses
C16: Anand | D16: 48 | E16: 1 | F16: 7.4326702 | H16: 48 | I16: 2 | J16: 7.6172143 | K16: 0
C17: Nadiad | D17: 41 | E17: 2 | F17: 10.06332 | H17: 42 | I17: 3 | J17: 9.8540064 | K17: 1
C18: Baroda City | D18: 284 | E18: 3+ 3* | F18: 6.6906364 | H18: 270 | I18: 11 | J18: 5.7325503 | K18: 1
C19: Godhra | D19: 49 | E19: 8 + 1* | F19: 20.886034 | H19: 48 | I19: 9 | J19: 20.667776 | K19: 2
C20: Total | D20: =SUM(D15:D19) -> 445 | E20: 15 + 5* | F20: 9.0150879 | H20: 427 | I20: 26 | J20: 8.51953 | K20: =SUM(K15:K19) -> 5
D21: * Newly created feeders
B22: Category | C22: Circle | D22: =D13 -> Q-II-JUL-23 TO SEP-23 | H22: =H13 -> Q-II-JUL-22 TO SEP-22 | K22: Nos of feeders having more than 10% where losses increased in current period | L22: Reason thereof and action being taken
D23: Total nos. of feeders | E23: Nos. of feeders having losses more than 10% | F23: Overall % losses | H23: Total nos. of feeders | I23: Nos. of feeders having losses more than 10% | J23: Overall % losses
B24: IND | C24: Baroda O&M | D24: 62 | E24: 4 + 1* | F24: 2.1694404 | H24: 58 | I24: 2 | J24: 2.3878041 | K24: 4 | L24: Various steps are being taken to reduce the losses of feeder having high losses
C25: Anand | D25: 8 | E25: 0 | F25: -1.3772688 | H25: 6 | I25: 0 | J25: 1.9569578 | K25: 0
C26: Nadiad | D26: 15 | E26: 0 | F26: 1.5773056 | H26: 13 | I26: 2 | J26: 1.683878 | K26: 0
C27: Baroda City | D27: 3 | E27: 0 | F27: 0.18815144 | H27: 3 | I27: 1 | J27: 2.8819715 | K27: 0
C28: Godhra | D28: 46 | E28: 2 + 1* | F28: 1.7175897 | H28: 43 | I28: 4 | J28: 3.7272693 | K28: 1
C29: Total | D29: =SUM(D24:D28) -> 134 | E29: 6 + 2* | F29: 1.8299955 | H29: 123 | I29: 9 | J29: 2.7759071 | K29: =SUM(K24:K28) -> 5
D30: * Newly created feeders

Sheet Sheet1
A1: SR | B1: CATEGORY | C1: BOARD CHARGE | D1: B. CHG(THEFT) | E1: MIN CHG DIS. | F1: ELE. DUTY | G1: TAX ON SALE | H1: RENT | I1: SUNDRY CHG. | J1: D. P. C. | K1: ASSESSMENT
A2: =========================================================================================================================================
A3: 1 | B3: Residential | C3: 3.1160693e+09 | D3: 17043897 | E3: 172650.77 | F3: 3.4360099e+08 | G3: 0 | H3: 73554896 | I3: 227109.15 | J3: 18633312 | K3: 3.5693021e+09
A4: 2 | B4: General Lighting Purpose | C4: 71089140 | D4: 101753.87 | E4: 17040 | F4: 7364652.5 | G4: 0 | H4: 748929.5 | I4: 23532.4 | J4: 453786.14 | K4: 79798834
A5: 3 | B5: Manufacturing & Service Industries | C5: 2.1273928e+09 | D5: 10987310 | E5: 55383.85 | F5: 3.3524209e+08 | G5: 0 | H5: 15904544 | I5: 285434.14 | J5: 5771228.1 | K5: 2.4956387e+09
B6: TEMP | C6: 78023457 | D6: 0 | E6: 0 | F6: 19271785 | G6: 0 | H6: 469841 | I6: 303675.78 | J6: 245968.69 | K6: 98314728
B7: TOTAL | C7: 2.2054162e+09 | D7: 10987310 | E7: 55383.85 | F7: 3.5451387e+08 | G7: 0 | H7: 16374385 | I7: 589109.92 | J7: 6017196.8 | K7: 2.5939535e+09
A8: 4 | B8: Water Works | C8: 2.2913085e+08 | D8: 7024.2 | E8: 360 | F8: 3568735.5 | G8: 0 | H8: 1043824 | I8: 84685 | J8: 38964480 | K8: 2.7279996e+08
A9: 5 | B9: Agricultural | C9: 2.248283e+08 | D9: 1100948.8 | E9: 69162.01 | F9: 32851.34 | G9: 0 | H9: 6727882.5 | I9: 96521.78 | J9: 1507359.2 | K9: 2.3436303e+08
A10: 6 | B10: Street Light | C10: 93088769 | D10: 0 | E10: 0 | F10: 833815.28 | G10: 0 | H10: 302109.5 | I10: 89765.18 | J10: 4559629.6 | K10: 98874088
A11: 7 | B11: PDC | C11: 2188369.9 | D11: 52177.62 | E11: 0 | F11: 239472.02 | G11: 0 | H11: 183965.5 | I11: 10954.81 | J11: 1881544.9 | K11: 4556484.7
A12: 8 | B12: UNCONNECTED | C12: 1346751 | D12: 29611.2 | E12: 0 | F12: 0 | G12: 0 | H12: 0 | I12: 0 | J12: 12750.19 | K12: 1389112.4
A13: 9 | B13: NON-CONS | C13: 0 | D13: 3642101.8 | E13: 0 | F13: 384932.08 | G13: 0 | H13: 0 | I13: 46327.9 | J13: 55.4 | K13: 4073417.1
A14: 10 | B14: TOT(NORMAL) | C14: 5.8615991e+09 | D14: 29240934 | E14: 314596.63 | F14: 6.9064313e+08 | G14: 0 | H14: 98282186 | I14: 807047.65 | J14: 69889795 | K14: 6.7507768e+09
A15: 11 | B15: TOT(PCD+UC) | C15: 3535120.9 | D15: 81788.82 | E15: 0 | F15: 239472.02 | G15: 0 | H15: 183965.5 | I15: 10954.81 | J15: 1894295.1 | K15: 5945597.1
A16: 12 | B16: TOT(TEMP+NON) | C16: 78023457 | D16: 3642101.8 | E16: 0 | F16: 19656717 | G16: 0 | H16: 469841 | I16: 350003.68 | J16: 246024.09 | K16: 1.0238815e+08
A17: 13 | B17: GRAND TOTAL | C17: 5.9431577e+09 | D17: 32964824 | E17: 314596.63 | F17: 7.1053932e+08 | G17: 0 | H17: 98935992 | I17: 1168006.1 | J17: 72030114 | K17: 6.8591105e+09
A18: =========================================================================================================================================
A19: BREAK-UP OF BOARD CHARGES FROM Apr-2014 TO Jun-2014
A20: =========================================================================================================================================
A21: SR | B21: CATEGORY | C21: CONSUMERS | D21: UNITS BILLED | E21: FIXED-CHRG | F21: ENEG-CHRG | G21: FUEL-COST | H21: ANNUAL-CHG | I21: PRO-BILL | J21: DEBIT-ADJ | K21: BOARD-CHG
A22: =========================================================================================================================================
A23: 1 | B23: Residential | C23: 1178560 | D23: 547896815 | E23: 1.0893635e+08 | F23: 2.2777783e+09 | G23: 6.988271e+08 | H23: 0 | I23: 23878038 | J23: 6649459.7 | K23: 3.1160693e+09
A24: 2 | B24: General Lighting Purpose | C24: 10324 | D24: 12238984 | E24: 3352066 | F24: 49361467 | G24: 14977588 | H24: 0 | I24: 3186689.2 | J24: 211329.99 | K24: 71089140
A25: 3 | B25: Manufacturing & Service Industries | C25: 141223 | D25: 308942121 | E25: 2.0981632e+08 | F25: 1.5067713e+09 | G25: 3.8397436e+08 | H25: 243868.04 | I25: 12422367 | J25: 14164516 | K25: 2.1273928e+09
B26: TEMP | C26: 4704 | D26: 8930434 | E26: 26180159 | F26: 41354592 | G26: 10417809 | H26: 0 | I26: 0 | J26: 70898.07 | K26: 78023457
B27: TOTAL | C27: 145927 | D27: 317872555 | E27: 2.3599648e+08 | F27: 1.5481259e+09 | G27: 3.9439217e+08 | H27: 243868.04 | I27: 12422367 | J27: 14235414 | K27: 2.2054162e+09
A28: 4 | B28: Water Works | C28: 8003 | D28: 48527153 | E28: 1355207.1 | F28: 1.6440131e+08 | G28: 58237666 | H28: 0 | I28: 2690678.8 | J28: 2445989 | K28: 2.2913085e+08
A29: 5 | B29: Agricultural | C29: 64962 | D29: 168792969 | E29: 32021769 | F29: 1.8627927e+08 | G29: 0 | H29: 0 | I29: 5083644.2 | J29: 1443616.6 | K29: 2.248283e+08
A30: 6 | B30: Street Light | C30: 4333 | D30: 15223858 | E30: 212629.18 | F30: 71319701 | G30: 20672610 | H30: 0 | I30: 303088.92 | J30: 580739.07 | K30: 93088769
A31: 7 | B31: PDC | C31: 75006 | D31: 254352 | E31: 0 | F31: 0 | G31: 0 | H31: 0 | I31: 0 | J31: 2188369.9 | K31: 2188369.9
A32: 8 | B32: UNCONNECTED | C32: 2231 | D32: 0 | E32: 1316135.1 | F32: 5130 | G32: 0 | H32: 0 | I32: 0 | J32: 25485.9 | K32: 1346751
A33: 9 | B33: NON-CONS | C33: 255 | D33: 740096 | E33: 0 | F33: 0 | G33: 0 | H33: 0 | I33: 0 | J33: 0 | K33: 0
A34: 10 | B34: TOT(NORMAL) | C34: 1407405 | D34: 1101621900 | E34: 3.5569434e+08 | F34: 4.2559114e+09 | G34: 1.1766893e+09 | H34: 243868.04 | I34: 47564507 | J34: 25495650 | K34: 5.8615991e+09
A35: 11 | B35: TOT(PDC+UN) | C35: 77237 | D35: 254352 | E35: 1316135.1 | F35: 5130 | G35: 0 | H35: 0 | I35: 0 | J35: 2213855.8 | K35: 3535120.9
A36: 12 | B36: TOT(TEMP+NON) | C36: 4959 | D36: 9670530 | E36: 26180159 | F36: 41354592 | G36: 10417809 | H36: 0 | I36: 0 | J36: 70898.07 | K36: 78023457
A37: 13 | B37: GRAND TOTAL | C37: 1489601 | D37: 1111546782 | E37: 3.8319064e+08 | F37: 4.2972711e+09 | G37: 1.1871071e+09 | H37: 243868.04 | I37: 47564507 | J37: 27780404 | K37: 5.9431577e+09
A38: =========================================================================================================================================
A41: LT C. G. L. FROM Apr-2014 TO Jun-2014
A42: LAST MONTH END DATE : 30-06-2014 | E42: PERIOD: Apr-2014 TO Jun-2014 | I42: PROCESSED ON: 18-Dec-2014
...
