Workbook
Name \1: #REF!
Name \1: #REF!
Name \2: [1]TLPPOCT!#REF!
Name \2: [1]TLPPOCT!#REF!
Name \a: #REF!
Name \a: #REF!
Name \b: #REF!
Name \b: #REF!
Name \C: #REF!
Name \C: #REF!
Name \f: #REF!
Name \f: #REF!
Name \H: '[2]STN WISE EMR'!#REF!
Name \H: '[2]STN WISE EMR'!#REF!
Name \L: [3]DLC!$HR$111
Name \p: #REF!
Name \p: #REF!
Name \Q: [3]DLC!$GS$323:$GS$335
Name \V: '[4]R.Hrs. Since Comm'!#REF!
Name \V: '[4]R.Hrs. Since Comm'!#REF!
Name \X: #REF!
Name \X: #REF!
Name \Z: #REF!
Name \Z: #REF!
Name ________SF01: [5]LMAIN!#REF!
Name ________SF01: [5]LMAIN!#REF!
Name ________SF010907: [5]LMAIN!#REF!
Name ________SF010907: [5]LMAIN!#REF!
Name ________SF02: [5]LMAIN!#REF!
Name ________SF02: [5]LMAIN!#REF!
Name ________SF020506: [5]LMAIN!#REF!
Name ________SF020506: [5]LMAIN!#REF!
Name ________SF0209: [5]LMAIN!#REF!
Name ________SF0209: [5]LMAIN!#REF!
Name ________SF020907: [5]LMAIN!#REF!
Name ________SF020907: [5]LMAIN!#REF!
Name ________SF020912: [5]LMAIN!#REF!
Name ________SF020912: [5]LMAIN!#REF!
Name ________SF03: [5]LMAIN!#REF!
Name ________SF03: [5]LMAIN!#REF!
Name ________SF030907: [5]LMAIN!#REF!
Name ________SF030907: [5]LMAIN!#REF!
Name ________SF044: [5]LMAIN!#REF!
Name ________SF044: [5]LMAIN!#REF!
Name ________SF07: [5]LMAIN!#REF!
Name ________SF07: [5]LMAIN!#REF!
Name ________SF070805: [5]LMAIN!#REF!
Name ________SF070805: [5]LMAIN!#REF!
Name ________SF070809: [5]LMAIN!#REF!
Name ________SF070809: [5]LMAIN!#REF!
Name ________SF0709: [5]LMAIN!#REF!
Name ________SF0709: [5]LMAIN!#REF!
Name ________SF070907: [5]LMAIN!#REF!
Name ________SF070907: [5]LMAIN!#REF!
Name ________SF080706: [5]LMAIN!#REF!
Name ________SF080706: [5]LMAIN!#REF!
Name ________SF080709: [5]LMAIN!#REF!
Name ________SF080709: [5]LMAIN!#REF!
Name ________SF090726: [5]LMAIN!#REF!
Name ________SF090726: [5]LMAIN!#REF!

Sheet SHEET-1
I2: [ 1 ]
A5: MADHYA GUJARAT VIJ COMPANY LIMITED
A8: I - KEY PARAMETERS
A10: POWER SUPPLY POSITION
D12: Current Year | F12: Previous Year | H12: % Change
D13: Quarterly | E13: Cummulative | F13: Quarterly | G13: Cummulative | H13: Quarterly | I13: Cummulative
D14: April, 2024 to June, 2024 | F14: April, 2023 to June, 2023
A16: I | B16: POWER PURCHASE
A17: 1 | B17: Purchase From CPPS/Wind Farms/Solar | C17: MUS | D17: =+E17 -> 4340.76 | E17: 4340.76 | F17: =+G17 -> 4086.414 | G17: 4086.414 | H17: =(D17-F17)/F17 -> 0.062241858 | I17: =(E17-G17)/G17 -> 0.062241858
A18: 2 | B18: Purchase from GUVNL [Net of Trading Credit & UI] | C18: MUS
A19: 3 | B19: Purchase from Central Sector | C19: MUS
B20: [a] Share | C20: MUS
B21: [b] Actual Purchase | C21: MUS
B22: Total Purchase of Power | C22: MUS | D22: =+D17+D20+D21 -> 4340.76 | E22: =+E17+E20+E21 -> 4340.76 | F22: =+F17+F20+F21 -> 4086.414 | G22: =+G17+G20+G21 -> 4086.414 | H22: =(D22-F22)/F22 -> 0.062241858 | I22: =(E22-G22)/G22 -> 0.062241858
A24: II | B24: ENERGY BALANCE SHEET
A25: 1 | B25: Total Generation + Purchase of Power | C25: MUS | D25: =+D17 -> 4340.76 | E25: =+E22 -> 4340.76 | F25: =+F17 -> 4086.414 | G25: =+G22 -> 4086.414 | H25: =(D25-F25)/F25 -> 0.062241858 | I25: =(E25-G25)/G25 -> 0.062241858
A26: 2 | B26: Units Sent Out | C26: MUS | D26: =+D25 -> 4340.76 | E26: =+E25 -> 4340.76 | F26: =+F25 -> 4086.414 | G26: =+G25 -> 4086.414 | H26: =(D26-F26)/F26 -> 0.062241858 | I26: =(E26-G26)/G26 -> 0.062241858
A27: 3 | B27: Metered + Estimated Unmetered & Unbilled Sales | C27: MUS | D27: =+E27 -> 3858.514 | E27: 3858.514 | F27: =+G27 -> 3571.9402 | G27: 3571.9402 | H27: =(D27-F27)/F27 -> 0.080229156 | I27: =(E27-G27)/G27 -> 0.080229156
A28: 4 | B28: T&D Losses [2-3] | C28: MUS | D28: =+D26-D27 -> 482.246 | E28: =+E26-E27 -> 482.246 | F28: =+F26-F27 -> 514.47375 | G28: =+G26-G27 -> 514.47375 | H28: =(D28-F28)/F28 -> -0.062642168 | I28: =(E28-G28)/G28 -> -0.062642168
A29: 5 | B29: T & D Loss [4] / [2] * 100 | C29: % | D29: =+(D28/D26) -> 0.11109714 | E29: =+(E28/E26) -> 0.11109714 | F29: =+(F28/F26) -> 0.12589859 | G29: =+(G28/G26) -> 0.12589859 | H29: =D29-F29 -> -0.014801453 | I29: =E29-G29 -> -0.014801453
A31: III | B31: SALES, BILLING AND REALISATION
A32: 1 | B32: Billed [Metered + Unmetered] with E. D. | C32: Rs. In Crores | D32: =+E32 -> 3032.77 | E32: =+'SHEET-5'!E25+79.26+100.66+110.5 -> 3032.77 | F32: =+'SHEET-5'!F25+85.18+96.53+103.5 -> 2845.05 | G32: =+F32 -> 2845.05 | H32: =(D32-F32)/F32 -> 0.065981266 | I32: =(E32-G32)/G32 -> 0.065981266
A33: 2 | B33: Billed - Theft Assessment
A34: 3 | B34: Total Billed [1 + 2] | C34: Rs. In Crores | D34: =+D32 -> 3032.77 | E34: =+E32 -> 3032.77 | F34: =+F32 -> 2845.05 | G34: =+F34 -> 2845.05 | H34: =(D34-F34)/F34 -> 0.065981266 | I34: =(E34-G34)/G34 -> 0.065981266
A35: 4 | B35: Amount realised [Metered + Unmetered] with E. D. | C35: Rs. In Crores | D35: =+E35 -> 2845.0415 | E35: =+E34*93.81% -> 2845.0415 | F35: =+G35 -> 2697.9609 | G35: =+G34*94.83% -> 2697.9609 | H35: =(D35-F35)/F35 -> 0.054515475 | I35: =(E35-G35)/G35 -> 0.054515475
A36: 5 | B36: Amount realised against Theft of Energy
A37: 6 | B37: Total Amount realised [4 + 5] | C37: Rs. In Crores | D37: =+D35 -> 2845.0415 | E37: =+E35 -> 2845.0415 | F37: =+F35 -> 2697.9609 | G37: =+G35 -> 2697.9609 | H37: =(D37-F37)/F37 -> 0.054515475 | I37: =(E37-G37)/G37 -> 0.054515475
A38: 7 | B38: Amount realised as % of amount billed [6] / [3] | C38: % | D38: =+D37/D34 -> 0.9381 | E38: =+E37/E34 -> 0.9381 | F38: =+F37/F34 -> 0.9483 | G38: =+G37/G34 -> 0.9483 | H38: =D38-F38 -> -0.0102 | I38: =H38 -> -0.0102

Sheet SHEET-2
I2: [ 2 ]
A5: MADHYA GUJARAT VIJ COMPANY LIMITED
A8: II - KEY PARAMETERS
A10: COST OF SUPPLY - 2
D12: Current Year | F12: Previous Year | H12: % Change
D13: Quarterly | E13: Cummulative | F13: Quarterly | G13: Cummulative | H13: Quarterly | I13: Cummulative
D14: =+'SHEET-1'!D14:E14 -> April, 2024 to June, 2024 | F14: =+'SHEET-1'!F14:G14 -> April, 2023 to June, 2023
A15: I | B15: COST OF SUPPLY
A16: 1 | B16: Average Cost of Purchase of Power [Net] | C16: Rs. /KWH | D16: =ROUND(+('SHEET-3'!D15/'SHEET-1'!D22)*10,2) -> 5.63 | E16: =ROUND(+('SHEET-3'!E15/'SHEET-1'!E22)*10,2) -> 5.63 | F16: =ROUND(+('SHEET-3'!F15/'SHEET-1'!F22)*10,2) -> 5.65 | G16: =ROUND(+('SHEET-3'!G15/'SHEET-1'!G22)*10,2) -> 5.65 | H16: =(D16-F16)/F16 -> -0.003539823 | I16: =(E16-G16)/G16 -> -0.003539823
A17: 2 | B17: Cost at Bus Bar | C17: Rs. /KWH
A18: 3 | B18: Costo of Supply at EHT [at 66 KV] | C18: Rs. /KWH
A19: 4 | B19: Cost of Supply at LT [at 11 KV] | C19: Rs. /KWH
A20: 5 | B20: Cost of Supply at HT [at 11 KV] | C20: Rs. /KWH
A21: 6 | B21: Average Cost of Supply per unit of sales | C21: Rs. /KWH | D21: =ROUND(+('SHEET-3'!D23/'SHEET-1'!D27)*10,2) -> 7.22 | E21: =ROUND(+('SHEET-3'!E23/'SHEET-1'!E27)*10,2) -> 7.22 | F21: =ROUND(+('SHEET-3'!F23/'SHEET-1'!F27)*10,2) -> 7.4 | G21: =ROUND(+('SHEET-3'!G23/'SHEET-1'!G27)*10,2) -> 7.4 | H21: =(D21-F21)/F21 -> -0.024324324 | I21: =(E21-G21)/G21 -> -0.024324324
A23: II | B23: SALES REALISATION WITHOUT E. D.
A24: 1 | B24: H. T. | C24: Rs. /KWH | D24: =ROUND(+'SHEET-5'!D32/100,2) -> 7.67 | E24: =ROUND(+'SHEET-5'!E32/100,2) -> 7.67 | F24: =ROUND(+'SHEET-5'!F32/100,2) -> 7.56 | G24: =ROUND(+'SHEET-5'!G32/100,2) -> 7.56 | H24: =(D24-F24)/F24 -> 0.014550265 | I24: =(E24-G24)/G24 -> 0.014550265
A25: 2 | B25: L. T. | C25: Rs. /KWH | D25: =ROUND(+'SHEET-5'!D39/100,2) -> 6.83 | E25: =ROUND(+'SHEET-5'!E39/100,2) -> 6.83 | F25: =ROUND(+'SHEET-5'!F39/100,2) -> 6.83 | G25: =ROUND(+'SHEET-5'!G39/100,2) -> 6.83 | H25: =(D25-F25)/F25 -> 0 | I25: =(E25-G25)/G25 -> 0
A26: 3 | B26: Average Sales Realisation | C26: Rs. /KWH | D26: =ROUND(+'SHEET-5'!D40/100,2) -> 7.2 | E26: =ROUND(+'SHEET-5'!E40/100,2) -> 7.2 | F26: =ROUND(+'SHEET-5'!F40/100,2) -> 7.17 | G26: =ROUND(+'SHEET-5'!G40/100,2) -> 7.17 | H26: =(D26-F26)/F26 -> 0.0041841004 | I26: =(E26-G26)/G26 -> 0.0041841004
B28: Special Observation on above points
A35: NPT/GERC REPORT/APRIL, 2017 TO JUNE'2017

Sheet SHEET-3
I2: [ 3 ]
A5: MADHYA GUJARAT VIJ COMPANY LIMITED
A8: I - KEY PARAMETERS
A10: FINANCIAL DATA - 3
D12: Current Year [Provisional] | F12: Previous Year | H12: % Change
D13: Quarterly | E13: Cummulative | F13: Quarterly | G13: Cummulative | H13: Quarterly | I13: Cummulative
D14: =+'SHEET-2'!D14:E14 -> April, 2024 to June, 2024 | F14: =+'SHEET-2'!F14:G14 -> April, 2023 to June, 2023
A15: 1 | B15: Cost of Power Purchase [Net] | C15: Rs. In Crore | D15: =+E15 -> 2444.31 | E15: 2444.31 | F15: =+G15 -> 2307.96 | G15: 2307.96 | H15: =(D15-F15)/F15 -> 0.059078147 | I15: =(E15-G15)/G15 -> 0.059078147
A16: 2 | B16: Employees Cost | C16: Rs. In Crore | D16: =+'SHEET-7'!C23 -> 163.8 | E16: =+D16 -> 163.8 | F16: =+'SHEET-7'!D23 -> 165.03 | G16: =+F16 -> 165.03 | H16: =(D16-F16)/F16 -> -0.0074531903 | I16: =(E16-G16)/G16 -> -0.0074531903
A17: 3 | B17: Interest | C17: Rs. In Crore | D17: =+'SHEET-7'!C29 -> 24.08 | E17: =+D17 -> 24.08 | F17: =+'SHEET-7'!D29 -> 18.95 | G17: =+F17 -> 18.95 | H17: =(D17-F17)/F17 -> 0.2707124 | I17: =(E17-G17)/G17 -> 0.2707124
A18: 4 | B18: Repairs and Maintenance | C18: Rs. In Crore | D18: =+'SHEET-7'!C24 -> 30.79 | E18: =+D18 -> 30.79 | F18: =+'SHEET-7'!D24 -> 44.92 | G18: =+F18 -> 44.92 | H18: =(D18-F18)/F18 -> -0.31455922 | I18: =(E18-G18)/G18 -> -0.31455922
A19: 5 | B19: Depreciation | C19: Rs. In Crore | D19: =+'SHEET-7'!C28 -> 82.62 | E19: =+D19 -> 82.62 | F19: =+'SHEET-7'!D28 -> 70.81 | G19: =+F19 -> 70.81 | H19: =(D19-F19)/F19 -> 0.16678435 | I19: =(E19-G19)/G19 -> 0.16678435
A20: 6 | B20: Admin. And General Expenditure | C20: Rs. In Crore | D20: =+'SHEET-7'!C25 -> 29.03 | E20: =+D20 -> 29.03 | F20: =+'SHEET-7'!D25 -> 24.93 | G20: =+F20 -> 24.93 | H20: =(D20-F20)/F20 -> 0.16446049 | I20: =(E20-G20)/G20 -> 0.16446049
A21: 6a | B21: Expenses Capitalized | C21: Rs. In Crore | D21: =+'SHEET-7'!C32 -> 0 | E21: =+D21 -> 0 | F21: =+'SHEET-7'!D32 -> 0 | G21: =+F21 -> 0 | H21: 0 | I21: 0
A22: 7 | B22: Other Debits & Prior Period Adjustment | C22: Rs. In Crore | D22: =+'SHEET-7'!C26 -> 10.33 | E22: =+D22 -> 10.33 | F22: =+'SHEET-7'!D26 -> 9.3 | G22: =+F22 -> 9.3 | H22: =(D22-F22)/F22 -> 0.11075269 | I22: =(E22-G22)/G22 -> 0.11075269
A23: 8 | B23: Total Cost Excluding Profit / Return | C23: Rs. In Crore | D23: =+SUM(D15:D22) -> 2784.96 | E23: =+SUM(E15:E22) -> 2784.96 | F23: =+SUM(F15:F22) -> 2641.9 | G23: =+SUM(G15:G22) -> 2641.9 | H23: =(D23-F23)/F23 -> 0.054150422 | I23: =(E23-G23)/G23 -> 0.054150422
A24: 9 | B24: Capital Expenditure | C24: Rs. In Crore | D24: =+E24 -> 101.12 | E24: 101.12 | F24: 30.21 | G24: =+F24 -> 30.21 | H24: =(D24-F24)/F24 -> 2.347236 | I24: =(E24-G24)/G24 -> 2.347236
A25: 10 | B25: New Long Term Borrowings | C25: Rs. In Crore | D25: 0 | E25: =+D25 -> 0 | F25: 0 | G25: =+F25 -> 0 | H25: 0 | I25: 0
A26: 11 | B26: Other Income | C26: Rs. In Crore | D26: =+'SHEET-7'!C14 -> 62.15 | E26: =+D26 -> 62.15 | F26: =+'SHEET-7'!D14 -> 58.540613 | G26: =+F26 -> 58.540613 | H26: =(D26-F26)/F26 -> 0.061656126 | I26: =(E26-G26)/G26 -> 0.061656126
A27: 12 | B27: C.C.drawl at the end of the Quarter | C27: Rs. In Crore | D27: 0 | E27: =+D27 -> 0 | F27: 0 | G27: =+F27 -> 0 | H27: =(D27-F27)/F27 -> #DIV/0! | I27: =(E27-G27)/G27 -> #DIV/0!
A28: 13 | B28: Sales Amount [Without E. D.] [Incl. T.C/FCA] | C28: Rs. In Crore | D28: =+'SHEET-5'!D25 -> 2742.35 | E28: =+'SHEET-5'!E25 -> 2742.35 | F28: =+'SHEET-5'!F25 -> 2559.84 | G28: =+'SHEET-5'!G25 -> 2559.84 | H28: =(D28-F28)/F28 -> 0.071297425 | I28: =(E28-G28)/G28 -> 0.071297425
A29: 14 | B29: Agricultural Subsidy Received | C29: Rs. In Crore | D29: =+'SHEET-7'!C13 -> 17.15 | E29: =+D29 -> 17.15 | F29: =+'SHEET-7'!D13 -> 17.68 | G29: =+F29 -> 17.68 | H29: =(D29-F29)/F29 -> -0.029977376 | I29: =(E29-G29)/G29 -> -0.029977376
A30: 15 | B30: Misc. Revenue Related Recovery | C30: Rs. In Crore | D30: =+'SHEET-7'!C12 -> 41.58 | E30: =+D30 -> 41.58 | F30: =+'SHEET-7'!D12 -> 29.51 | G30: =+F30 -> 29.51 | H30: =(D30-F30)/F30 -> 0.40901389 | I30: =(E30-G30)/G30 -> 0.40901389
A31: 16 | B31: Total [7 to 13]
A32: 17 | B32: Cost of Power Purchase as % of Total Cost [1]/[8] | C32: % | D32: =D15/D23 -> 0.87768226 | E32: =E15/E23 -> 0.87768226 | F32: =F15/F23 -> 0.87359855 | G32: =G15/G23 -> 0.87359855 | H32: =D32-F32 -> 0.0040837182 | I32: =E32-G32 -> 0.0040837182
A37: NPT/GERC REPORT/APRIL, 2017 TO JUNE'2017
D52: =3+0.58+0.94 -> 4.52 | E52: 30066981 | F52: 5786401.8 | G52: 9381444.4 | H52: 87524122
E53: =E52/10^7 -> 3.0066981 | F53: =F52/10^7 -> 0.57864017 | G53: =G52/10^7 -> 0.93814444 | H53: =H52/10^7 -> 8.7524122
D61: 0.64
D62: =SUM(D59:D61) -> 0.64

Sheet SHEET-4
I2: [ 4]
A5: MADHYA GUJARAT VIJ COMPANY LIMITED
A7: III - SALES AND REVENUE DATA
A9: NOS. OF CONSUMERS AND UNIT SOLD
D11: Current Year | F11: Previous Year | H11: % Change
D12: Quarterly | E12: Cummulative | F12: Quarterly | G12: Cummulative | H12: Quarterly | I12: Cummulative
A13: [A] | B13: NOS. OF CONSUMERS [WITHOUT PDC] | D13: =+'SHEET-3'!D14:E14 -> April, 2024 to June, 2024 | F13: =+'SHEET-3'!F14:G14 -> April, 2023 to June, 2023
A14: 1 | B14: H. T. | C14: Nos. | D14: =3018+135 -> 3153 | E14: =D14 -> 3153 | F14: 2897 | G14: 2897 | H14: =(D14-F14)/F14 -> 0.088367276 | I14: =(E14-G14)/G14 -> 0.088367276
A15: 2 | B15: Railways | C15: Nos. | D15: 0 | E15: =D15 -> 0 | F15: 0 | G15: 0 | H15: =(D15-F15)/F15 -> #DIV/0! | I15: =(E15-G15)/G15 -> #DIV/0!
A16: 3 | B16: Liecence | C16: Nos. | D16: 0 | E16: =D16 -> 0 | F16: 0 | G16: 0 | H16: 0 | I16: 0
A17: 4 | B17: Total H.T. + E.H.T. | C17: Nos. | D17: =SUM(D14:D16) -> 3153 | E17: =D17 -> 3153 | F17: 2897 | G17: 2897 | H17: =(D17-F17)/F17 -> 0.088367276 | I17: =(E17-G17)/G17 -> 0.088367276
A18: 5 | B18: Residential | C18: Nos. | D18: 2929058 | E18: =D18 -> 2929058 | F18: 2862145 | G18: 2862145 | H18: =(D18-F18)/F18 -> 0.02337862 | I18: =(E18-G18)/G18 -> 0.02337862
A19: 6 | B19: Commercial | C19: Nos. | D19: 423299 | E19: =D19 -> 423299 | F19: 406544 | G19: 406544 | H19: =(D19-F19)/F19 -> 0.041213251 | I19: =(E19-G19)/G19 -> 0.041213251
A20: 7 | B20: Industrial | C20: Nos.
A21: 8 | B21: Others [Water Works / Public Lighting] | C21: Nos. | D21: 32486 | E21: =D21 -> 32486 | F21: 29965 | G21: 29965 | H21: =(D21-F21)/F21 -> 0.084131487 | I21: =(E21-G21)/G21 -> 0.084131487
A22: 9 | B22: Total L.T. Excluding Agricultural | C22: Nos. | D22: =SUM(D18:D21) -> 3384843 | E22: =D22 -> 3384843 | F22: 3298654 | G22: 3298654 | H22: =(D22-F22)/F22 -> 0.026128536 | I22: =(E22-G22)/G22 -> 0.026128536
A23: 10 | B23: Agricultural | C23: Nos. | D23: =225817+14 -> 225831 | E23: =D23 -> 225831 | F23: 213227 | G23: 213227 | H23: =(D23-F23)/F23 -> 0.059110713 | I23: =(E23-G23)/G23 -> 0.059110713
A24: 11 | B24: Total L. T. Including Agricultural | C24: Nos. | D24: =SUM(D22:D23) -> 3610674 | E24: =D24 -> 3610674 | F24: 3511881 | G24: 3511881 | H24: =(D24-F24)/F24 -> 0.028131078 | I24: =(E24-G24)/G24 -> 0.028131078
A25: 12 | B25: Total H.T. + E.H.T. + L. T. [WITHOUT P.D.C.] | C25: Nos. | D25: =+D17+D24 -> 3613827 | E25: =D25 -> 3613827 | F25: 3514778 | G25: 3514778 | H25: =(D25-F25)/F25 -> 0.028180727 | I25: =(E25-G25)/G25 -> 0.028180727
A27: [B] | B27: NOS. OF UNITS SOLD
A29: 1 | B29: H. T. | C29: M.KWH | D29: =+E29 -> 1698.048 | E29: 1698.048 | F29: =+G29 -> 1640.891 | G29: 1640.891 | H29: =(D29-F29)/F29 -> 0.034832905 | I29: =(E29-G29)/G29 -> 0.034832905
A30: 2 | B30: Railways | C30: M.KWH | D30: 0 | E30: =+D30 -> 0 | F30: 0 | G30: =+F30 -> 0 | H30: =(D30-F30)/F30 -> #DIV/0! | I30: =(E30-G30)/G30 -> #DIV/0!
A31: 3 | B31: Liecence | C31: M.KWH | D31: 0 | E31: 0 | F31: 0 | G31: 0 | H31: 0 | I31: 0
A32: 4 | B32: Total H.T. + E.H.T. | C32: M.KWH | D32: =D29+D30 -> 1698.048 | E32: =E29+E30 -> 1698.048 | F32: =F29+F30 -> 1640.891 | G32: =G29+G30 -> 1640.891 | H32: =(D32-F32)/F32 -> 0.034832905 | I32: =(E32-G32)/G32 -> 0.034832905
A33: 5 | B33: Residential | C33: M.KWH | D33: =+E33 -> 1030.949 | E33: 1030.949 | F33: =+G33 -> 934.81178 | G33: 934.81178 | H33: =(D33-F33)/F33 -> 0.10284126 | I33: =(E33-G33)/G33 -> 0.10284126
A34: 6 | B34: Commercial | C34: M.KWH | D34: =+E34 -> 572.86 | E34: 572.86 | F34: =+G34 -> 541.137 | G34: 541.137 | H34: =(D34-F34)/F34 -> 0.058622863 | I34: =(E34-G34)/G34 -> 0.058622863
A35: 7 | B35: Industrial | C35: M.KWH
A36: 8 | B36: Others [Water Works / Public Lighting] | C36: M.KWH | D36: =+E36 -> 117.962 | E36: 117.962 | F36: =+G36 -> 105.88 | G36: 105.88 | H36: =(D36-F36)/F36 -> 0.11411031 | I36: =(E36-G36)/G36 -> 0.11411031
A37: 9 | B37: Total L.T. Excluding Agricultural | C37: M.KWH | D37: =SUM(D33:D36) -> 1721.771 | E37: =SUM(E33:E36) -> 1721.771 | F37: =SUM(F33:F36) -> 1581.8288 | G37: =SUM(G33:G36) -> 1581.8288 | H37: =(D37-F37)/F37 -> 0.088468629 | I37: =(E37-G37)/G37 -> 0.088468629
A38: 10 | B38: Agricultural [Metered + Unmetered] | C38: M.KWH | D38: =+E38 -> 387.372 | E38: 387.372 | F38: =+G38 -> 349.22009 | G38: 349.22009 | H38: =(D38-F38)/F38 -> 0.1092489 | I38: =(E38-G38)/G38 -> 0.1092489
A39: 11 | B39: Total L. T. Including Agricultural | C39: M.KWH | D39: =SUM(D37:D38) -> 2109.143 | E39: =SUM(E37:E38) -> 2109.143 | F39: =SUM(F37:F38) -> 1931.0489 | G39: =SUM(G37:G38) -> 1931.0489 | H39: =(D39-F39)/F39 -> 0.092226632 | I39: =(E39-G39)/G39 -> 0.092226632
A40: 12 | B40: Total H.T. + E.H.T. + L. T. | C40: M.KWH | D40: =D32+D39 -> 3807.191 | E40: =E32+E39 -> 3807.191 | F40: =F32+F39 -> 3571.9399 | G40: =G32+G39 -> 3571.9399 | H40: =(D40-F40)/F40 -> 0.065860888 | I40: =(E40-G40)/G40 -> 0.065860888
A43: NPT/GERC REPORT/APRIL, 2017 TO JUNE'2017
D52: 1639.71 | E52: 5096.36
D57: 335.74 | E57: 335.74 | F57: =D40-D52 -> 2167.481
D58: 346.72 | E58: 346.72 | F58: =E40-E52 -> -1289.169
D59: =SUM(D57:D58) -> 682.46 | E59: =SUM(E57:E58) -> 682.46
D64: Q1 2014 | E64: Q1 2013
C65: Metered | D65: 153.2 | E65: 171.66 | F65: =(D65-E65)/E65 -> -0.10753816
C66: Unmetered | D66: 136.37 | E66: 136.62 | F66: =(D66-E66)/E66 -> -0.0018298931
...

Sheet SHEET-5
I2: [ 5 ]
A5: MADHYA GUJARAT VIJ COMPANY LIMITED
A7: III - SALES AND REVENUE DATA
A9: SALES REVENUE AMOUNT AND PAISE / UNIT
D11: Current Year | F11: Previous Years | H11: % Change
D12: Quarterly | E12: Cummulative | F12: Quarterly | G12: Cummulative | H12: Quarterly | I12: Cummulative
A13: [C] | B13: SALES REVENUE BILLED : | D13: =+'SHEET-4'!D13:E13 -> April, 2024 to June, 2024 | F13: =+'SHEET-4'!F13:G13 -> April, 2023 to June, 2023
A14: 1 | B14: H. T. | C14: Rs. In Crore | D14: =+E14 -> 1302.7 | E14: 1302.7 | F14: =+G14 -> 1240.53 | G14: 1240.53 | H14: =(D14-F14)/F14 -> 0.050115676 | I14: =(E14-G14)/G14 -> 0.050115676
A15: 2 | B15: Railway | C15: Rs. In Crore | D15: 0 | E15: 0 | F15: 0 | G15: 0 | H15: =(D15-F15)/F15 -> #DIV/0! | I15: =(E15-G15)/G15 -> #DIV/0!
A16: 3 | B16: Liecence | C16: Rs. In Crore | D16: 0 | E16: 0 | F16: 0 | G16: 0 | H16: 0 | I16: 0
A17: 4 | B17: Total H.T. + E.H.T. | C17: Rs. In Crore | D17: =SUM(D14:D16) -> 1302.7 | E17: =SUM(E14:E16) -> 1302.7 | F17: =SUM(F14:F16) -> 1240.53 | G17: =SUM(G14:G16) -> 1240.53 | H17: =(D17-F17)/F17 -> 0.050115676 | I17: =(E17-G17)/G17 -> 0.050115676
A18: 5 | B18: Residential | C18: Rs. In Crore | D18: =+E18 -> 695.87 | E18: 695.87 | F18: =+G18 -> 646.61 | G18: 646.61 | H18: =(D18-F18)/F18 -> 0.076181933 | I18: =(E18-G18)/G18 -> 0.076181933
A19: 6 | B19: Commercial | C19: Rs. In Crore | D19: =+E19 -> 494.14 | E19: 494.14 | F19: =+G19 -> 477.18 | G19: 477.18 | H19: =(D19-F19)/F19 -> 0.035542143 | I19: =(E19-G19)/G19 -> 0.035542143
A20: 7 | B20: Industrial | C20: Rs. In Crore
A21: 8 | B21: Others [Water Works / Public Lighting] | C21: Rs. In Crore | D21: =+E21 -> 87.45 | E21: 87.45 | F21: =+G21 -> 80.79 | G21: 80.79 | H21: =(D21-F21)/F21 -> 0.082435945 | I21: =(E21-G21)/G21 -> 0.082435945
A22: 9 | B22: Total L.T. Excluding Agricultural | C22: Rs. In Crore | D22: =SUM(D18:D21) -> 1277.46 | E22: =SUM(E18:E21) -> 1277.46 | F22: =SUM(F18:F21) -> 1204.58 | G22: =SUM(G18:G21) -> 1204.58 | H22: =(D22-F22)/F22 -> 0.060502416 | I22: =(E22-G22)/G22 -> 0.060502416
A23: 10 | B23: Agricultural [Including Tariff Comp.]/[FPPPA] | C23: Rs. In Crore | D23: =+E23 -> 162.19 | E23: 162.19 | F23: =+G23 -> 114.73 | G23: 114.73 | H23: =(D23-F23)/F23 -> 0.41366687 | I23: =(E23-G23)/G23 -> 0.41366687
A24: 11 | B24: Total L. T. Including Agricultural | C24: Rs. In Crore | D24: =SUM(D22:D23) -> 1439.65 | E24: =SUM(E22:E23) -> 1439.65 | F24: =SUM(F22:F23) -> 1319.31 | G24: =SUM(G22:G23) -> 1319.31 | H24: =(D24-F24)/F24 -> 0.091214347 | I24: =(E24-G24)/G24 -> 0.091214347
A25: 12 | B25: Total H.T. + E.H.T. + L. T. | C25: Rs. In Crore | D25: =D17+D24 -> 2742.35 | E25: =E17+E24 -> 2742.35 | F25: =F17+F24 -> 2559.84 | G25: =G17+G24 -> 2559.84 | H25: =(D25-F25)/F25 -> 0.071297425 | I25: =(E25-G25)/G25 -> 0.071297425
A27: [D] | B27: SALES REALISATION
A29: 1 | B29: H. T. | C29: Paise / kwh | D29: =D14/'SHEET-4'!D29*1000 -> 767.17502 | E29: =E14/'SHEET-4'!E29*1000 -> 767.17502 | F29: =F14/'SHEET-4'!F29*1000 -> 756.01 | G29: =G14/'SHEET-4'!G29*1000 -> 756.01 | H29: =(D29-F29)/F29 -> 0.014768347 | I29: =(E29-G29)/G29 -> 0.014768347 | N29: =(D14/'SHEET-4'!D29)*1000 -> 767.17502 | O29: =(E14/'SHEET-4'!E29)*1000 -> 767.17502 | P29: =(F14/'SHEET-4'!F29)*1000 -> 756.01 | Q29: =(G14/'SHEET-4'!G29)*1000 -> 756.01
A30: 2 | B30: Railway | C30: Paise / kwh | D30: 0 | E30: 0 | F30: 0 | G30: =F30 -> 0 | H30: =(D30-F30)/F30 -> #DIV/0! | I30: =(E30-G30)/G30 -> #DIV/0! | N30: =(D15/'SHEET-4'!D30)*1000 -> #DIV/0! | O30: =(E15/'SHEET-4'!E30)*1000 -> #DIV/0! | P30: =(F15/'SHEET-4'!F30)*1000 -> #DIV/0!
A31: 3 | B31: Liecence | C31: Paise / kwh | D31: 0 | E31: 0 | F31: 0 | G31: =F31 -> 0 | H31: 0 | I31: 0 | N31: =(D16/'SHEET-4'!D31)*1000 -> #DIV/0! | O31: =(E16/'SHEET-4'!E31)*1000 -> #DIV/0! | P31: =(F16/'SHEET-4'!F31)*1000 -> #DIV/0!
A32: 4 | B32: Total H.T. + E.H.T. | C32: Paise / kwh | D32: =D17/'SHEET-4'!D32*1000 -> 767.17502 | E32: =E17/'SHEET-4'!E32*1000 -> 767.17502 | F32: =F17/'SHEET-4'!F32*1000 -> 756.01 | G32: =G17/'SHEET-4'!G32*1000 -> 756.01 | H32: =(D32-F32)/F32 -> 0.014768347 | I32: =(E32-G32)/G32 -> 0.014768347 | N32: =(D17/'SHEET-4'!D32)*1000 -> 767.17502 | O32: =(E17/'SHEET-4'!E32)*1000 -> 767.17502 | P32: =(F17/'SHEET-4'!F32)*1000 -> 756.01
A33: 5 | B33: Residential | C33: Paise / kwh | D33: =D18/'SHEET-4'!D33*1000 -> 674.98004 | E33: =E18/'SHEET-4'!E33*1000 -> 674.98004 | F33: =F18/'SHEET-4'!F33*1000 -> 691.70074 | G33: =G18/'SHEET-4'!G33*1000 -> 691.70074 | H33: =(D33-F33)/F33 -> -0.024173314 | I33: =(E33-G33)/G33 -> -0.024173314 | N33: =(D18/'SHEET-4'!D33)*1000 -> 674.98004 | O33: =(E18/'SHEET-4'!E33)*1000 -> 674.98004 | P33: =(F18/'SHEET-4'!F33)*1000 -> 691.70074
A34: 6 | B34: Commercial | C34: Paise / kwh | D34: =D19/'SHEET-4'!D34*1000 -> 862.58423 | E34: =E19/'SHEET-4'!E34*1000 -> 862.58423 | F34: =F19/'SHEET-4'!F34:F35*1000 -> 881.80997 | G34: =F34 -> 881.80997 | H34: =(D34-F34)/F34 -> -0.021802589 | I34: =(E34-G34)/G34 -> -0.021802589 | N34: =(D19/'SHEET-4'!D34)*1000 -> 862.58423 | O34: =(E19/'SHEET-4'!E34)*1000 -> 862.58423 | P34: =(F19/'SHEET-4'!F34)*1000 -> 881.80997
A35: 7 | B35: Industrial | C35: Paise / kwh | N35: =(D20/'SHEET-4'!D35)*1000 -> #DIV/0! | O35: =(E20/'SHEET-4'!E35)*1000 -> #DIV/0! | P35: =(F20/'SHEET-4'!F35)*1000 -> #DIV/0!
A36: 8 | B36: Others [Water Works / Public Lighting] | C36: Paise / kwh | D36: =D21/'SHEET-4'!D36*1000 -> 741.34043 | E36: =E21/'SHEET-4'!E36*1000 -> 741.34043 | F36: =F21/'SHEET-4'!F36*1000 -> 763.03362 | G36: =F36 -> 763.03362 | H36: =(D36-F36)/F36 -> -0.028430191 | I36: =(E36-G36)/G36 -> -0.028430191 | N36: =(D21/'SHEET-4'!D36)*1000 -> 741.34043 | O36: =(E21/'SHEET-4'!E36)*1000 -> 741.34043 | P36: =(F21/'SHEET-4'!F36)*1000 -> 763.03362
A37: 9 | B37: Total L.T. Excluding Agricultural | C37: Paise / kwh | D37: =D22/'SHEET-4'!D37*1000 -> 741.94536 | E37: =E22/'SHEET-4'!E37*1000 -> 741.94536 | F37: =F22/'SHEET-4'!F37*1000 -> 761.51099 | G37: =F37 -> 761.51099 | H37: =(D37-F37)/F37 -> -0.025693173 | I37: =(E37-G37)/G37 -> -0.025693173 | N37: =(D22/'SHEET-4'!D37)*1000 -> 741.94536 | O37: =(E22/'SHEET-4'!E37)*1000 -> 741.94536 | P37: =(F22/'SHEET-4'!F37)*1000 -> 761.51099
A38: 10 | B38: Agricultural | C38: Paise / kwh | D38: =D23/'SHEET-4'!D38*1000 -> 418.69314 | E38: =E23/'SHEET-4'!E38*1000 -> 418.69314 | F38: =F23/'SHEET-4'!F38*1000 -> 328.53207 | G38: =F38 -> 328.53207 | H38: =(D38-F38)/F38 -> 0.27443613 | I38: =(E38-G38)/G38 -> 0.27443613 | N38: =(D23/'SHEET-4'!D38)*1000 -> 418.69314 | O38: =(E23/'SHEET-4'!E38)*1000 -> 418.69314 | P38: =(F23/'SHEET-4'!F38)*1000 -> 328.53207
A39: 11 | B39: Total L. T. Including Agricultural | C39: Paise / kwh | D39: =D24/'SHEET-4'!D39*1000 -> 682.57581 | E39: =E24/'SHEET-4'!E39*1000 -> 682.57581 | F39: =F24/'SHEET-4'!F39*1000 -> 683.20902 | G39: =F39 -> 683.20902 | H39: =(D39-F39)/F39 -> -0.00092680856 | I39: =(E39-G39)/G39 -> -0.00092680856 | N39: =(D24/'SHEET-4'!D39)*1000 -> 682.57581 | O39: =(E24/'SHEET-4'!E39)*1000 -> 682.57581 | P39: =(F24/'SHEET-4'!F39)*1000 -> 683.20902
A40: 12 | B40: Total H.T. + E.H.T. + L. T. | C40: Paise / kwh | D40: =D25/'SHEET-4'!D40*1000 -> 720.30796 | E40: =E25/'SHEET-4'!E40*1000 -> 720.30796 | F40: =F25/'SHEET-4'!F40*1000 -> 716.6526 | G40: =F40 -> 716.6526 | H40: =(D40-F40)/F40 -> 0.005100606 | I40: =(E40-G40)/G40 -> 0.005100606 | N40: =(D25/'SHEET-4'!D40)*1000 -> 720.30796 | O40: =(E25/'SHEET-4'!E40)*1000 -> 720.30796 | P40: =(F25/'SHEET-4'!F40)*1000 -> 716.6526
A43: NPT/GERC REPORT/APRIL, 2017 TO JUNE'2017

Sheet SHEET-6
I2: [ 6 ]
A5: MADHYA GUJARAT VIJ COMPANY LIMITED
A7: III - SALES AND REVENUE DATA
A9: SALES REVENUE FIXED AND ENERGY CHARGE PAISE / UNIT AND UNITS SOLD PER CONSUMER
D11: Current Year | F11: Previous Year | H11: % Change
D12: Quarterly | E12: Cummulative | F12: Quarterly | G12: Cummulative | H12: Quarterly | I12: Cummulative
A13: [A] | B13: SALES REALISATION - FIXED CHARGES | D13: =+'SHEET-5'!D13:E13 -> April, 2024 to June, 2024 | F13: =+'SHEET-5'!F13:G13 -> April, 2023 to June, 2023
A14: 1 | B14: H. T. | C14: Paise / KWH | D14: 94.022442 | E14: =D14 -> 94.022442 | F14: 93.036153 | G14: 93.036153 | H14: =(D14-F14)/F14 -> 0.010601142 | I14: =(E14-G14)/G14 -> 0.010601142
A15: 2 | B15: Railway | C15: Paise / KWH | D15: 0 | E15: 0 | F15: 0 | G15: 0 | H15: =(D15-F15)/F15 -> #DIV/0! | I15: =(E15-G15)/G15 -> #DIV/0!
A16: 3 | B16: Liecence | C16: Paise / KWH | D16: 0 | E16: 0 | F16: 0 | G16: 0 | H16: 0 | I16: 0
A17: 4 | B17: Total H.T. + E.H.T. | C17: Paise / KWH | D17: 94.022442 | E17: =D17 -> 94.022442 | F17: 93.036153 | G17: 93.036153 | H17: =(D17-F17)/F17 -> 0.010601142 | I17: =(E17-G17)/G17 -> 0.010601142
A18: 5 | B18: Residential | C18: Paise / KWH | D18: 18.371609 | E18: =D18 -> 18.371609 | F18: 19.6459 | G18: 19.6459 | H18: =(D18-F18)/F18 -> -0.064862958 | I18: =(E18-G18)/G18 -> -0.064862958
A19: 6 | B19: Commercial | C19: Paise / KWH | D19: 80.163129 | E19: =D19 -> 80.163129 | F19: 80.515352 | G19: 80.515352 | H19: =(D19-F19)/F19 -> -0.0043746069 | I19: =(E19-G19)/G19 -> -0.0043746069
A20: 7 | B20: Industrial | C20: Paise / KWH
A21: 8 | B21: Other [Specify] | C21: Paise / KWH | D21: 3.4499991 | E21: =D21 -> 3.4499991 | F21: 3.4824489 | G21: 3.4824489 | H21: =(D21-F21)/F21 -> -0.0093181147 | I21: =(E21-G21)/G21 -> -0.0093181147
A22: 9 | B22: Total L.T. Excluding Agricultural | C22: Paise / KWH | D22: 40.865415 | E22: =D22 -> 40.865415 | F22: 42.003391 | G22: 42.003391 | H22: =(D22-F22)/F22 -> -0.02709248 | I22: =(E22-G22)/G22 -> -0.02709248
A23: 10 | B23: Agricultural | C23: Paise / KWH | D23: 11.516157 | E23: =D23 -> 11.516157 | F23: 12.289635 | G23: 12.289635 | H23: =(D23-F23)/F23 -> -0.06293747 | I23: =(E23-G23)/G23 -> -0.06293747
A24: 11 | B24: Total L. T. Including Agricultural | C24: Paise / KWH | D24: 35.284529 | E24: =D24 -> 35.284529 | F24: 36.580963 | G24: 36.580963 | H24: =(D24-F24)/F24 -> -0.03544014 | I24: =(E24-G24)/G24 -> -0.03544014
A25: 12 | B25: Total H.T. + E.H.T. + L. T. | C25: Paise / KWH | D25: 65.166634 | E25: =D25 -> 65.166634 | F25: 65.499153 | G25: 65.499153 | H25: =(D25-F25)/F25 -> -0.0050766895 | I25: =(E25-G25)/G25 -> -0.0050766895
A27: [B] | B27: SALES REALISATION - ENERGY CHARGES
A29: 1 | B29: H. T. | C29: Paise / KWH | D29: 419.7486 | E29: =D29 -> 419.7486 | F29: 418.88435 | G29: 418.88435 | H29: =(D29-F29)/F29 -> 0.002063215 | I29: =(E29-G29)/G29 -> 0.002063215
A30: 2 | B30: Railway | C30: Paise / KWH | D30: 0 | E30: =D30 -> 0 | F30: 0 | G30: 0 | H30: =(D30-F30)/F30 -> #DIV/0! | I30: =(E30-G30)/G30 -> #DIV/0!
A31: 3 | B31: Liecence | C31: Paise / KWH | D31: 0 | E31: =D31 -> 0 | F31: 0 | G31: 0 | H31: 0 | I31: 0
A32: 4 | B32: Total H.T. + E.H.T. | C32: Paise / KWH | D32: 419.7486 | E32: =D32 -> 419.7486 | F32: 418.88435 | G32: 418.88435 | H32: =(D32-F32)/F32 -> 0.002063215 | I32: =(E32-G32)/G32 -> 0.002063215
A33: 5 | B33: Residential | C33: Paise / KWH | D33: 356.90393 | E33: =D33 -> 356.90393 | F33: 361.37187 | G33: 361.37187 | H33: =(D33-F33)/F33 -> -0.012363831 | I33: =(E33-G33)/G33 -> -0.012363831
A34: 6 | B34: Commercial | C34: Paise / KWH | D34: 457.0051 | E34: =D34 -> 457.0051 | F34: 461.53671 | G34: 461.53671 | H34: =(D34-F34)/F34 -> -0.0098185333 | I34: =(E34-G34)/G34 -> -0.0098185333
A35: 7 | B35: Industrial | C35: Paise / KWH
A36: 8 | B36: Other [Specify] | C36: Paise / KWH | D36: 337.2065 | E36: =D36 -> 337.2065 | F36: 346.04476 | G36: 346.04476 | H36: =(D36-F36)/F36 -> -0.025540801 | I36: =(E36-G36)/G36 -> -0.025540801
A37: 9 | B37: Total L.T. Excluding Agricultural | C37: Paise / KWH | D37: 393.58919 | E37: =D37 -> 393.58919 | F37: 398.81056 | G37: 398.81056 | H37: =(D37-F37)/F37 -> -0.013092362 | I37: =(E37-G37)/G37 -> -0.013092362
A38: 10 | B38: Agricultural (Incl. Tariff Comp.) | C38: Paise / KWH | D38: 78.186726 | E38: =D38 -> 78.186726 | F38: 81.542492 | G38: 81.542492 | H38: =(D38-F38)/F38 -> -0.041153587 | I38: =(E38-G38)/G38 -> -0.041153587
A39: 11 | B39: Total L. T. Including Agricultural | C39: Paise / KWH | D39: 333.61408 | E39: =D39 -> 333.61408 | F39: 340.9127 | G39: 340.9127 | H39: =(D39-F39)/F39 -> -0.02140906 | I39: =(E39-G39)/G39 -> -0.02140906
B40: Total H.T. + E.H.T. + L. T. | C40: Paise / KWH | D40: 377.43383 | E40: =D40 -> 377.43383 | F40: 380.85232 | G40: 380.85232 | H40: =(D40-F40)/F40 -> -0.0089758984 | I40: =(E40-G40)/G40 -> -0.0089758984
A42: [C] | B42: UNIT SOLD PER CONSUMER
A44: 1 | B44: H. T. | C44: KWH | D44: ='SHEET-4'!D29/'SHEET-4'!D14*10^6 -> 538549.95 | E44: ='SHEET-4'!E29/'SHEET-4'!E14*10^6 -> 538549.95 | F44: ='SHEET-4'!F29/'SHEET-4'!F14*10^6 -> 566410.42 | G44: ='SHEET-4'!G29/'SHEET-4'!G14*10^6 -> 566410.42 | H44: =(D44-F44)/F44 -> -0.049187781 | I44: =(E44-G44)/G44 -> -0.049187781
A45: 2 | B45: Railway | C45: KWH | D45: 0 | E45: 0 | F45: 0 | G45: 0 | H45: =(D45-F45)/F45 -> #DIV/0! | I45: =(E45-G45)/G45 -> #DIV/0!
A46: 3 | B46: Liecence | C46: KWH | D46: 0 | E46: =D46 -> 0 | F46: 0 | G46: 0 | H46: 0 | I46: 0
A47: 4 | B47: Total H.T. + E.H.T. | C47: KWH | D47: ='SHEET-4'!D32/'SHEET-4'!D17*10^6 -> 538549.95 | E47: =D47 -> 538549.95 | F47: ='SHEET-4'!F32/'SHEET-4'!F17*10^6 -> 566410.42 | G47: ='SHEET-4'!G32/'SHEET-4'!G17*10^6 -> 566410.42 | H47: =(D47-F47)/F47 -> -0.049187781 | I47: =(E47-G47)/G47 -> -0.049187781
A48: 5 | B48: Residential | C48: KWH | D48: ='SHEET-4'!D33/'SHEET-4'!D18*10^6 -> 351.97289 | E48: =D48 -> 351.97289 | F48: ='SHEET-4'!F33/'SHEET-4'!F18*10^6 -> 326.61231 | G48: =F48 -> 326.61231 | H48: =(D48-F48)/F48 -> 0.077647354 | I48: =(E48-G48)/G48 -> 0.077647354
A49: 6 | B49: Commercial | C49: KWH | D49: ='SHEET-4'!D34/'SHEET-4'!D19*10^6 -> 1353.3224 | E49: ='SHEET-4'!E34/'SHEET-4'!E19*10^6 -> 1353.3224 | F49: ='SHEET-4'!F34/'SHEET-4'!F19*10^6 -> 1331.0663 | G49: =F49 -> 1331.0663 | H49: =(D49-F49)/F49 -> 0.016720505 | I49: =(E49-G49)/G49 -> 0.016720505
A50: 7 | B50: Industrial | C50: KWH
...

Sheet SHEET-7
E1: [7]
A4: MADHYA GUJARAT VIJ COMPANY LIMITED
A6: IV - FINANCIAL DATA
C8: Current Year [Provisional] | D8: Previous Year | E8: % Change
C9: April, 2024 to June, 2024 | D9: April, 2023 to June, 2023
A10: [A] | B10: REVENUE | C10: Rs. In Crores | D10: Rs. In Crores
A11: 1 | B11: Sale of Electricity | C11: =2742.34+50.96 -> 2793.3 | D11: 2559.86 | E11: =(C11-D11)/D11 -> 0.091192487
A12: 2 | B12: Misc. Revenue Recovery | C12: =41.08+0.5 -> 41.58 | D12: 29.51 | E12: =(C12-D12)/D12 -> 0.40901389
A13: 3 | B13: Government Subsidy FOR AG. | C13: 17.15 | D13: 17.68 | E13: =(C13-D13)/D13 -> -0.029977376
A14: 4 | B14: Other Income | C14: 62.15 | D14: 58.540613 | E14: =(C14-D14)/D14 -> 0.061656126
A15: 5 | B15: Total Income | C15: =SUM(C11:C14) -> 2914.18 | D15: 2665.5906 | E15: =(C15-D15)/D15 -> 0.093258652
A17: [B] | B17: EXPENSES
B18: Operating Expenses
A19: 1 | B19: Power Purchase Costs net of trading Credit | C19: 2444.31 | D19: 2307.96 | E19: =(C19-D19)/D19 -> 0.059078147
A20: 2 | B20: Fixed
A21: 3 | B21: Variable
A22: 4 | B22: Fuel Expense | C22: 0 | D22: 0 | E22: 0
A23: 5 | B23: Employee Cost | C23: 163.8 | D23: 165.03 | E23: =(C23-D23)/D23 -> -0.0074531903
A24: 6 | B24: Repairs and Maintenance | C24: 30.79 | D24: 44.92 | E24: =(C24-D24)/D24 -> -0.31455922
A25: 7 | B25: Administrative and General Expenses | C25: 29.03 | D25: 24.93 | E25: =(C25-D25)/D25 -> 0.16446049
A26: 8 | B26: Other Operating Costs | C26: 10.33 | D26: 9.3 | E26: =(C26-D26)/D26 -> 0.11075269
A28: 9 | B28: Depreciation | C28: 82.62 | D28: 70.81 | E28: =(C28-D28)/D28 -> 0.16678435
A29: 10 | B29: Interest | C29: 24.08 | D29: 18.95 | E29: =(C29-D29)/D29 -> 0.2707124
A30: 11 | B30: Other Expenses [Prior Period] | C30: 0 | D30: 0 | E30: =(C30-D30)/D30 -> #DIV/0!
A31: 12 | B31: Misc. If any | C31: 0 | D31: 0 | E31: 0
A32: 13 | B32: Less : Expenses Capitalized | C32: 0 | D32: 0
A33: 14 | B33: Total Expenses 1 to 13] | C33: =SUM(C19:C32) -> 2784.96 | D33: =SUM(D19:D32) -> 2641.9 | E33: =(C33-D33)/D33 -> 0.054150422
A35: [C] | B35: Surplus [deficit] excluding rate of return | C35: =C15-C33 -> 129.22 | D35: =D15-D33 -> 23.690613 | E35: =(C35-D35)/D35 -> 4.4544812
A37: NOTE : Power Purchase Cost is based on provisional bills received from GUVNL.
A40: NPT/GERC REPORT/APRIL, 2017 TO JUNE'2017
C44: =C19/'SHEET-1'!D26 -> 0.56310646 | D44: =D19/'SHEET-1'!F26 -> 0.56478859
C49: =C33/'SHEET-1'!D27*10 -> 7.2177009 | D49: =D33/'SHEET-1'!F27 -> 0.73962603

Sheet Meter
B1: MGVCL
B2: V - DISTRIBUTION - KEY DATA | I2: FY 2024-25 Q-I (Apr-24 TO Jun-24)
B3: Meter testing and details of non-working defective meters
B4: (A) | C4: Meter testing | E4: Total capacity of laboratory | F4: Tested during the period | G4: Pending for testing at the end of the period
C5: Single Phase | D5: No. | F5: 203102 | G5: 169539
C6: Three Phase | D6: No. | F6: 35687 | G6: 26338
C7: Total | D7: No. | F7: =SUM(F5:F6) -> 238789 | G7: =SUM(G5:G6) -> 195877
B9: (B) | C9: Non-working/ Defective meters | E9: Defected - op.balance | F9: Added | G9: Total to be attended | H9: Replaced / repaired | I9: Pending at the end of the period
C10: Single Phase | D10: No. | E10: 10113 | F10: 19949 | G10: =F10+E10 -> 30062 | H10: 23217 | I10: =G10-H10 -> 6845
C11: Three Phase | D11: No. | E11: 3504 | F11: 4808 | G11: =F11+E11 -> 8312 | H11: 6378 | I11: =G11-H11 -> 1934
C12: Total | D12: No. | E12: =SUM(E10:E11) -> 13617 | F12: =SUM(F10:F11) -> 24757 | G12: =SUM(G10:G11) -> 38374 | H12: =SUM(H10:H11) -> 29595 | I12: =SUM(I10:I11) -> 8779
B13: Since the nos. of pending untested meters are normally quite high, action being taken by DISCOMs to increase the nos. of test benches at various locations so that almost nil outstanding balance should accrue.

Sheet T&D
B1: MGVCL - V - DISTRIBUTION - KEY DATA
B3: Dist losses in Urban>25%, Industrial>10% and GIDC>5% feeders
B4: Category | C4: Circle | D4: Q-I-APR-24 TO JUN-24 | H4: Q-I-APR-23 TO JUN-23 | K4: Nos of feeders having more than 5% where losses increased in current period | L4: Reason thereof and action being taken
D5: Total nos. of feeders | E5: Nos. of feeders having losses more than 5% | F5: Overall % losses | H5: Total nos. of feeders | I5: Nos. of feeders having losses more than 5% | J5: Overall % losses
B6: GIDC | C6: Baroda O&M | D6: 37 | E6: 1 | F6: 1.2889086 | H6: 37 | I6: 0 | J6: -0.99774053 | K6: 3 | L6: Various steps are being taken to reduce the losses of feeder having high losses
C7: Anand | D7: 19 | E7: 5+1* | F7: 2.5610255 | H7: 19 | I7: 3 + 1* | J7: -0.4377625 | K7: 6
C8: Nadiad | D8: 1 | E8: 0 | F8: -1.04632 | H8: 1 | I8: 0 | J8: -0.91314177 | K8: 0
C9: Baroda City | D9: 17 | E9: 0 | F9: 1.8635297 | H9: 16 | I9: 0 | J9: 1.8045145 | K9: 0
C10: Godhra | D10: 22 | E10: 4+1* | F10: 1.1434789 | H10: 22 | I10: 0 | J10: 1.3013466 | K10: 1
C11: Total | D11: 96 | E11: 10+2* | F11: 1.4682886 | H11: =SUM(H6:H10) -> 95 | I11: 3 + 1* | J11: 0.013650723 | K11: 10
B13: Category | C13: Circle | D13: =D4 -> Q-I-APR-24 TO JUN-24 | H13: =H4 -> Q-I-APR-23 TO JUN-23 | K13: Nos of feeders having more than 25% where losses increased in current period | L13: Reason thereof and action being taken
D14: Total nos. of feeders | E14: Nos. of feeders having losses more than 25% | F14: Overall % losses | H14: Total nos. of feeders | I14: Nos. of feeders having losses more than 25% | J14: Overall % losses
B15: URBAN | C15: Baroda O&M | D15: 22 | E15: 4+2* | F15: 13.876454 | H15: 20 | I15: 2 + 1* | J15: 9.976487 | K15: 2 | L15: Various steps are being taken to reduce the losses of feeder having high losses
C16: Anand | D16: 49 | E16: 14+1* | F16: 13.316627 | H16: 48 | I16: 13 | J16: 11.38311 | K16: 12
C17: Nadiad | D17: 45 | E17: 16+1* | F17: 17.587706 | H17: 42 | I17: 16 | J17: 16.945805 | K17: 8
C18: Baroda City | D18: 289 | E18: 66+2* | F18: 12.207454 | H18: 281 | I18: 49 + 5* | J18: 11.789971 | K18: 39
C19: Godhra | D19: 50 | E19: 17+1* | F19: 24.976788 | H19: 49 | I19: 16 | J19: 22.609086 | K19: 14
C20: Total | D20: 455 | E20: 117+7* | F20: 14.534889 | H20: =SUM(H15:H19) -> 440 | I20: 96 + 6* | J20: 13.572099 | K20: 75
B22: Category | C22: Circle | D22: =D13 -> Q-I-APR-24 TO JUN-24 | H22: =H13 -> Q-I-APR-23 TO JUN-23 | K22: Nos of feeders having more than 10% where losses increased in current period | L22: Reason thereof and action being taken
D23: Total nos. of feeders | E23: Nos. of feeders having losses more than 10% | F23: Overall % losses | H23: Total nos. of feeders | I23: Nos. of feeders having losses more than 10% | J23: Overall % losses
B24: IND | C24: Baroda O&M | D24: 64 | E24: 0+1* | F24: 1.5935677 | H24: 59 | I24: 1* | J24: 0.57578548 | K24: 0 | L24: Various steps are being taken to reduce the losses of feeder having high losses
C25: Anand | D25: 8 | E25: 0 | F25: 0.10932808 | H25: 6 | I25: 0 | J25: -3.3260643 | K25: 0
C26: Nadiad | D26: 14 | E26: 0 | F26: 3.0594816 | H26: 14 | I26: 0 | J26: 1.1811669 | K26: 0
C27: Baroda City | D27: 3 | E27: 0 | F27: 0.34656007 | H27: 3 | I27: 0 | J27: 0.37097195 | K27: 0
C28: Godhra | D28: 46 | E28: 0 | F28: 1.3315703 | H28: 45 | I28: 0 | J28: 1.3904085 | K28: 0
C29: Total | D29: 135 | E29: 0+1* | F29: 1.5133202 | H29: =SUM(H24:H28) -> 127 | I29: 1* | J29: 0.75831083 | K29: 0

Sheet Sheet1
A1: SR | B1: CATEGORY | C1: BOARD CHARGE | D1: B. CHG(THEFT) | E1: MIN CHG DIS. | F1: ELE. DUTY | G1: TAX ON SALE | H1: RENT | I1: SUNDRY CHG. | J1: D. P. C. | K1: ASSESSMENT
A2: =========================================================================================================================================
A3: 1 | B3: Residential | C3: 3.1160693e+09 | D3: 17043897 | E3: 172650.77 | F3: 3.4360099e+08 | G3: 0 | H3: 73554896 | I3: 227109.15 | J3: 18633312 | K3: 3.5693021e+09
A4: 2 | B4: General Lighting Purpose | C4: 71089140 | D4: 101753.87 | E4: 17040 | F4: 7364652.5 | G4: 0 | H4: 748929.5 | I4: 23532.4 | J4: 453786.14 | K4: 79798834
A5: 3 | B5: Manufacturing & Service Industries | C5: 2.1273928e+09 | D5: 10987310 | E5: 55383.85 | F5: 3.3524209e+08 | G5: 0 | H5: 15904544 | I5: 285434.14 | J5: 5771228.1 | K5: 2.4956387e+09
B6: TEMP | C6: 78023457 | D6: 0 | E6: 0 | F6: 19271785 | G6: 0 | H6: 469841 | I6: 303675.78 | J6: 245968.69 | K6: 98314728
B7: TOTAL | C7: 2.2054162e+09 | D7: 10987310 | E7: 55383.85 | F7: 3.5451387e+08 | G7: 0 | H7: 16374385 | I7: 589109.92 | J7: 6017196.8 | K7: 2.5939535e+09
A8: 4 | B8: Water Works | C8: 2.2913085e+08 | D8: 7024.2 | E8: 360 | F8: 3568735.5 | G8: 0 | H8: 1043824 | I8: 84685 | J8: 38964480 | K8: 2.7279996e+08
A9: 5 | B9: Agricultural | C9: 2.248283e+08 | D9: 1100948.8 | E9: 69162.01 | F9: 32851.34 | G9: 0 | H9: 6727882.5 | I9: 96521.78 | J9: 1507359.2 | K9: 2.3436303e+08
A10: 6 | B10: Street Light | C10: 93088769 | D10: 0 | E10: 0 | F10: 833815.28 | G10: 0 | H10: 302109.5 | I10: 89765.18 | J10: 4559629.6 | K10: 98874088
A11: 7 | B11: PDC | C11: 2188369.9 | D11: 52177.62 | E11: 0 | F11: 239472.02 | G11: 0 | H11: 183965.5 | I11: 10954.81 | J11: 1881544.9 | K11: 4556484.7
A12: 8 | B12: UNCONNECTED | C12: 1346751 | D12: 29611.2 | E12: 0 | F12: 0 | G12: 0 | H12: 0 | I12: 0 | J12: 12750.19 | K12: 1389112.4
A13: 9 | B13: NON-CONS | C13: 0 | D13: 3642101.8 | E13: 0 | F13: 384932.08 | G13: 0 | H13: 0 | I13: 46327.9 | J13: 55.4 | K13: 4073417.1
A14: 10 | B14: TOT(NORMAL) | C14: 5.8615991e+09 | D14: 29240934 | E14: 314596.63 | F14: 6.9064313e+08 | G14: 0 | H14: 98282186 | I14: 807047.65 | J14: 69889795 | K14: 6.7507768e+09
A15: 11 | B15: TOT(PCD+UC) | C15: 3535120.9 | D15: 81788.82 | E15: 0 | F15: 239472.02 | G15: 0 | H15: 183965.5 | I15: 10954.81 | J15: 1894295.1 | K15: 5945597.1
A16: 12 | B16: TOT(TEMP+NON) | C16: 78023457 | D16: 3642101.8 | E16: 0 | F16: 19656717 | G16: 0 | H16: 469841 | I16: 350003.68 | J16: 246024.09 | K16: 1.0238815e+08
A17: 13 | B17: GRAND TOTAL | C17: 5.9431577e+09 | D17: 32964824 | E17: 314596.63 | F17: 7.1053932e+08 | G17: 0 | H17: 98935992 | I17: 1168006.1 | J17: 72030114 | K17: 6.8591105e+09
A18: =========================================================================================================================================
A19: BREAK-UP OF BOARD CHARGES FROM Apr-2014 TO Jun-2014
A20: =========================================================================================================================================
A21: SR | B21: CATEGORY | C21: CONSUMERS | D21: UNITS BILLED | E21: FIXED-CHRG | F21: ENEG-CHRG | G21: FUEL-COST | H21: ANNUAL-CHG | I21: PRO-BILL | J21: DEBIT-ADJ | K21: BOARD-CHG
A22: =========================================================================================================================================
A23: 1 | B23: Residential | C23: 1178560 | D23: 547896815 | E23: 1.0893635e+08 | F23: 2.2777783e+09 | G23: 6.988271e+08 | H23: 0 | I23: 23878038 | J23: 6649459.7 | K23: 3.1160693e+09
A24: 2 | B24: General Lighting Purpose | C24: 10324 | D24: 12238984 | E24: 3352066 | F24: 49361467 | G24: 14977588 | H24: 0 | I24: 3186689.2 | J24: 211329.99 | K24: 71089140
A25: 3 | B25: Manufacturing & Service Industries | C25: 141223 | D25: 308942121 | E25: 2.0981632e+08 | F25: 1.5067713e+09 | G25: 3.8397436e+08 | H25: 243868.04 | I25: 12422367 | J25: 14164516 | K25: 2.1273928e+09
B26: TEMP | C26: 4704 | D26: 8930434 | E26: 26180159 | F26: 41354592 | G26: 10417809 | H26: 0 | I26: 0 | J26: 70898.07 | K26: 78023457
B27: TOTAL | C27: 145927 | D27: 317872555 | E27: 2.3599648e+08 | F27: 1.5481259e+09 | G27: 3.9439217e+08 | H27: 243868.04 | I27: 12422367 | J27: 14235414 | K27: 2.2054162e+09
A28: 4 | B28: Water Works | C28: 8003 | D28: 48527153 | E28: 1355207.1 | F28: 1.6440131e+08 | G28: 58237666 | H28: 0 | I28: 2690678.8 | J28: 2445989 | K28: 2.2913085e+08
A29: 5 | B29: Agricultural | C29: 64962 | D29: 168792969 | E29: 32021769 | F29: 1.8627927e+08 | G29: 0 | H29: 0 | I29: 5083644.2 | J29: 1443616.6 | K29: 2.248283e+08
A30: 6 | B30: Street Light | C30: 4333 | D30: 15223858 | E30: 212629.18 | F30: 71319701 | G30: 20672610 | H30: 0 | I30: 303088.92 | J30: 580739.07 | K30: 93088769
A31: 7 | B31: PDC | C31: 75006 | D31: 254352 | E31: 0 | F31: 0 | G31: 0 | H31: 0 | I31: 0 | J31: 2188369.9 | K31: 2188369.9
A32: 8 | B32: UNCONNECTED | C32: 2231 | D32: 0 | E32: 1316135.1 | F32: 5130 | G32: 0 | H32: 0 | I32: 0 | J32: 25485.9 | K32: 1346751
A33: 9 | B33: NON-CONS | C33: 255 | D33: 740096 | E33: 0 | F33: 0 | G33: 0 | H33: 0 | I33: 0 | J33: 0 | K33: 0
A34: 10 | B34: TOT(NORMAL) | C34: 1407405 | D34: 1101621900 | E34: 3.5569434e+08 | F34: 4.2559114e+09 | G34: 1.1766893e+09 | H34: 243868.04 | I34: 47564507 | J34: 25495650 | K34: 5.8615991e+09
A35: 11 | B35: TOT(PDC+UN) | C35: 77237 | D35: 254352 | E35: 1316135.1 | F35: 5130 | G35: 0 | H35: 0 | I35: 0 | J35: 2213855.8 | K35: 3535120.9
A36: 12 | B36: TOT(TEMP+NON) | C36: 4959 | D36: 9670530 | E36: 26180159 | F36: 41354592 | G36: 10417809 | H36: 0 | I36: 0 | J36: 70898.07 | K36: 78023457
A37: 13 | B37: GRAND TOTAL | C37: 1489601 | D37: 1111546782 | E37: 3.8319064e+08 | F37: 4.2972711e+09 | G37: 1.1871071e+09 | H37: 243868.04 | I37: 47564507 | J37: 27780404 | K37: 5.9431577e+09
A38: =========================================================================================================================================
A41: LT C. G. L. FROM Apr-2014 TO Jun-2014
A42: LAST MONTH END DATE : 30-06-2014 | E42: PERIOD: Apr-2014 TO Jun-2014 | I42: PROCESSED ON: 18-Dec-2014
...
