Workbook
Name a_4: [2]shp_T_D_drive!$A$1:$AE$31
Name a_5: [3]shp_T_D_drive!$A$1:$AE$31
Name a_6: [3]shp_T_D_drive!$A$1:$AE$31
Name a_8: [2]shp_T_D_drive!$A$1:$AE$31
Name a_9: [2]shp_T_D_drive!$A$1:$AE$31
Name aa_4: [2]shp_T_D_drive!$A$1:$AE$31
Name aa_5: [3]shp_T_D_drive!$A$1:$AE$31
Name aa_6: [3]shp_T_D_drive!$A$1:$AE$31
Name aa_8: [2]shp_T_D_drive!$A$1:$AE$31
Name aa_9: [2]shp_T_D_drive!$A$1:$AE$31
Name as_4: [2]shp_T_D_drive!$A$1:$AE$31
Name as_5: [3]shp_T_D_drive!$A$1:$AE$31
Name as_6: [3]shp_T_D_drive!$A$1:$AE$31
Name as_8: [2]shp_T_D_drive!$A$1:$AE$31
Name as_9: [2]shp_T_D_drive!$A$1:$AE$31
Name detail: [2]shp_T_D_drive!$A$1:$AE$31
Name ee: #REF!
Name q_4: [6]shp_T_D_drive!$A$1:$AE$31
Name q_5: [5]shp_T_D_drive!$A$1:$AE$31
Name q_6: [5]shp_T_D_drive!$A$1:$AE$31
Name q_8: [6]shp_T_D_drive!$A$1:$AE$31
Name q_9: [6]shp_T_D_drive!$A$1:$AE$31
Name ss_4: [2]shp_T_D_drive!$A$1:$AE$31
Name ss_5: [3]shp_T_D_drive!$A$1:$AE$31
Name ss_6: [3]shp_T_D_drive!$A$1:$AE$31
Name ss_8: [2]shp_T_D_drive!$A$1:$AE$31
Name ss_9: [2]shp_T_D_drive!$A$1:$AE$31
Name t_4: [2]shp_T_D_drive!$A$1:$AE$31
Name t_5: [3]shp_T_D_drive!$A$1:$AE$31
Name t_6: [3]shp_T_D_drive!$A$1:$AE$31
Name t_8: [2]shp_T_D_drive!$A$1:$AE$31
Name t_9: [2]shp_T_D_drive!$A$1:$AE$31

Sheet SHEET-1
I2: [ 1 ]
A5: MADHYA GUJARAT VIJ COMPANY LIMITED
A8: I - KEY PARAMETERS
A10: POWER SUPPLY POSITION
D12: Current Year | F12: Previous Year | H12: % Change
D13: Quarterly | E13: Cummulative | F13: Quarterly | G13: Cummulative | H13: Quarterly | I13: Cummulative
D14: Oct-2022 to December-2022 | F14: Oct-2021 to December-2021
A16: I | B16: POWER PURCHASE
A17: 1 | B17: Purchase From CPPS/Wind Farms/Solar | C17: MUS | D17: =+E17-7710 -> 3450 | E17: 11160 | F17: =+(G17-6749.02)*0+3240.3 -> 3240.3 | G17: 9916.524 | H17: =(D17-F17)/F17 -> 0.06471623 | I17: =(E17-G17)/G17 -> 0.12539434
A18: 2 | B18: Purchase from GUVNL [Net of Trading Credit & UI] | C18: MUS
A19: 3 | B19: Purchase from Central Sector | C19: MUS
B20: [a] Share | C20: MUS
B21: [b] Actual Purchase | C21: MUS
B22: Total Purchase of Power | C22: MUS | D22: =+D17+D20+D21 -> 3450 | E22: =+E17+E20+E21 -> 11160 | F22: =+F17+F20+F21 -> 3240.3 | G22: =+G17+G20+G21 -> 9916.524 | H22: =(D22-F22)/F22 -> 0.06471623 | I22: =(E22-G22)/G22 -> 0.12539434
A24: II | B24: ENERGY BALANCE SHEET
A25: 1 | B25: Total Generation + Purchase of Power | C25: MUS | D25: =+D17 -> 3450 | E25: =+E22 -> 11160 | F25: =+F17 -> 3240.3 | G25: =+G22 -> 9916.524 | H25: =(D25-F25)/F25 -> 0.06471623 | I25: =(E25-G25)/G25 -> 0.12539434
A26: 2 | B26: Units Sent Out | C26: MUS | D26: =+D25 -> 3450 | E26: =+E25 -> 11160 | F26: =+F25 -> 3240.3 | G26: =+G25 -> 9916.524 | H26: =(D26-F26)/F26 -> 0.06471623 | I26: =(E26-G26)/G26 -> 0.12539434
A27: 3 | B27: Metered + Estimated Unmetered & Unbilled Sales | C27: MUS | D27: =+E27-6589 -> 3143 | E27: 9732 | F27: =+'SHEET-4'!F40 -> 2794.357 | G27: 8590.021 | H27: =(D27-F27)/F27 -> 0.12476681 | I27: =(E27-G27)/G27 -> 0.13294252
A28: 4 | B28: T&D Losses [2-3] | C28: MUS | D28: =+D26-D27 -> 307 | E28: =+E26-E27 -> 1428 | F28: =+F26-F27 -> 445.943 | G28: =+G26-G27 -> 1326.503 | H28: =(D28-F28)/F28 -> -0.31157121 | I28: =(E28-G28)/G28 -> 0.076514716
A29: 5 | B29: T & D Loss [4] / [2] * 100 | C29: % | D29: =+(D28/D26) -> 0.088985507 | E29: =+(E28/E26) -> 0.12795699 | F29: =+(F28/F26) -> 0.13762399 | G29: =+(G28/G26) -> 0.13376693 | H29: =D29-F29 -> -0.048638478 | I29: =E29-G29 -> -0.0058099436
A31: III | B31: SALES, BILLING AND REALISATION
A32: 1 | B32: Billed [Metered + Unmetered] with E. D. | C32: Rs. In Crores | D32: =+E32-4409.76-811.79+269.03 -> 2649.53 | E32: =+'SHEET-5'!E25+811.79 -> 7602.05 | F32: =+G32-4014.57 -> 2090.12 | G32: =+'[7]SHEET-5'!G25+67.46+74.76+74.66+77.48+78.83+78.67+77.94+81.83+70.78 -> 6104.69 | H32: =(D32-F32)/F32 -> 0.26764492 | I32: =(E32-G32)/G32 -> 0.24528027
A33: 2 | B33: Billed - Theft Assessment
A34: 3 | B34: Total Billed [1 + 2] | C34: Rs. In Crores | D34: =+D32 -> 2649.53 | E34: =+E32 -> 7602.05 | F34: =+F32 -> 2090.12 | G34: =+G32 -> 6104.69 | H34: =(D34-F34)/F34 -> 0.26764492 | I34: =(E34-G34)/G34 -> 0.24528027
A35: 4 | B35: Amount realised [Metered + Unmetered] with E. D. | C35: Rs. In Crores | D35: =+D34*99.31% -> 2631.2482 | E35: =+E34*97.53% -> 7414.2794 | F35: =+F34*102.89% -> 2150.5245 | G35: =+G34*98.2% -> 5994.8056 | H35: =(D35-F35)/F35 -> 0.22353792 | I35: =(E35-G35)/G35 -> 0.23678396
A36: 5 | B36: Amount realised against Theft of Energy
A37: 6 | B37: Total Amount realised [4 + 5] | C37: Rs. In Crores | D37: =+D35 -> 2631.2482 | E37: =+E35 -> 7414.2794 | F37: =+F35 -> 2150.5245 | G37: =+G35 -> 5994.8056 | H37: =(D37-F37)/F37 -> 0.22353792 | I37: =(E37-G37)/G37 -> 0.23678396
A38: 7 | B38: Amount realised as % of amount billed [6] / [3] | C38: % | D38: =+D37/D34 -> 0.9931 | E38: =+E37/E34 -> 0.9753 | F38: =+F37/F34 -> 1.0289 | G38: =+G37/G34 -> 0.982 | H38: =D38-F38 -> -0.0358 | I38: =E38-G38 -> -0.0067

Sheet SHEET-2
I2: [ 2 ]
A5: MADHYA GUJARAT VIJ COMPANY LIMITED
A8: II - KEY PARAMETERS
A10: COST OF SUPPLY - 2
D12: Current Year | F12: Previous Year | H12: % Change
D13: Quarterly | E13: Cummulative | F13: Quarterly | G13: Cummulative | H13: Quarterly | I13: Cummulative
D14: =+'SHEET-1'!D14:E14 -> Oct-2022 to December-2022 | F14: =+'SHEET-1'!F14:G14 -> Oct-2021 to December-2021
A15: I | B15: COST OF SUPPLY
A16: 1 | B16: Average Cost of Purchase of Power [Net] | C16: Rs. /KWH | D16: =ROUND(+('SHEET-3'!D15/'SHEET-1'!D22)*10,2) -> 6.6 | E16: =ROUND(+('SHEET-3'!E15/'SHEET-1'!E22)*10,2) -> 5.89 | F16: =ROUND(+('[7]SHEET-3'!F15/'[7]SHEET-1'!F22)*10,2) -> 5.46 | G16: =ROUND(+('[7]SHEET-3'!G15/'[7]SHEET-1'!G22)*10,2) -> 5.01 | H16: =(D16-F16)/F16 -> 0.20879121 | I16: =(E16-G16)/G16 -> 0.1756487
A17: 2 | B17: Cost at Bus Bar | C17: Rs. /KWH
A18: 3 | B18: Costo of Supply at EHT [at 66 KV] | C18: Rs. /KWH
A19: 4 | B19: Cost of Supply at LT [at 11 KV] | C19: Rs. /KWH
A20: 5 | B20: Cost of Supply at HT [at 11 KV] | C20: Rs. /KWH
A21: 6 | B21: Average Cost of Supply per unit of sales | C21: Rs. /KWH | D21: =ROUND(+('SHEET-3'!D23/'SHEET-1'!D27)*10,2) -> 8.22 | E21: =ROUND(+('SHEET-3'!E23/'SHEET-1'!E27)*10,2) -> 7.64 | F21: =ROUND(+('SHEET-3'!F23/'SHEET-1'!F27)*10,2) -> 7.14 | G21: =ROUND(+('SHEET-3'!G23/'SHEET-1'!G27)*10,2) -> 6.71 | H21: =(D21-F21)/F21 -> 0.1512605 | I21: =(E21-G21)/G21 -> 0.13859911
A23: II | B23: SALES REALISATION WITHOUT E. D.
A24: 1 | B24: H. T. | C24: Rs. /KWH | D24: =ROUND(+'SHEET-5'!D32/100,2) -> 8.4 | E24: =ROUND(+'SHEET-5'!E32/100,2) -> 8.03 | F24: =ROUND(+'[7]SHEET-5'!F32/100,2) -> 7.12 | G24: =ROUND(+'[7]SHEET-5'!G32/100,2) -> 6.71 | H24: =(D24-F24)/F24 -> 0.17977528 | I24: =(E24-G24)/G24 -> 0.19672131
A25: 2 | B25: L. T. | C25: Rs. /KWH | D25: =ROUND(+'SHEET-5'!D39/100,2) -> 6.89 | E25: =ROUND(+'SHEET-5'!E39/100,2) -> 6.18 | F25: =ROUND(+'[7]SHEET-5'!F39/100,2) -> 6.5 | G25: =ROUND(+'[7]SHEET-5'!G39/100,2) -> 6 | H25: =(D25-F25)/F25 -> 0.06 | I25: =(E25-G25)/G25 -> 0.03
A26: 3 | B26: Average Sales Realisation | C26: Rs. /KWH | D26: =ROUND(+'SHEET-5'!D40/100,2) -> 7.58 | E26: =ROUND(+'SHEET-5'!E40/100,2) -> 6.98 | F26: =ROUND(+'[7]SHEET-5'!F40/100,2) -> 6.81 | G26: =ROUND(+'[7]SHEET-5'!G40/100,2) -> 6.31 | H26: =(D26-F26)/F26 -> 0.11306902 | I26: =(E26-G26)/G26 -> 0.10618067
B28: Special Observation on above points

Sheet SHEET-3
I2: [ 3 ]
A5: MADHYA GUJARAT VIJ COMPANY LIMITED
A8: I - KEY PARAMETERS
A10: FINANCIAL DATA - 3
D12: Current Year [Provisional] | F12: Previous Year | H12: % Change
D13: Quarterly | E13: Cummulative | F13: Quarterly | G13: Cummulative | H13: Quarterly | I13: Cummulative
D14: =+'SHEET-2'!D14:E14 -> Oct-2022 to December-2022 | F14: =+'SHEET-2'!F14:G14 -> Oct-2021 to December-2021
A15: 1 | B15: Cost of Power Purchase [Net] | C15: Rs. In Crore | D15: =+E15-4292.05 -> 2278.33 | E15: 6570.38 | F15: 1718.53 | G15: 4964.53 | H15: =(D15-F15)/F15 -> 0.32574351 | I15: =(E15-G15)/G15 -> 0.32346466
A16: 2 | B16: Employees Cost | C16: Rs. In Crore | D16: =+E16-291.8 -> 158.36 | E16: 450.16 | F16: =144.56+6.39 -> 150.95 | G16: =+'SHEET-7'!D23 -> 434.99 | H16: =(D16-F16)/F16 -> 0.049089102 | I16: =(E16-G16)/G16 -> 0.034874365
A17: 3 | B17: Interest | C17: Rs. In Crore | D17: =+E17-24.28 -> 12.15 | E17: 36.43 | F17: 14.11 | G17: =+'SHEET-7'!D29 -> 40.06 | H17: =(D17-F17)/F17 -> -0.13890858 | I17: =(E17-G17)/G17 -> -0.090614079
A18: 4 | B18: Repairs and Maintenance | C18: Rs. In Crore | D18: =+E18-40.86 -> 20.42 | E18: 61.28 | F18: =+G18-40.64 -> 19.26 | G18: =+'SHEET-7'!D24 -> 59.9 | H18: =(D18-F18)/F18 -> 0.060228453 | I18: =(E18-G18)/G18 -> 0.023038397
A19: 5 | B19: Depreciation | C19: Rs. In Crore | D19: =+E19-134.76 -> 75.65 | E19: 210.41 | F19: =+G19-142.73 -> 58.71 | G19: =+'SHEET-7'!D28 -> 201.44 | H19: =(D19-F19)/F19 -> 0.28853688 | I19: =(E19-G19)/G19 -> 0.044529388
A20: 6 | B20: Admin. And General Expenditure | C20: Rs. In Crore | D20: =+E20-46.94 -> 24.25 | E20: 71.19 | F20: =+G20-42.19 -> 20.94 | G20: =+'SHEET-7'!D25 -> 63.13 | H20: =(D20-F20)/F20 -> 0.15807068 | I20: =(E20-G20)/G20 -> 0.12767306
A21: 6a | B21: Expenses Capitalized | C21: Rs. In Crore | D21: 0 | E21: =+'SHEET-7'!C32 -> 0 | F21: =+G21+20.11 -> -7.09 | G21: =+'SHEET-7'!D32 -> -27.2 | H21: =(D21-F21)/F21 -> -1 | I21: =(E21-G21)/G21 -> -1
A22: 7 | B22: Other Debits & Prior Period Adjustment | C22: Rs. In Crore | D22: =+E22-26.3 -> 13.16 | E22: 39.46 | F22: 18.79 | G22: =+'SHEET-7'!D26 -> 25.97 | H22: =(D22-F22)/F22 -> -0.29962746 | I22: =(E22-G22)/G22 -> 0.51944551
A23: 8 | B23: Total Cost Excluding Profit / Return | C23: Rs. In Crore | D23: =+SUM(D15:D22) -> 2582.32 | E23: =+SUM(E15:E22) -> 7439.31 | F23: =+SUM(F15:F22) -> 1994.2 | G23: =+SUM(G15:G22) -> 5762.82 | H23: =(D23-F23)/F23 -> 0.29491525 | I23: =(E23-G23)/G23 -> 0.29091486
B24: Income:
A25: 9 | B25: Other Income | C25: Rs. In Crore | D25: =+E25-143.91 -> 71.96 | E25: 215.87 | F25: =+G25-77.65 -> 25.36 | G25: =+'SHEET-7'!D14 -> 103.01 | H25: =(D25-F25)/F25 -> 1.8375394 | I25: =(E25-G25)/G25 -> 1.0956218
A26: 10 | B26: Sales Amount [Without E. D.] [Incl. T.C/FCA] | C26: Rs. In Crore | D26: =+E26-4472.97 -> 2436.82 | E26: 6909.79 | F26: =+G26-3566.49-17.65 -> 1949.38 | G26: =+'SHEET-7'!D11 -> 5533.52 | H26: =(D26-F26)/F26 -> 0.25004873 | I26: =(E26-G26)/G26 -> 0.2487151
A27: 11 | B27: Agricultural Subsidy Received | C27: Rs. In Crore | D27: =+E27-34.39 -> 17.2 | E27: 51.59 | F27: =+G27-42.42 -> 16.32 | G27: =+'SHEET-7'!D13 -> 58.74 | H27: =(D27-F27)/F27 -> 0.053921569 | I27: =(E27-G27)/G27 -> -0.12172285
A28: 12 | B28: Misc. Revenue Related Recovery | C28: Rs. In Crore | D28: =+E28-53.68 -> 0.31 | E28: 53.99 | F28: =+G28-105.49 -> 18.11 | G28: =+'SHEET-7'!D12 -> 123.6 | H28: =(D28-F28)/F28 -> -0.98288239 | I28: =(E28-G28)/G28 -> -0.5631877
A29: 13 | B29: Total Income(9+10+11+12) | C29: Rs. In Crore | D29: =+SUM(D25:D28) -> 2526.29 | E29: =+SUM(E25:E28) -> 7231.24 | F29: =+SUM(F25:F28) -> 2009.17 | G29: =+SUM(G25:G28) -> 5818.87 | H29: =(D29-F29)/F29 -> 0.25737991 | I29: =(E29-G29)/G29 -> 0.24272238
A30: 14 | B30: Cost of Power Purchase as % of Total Cost [1]/[8] | C30: % | D30: =D15/D23 -> 0.88228028 | E30: =E15/E23 -> 0.8831975 | F30: =F15/F23 -> 0.86176412 | G30: =G15/G23 -> 0.86147581 | H30: =D30-F30 -> 0.020516159 | I30: =E30-G30 -> 0.021721696
B31: PROFIT BEFORE TAX | D31: =+D29-D23 -> -56.03 | E31: =+E29-E23 -> -208.07 | F31: =+F29-F23 -> 14.97 | G31: =+G29-G23 -> 56.05
A32: 15 | B32: Capital Expenditure | C32: Rs. In Crore | D32: =+E32-30.21 -> -41.55 | E32: -11.34 | F32: =+G32-63.92 -> 92.52 | G32: 156.44 | H32: =(D32-F32)/F32 -> -1.4490921 | I32: =(E32-G32)/G32 -> -1.0724879
A33: 16 | B33: New Long Term Borrowings | C33: Rs. In Crore | D33: 0 | E33: =+D33 -> 0 | F33: 0 | G33: =+F33 -> 0 | H33: 0 | I33: 0
A34: 17 | B34: C.C.drawl at the end of the Quarter | C34: Rs. In Crore | D34: 0 | E34: =+D34 -> 0 | F34: 0 | G34: =+F34 -> 0 | H34: 0 | I34: 0
D57: =3+0.58+0.94 -> 4.52 | E57: 30066981 | F57: 5786401.8 | G57: 9381444.4 | H57: 87524122
E58: =E57/10^7 -> 3.0066981 | F58: =F57/10^7 -> 0.57864017 | G58: =G57/10^7 -> 0.93814444 | H58: =H57/10^7 -> 8.7524122
D66: 0.64
D67: =SUM(D64:D66) -> 0.64

Sheet SHEET-4
I2: [ 4]
A5: MADHYA GUJARAT VIJ COMPANY LIMITED
A7: III - SALES AND REVENUE DATA
A9: NOS. OF CONSUMERS AND UNIT SOLD
D11: Current Year | F11: Previous Year | H11: % Change
D12: Quarterly | E12: Cummulative | F12: Quarterly | G12: Cummulative | H12: Quarterly | I12: Cummulative
A13: [A] | B13: NOS. OF CONSUMERS [WITHOUT PDC] | D13: =+'SHEET-3'!D14:E14 -> Oct-2022 to December-2022 | F13: =+'SHEET-3'!F14:G14 -> Oct-2021 to December-2021
A14: 1 | B14: H. T. | C14: Nos. | D14: 2802 | E14: =D14 -> 2802 | F14: =2518+107 -> 2625 | G14: =F14 -> 2625 | H14: =(D14-F14)/F14 -> 0.067428571 | I14: =(E14-G14)/G14 -> 0.067428571 | M14: 2760
A15: 2 | B15: Railways | C15: Nos. | D15: 0 | E15: =D15 -> 0 | F15: 0 | G15: =F15 -> 0 | H15: =(D15-F15)/F15 -> #DIV/0! | I15: =(E15-G15)/G15 -> #DIV/0!
A16: 3 | B16: Liecence | C16: Nos. | D16: 0 | E16: =D16 -> 0 | F16: 0 | G16: =F16 -> 0 | H16: 0 | I16: 0
A17: 4 | B17: Total H.T. + E.H.T. | C17: Nos. | D17: =SUM(D14:D16) -> 2802 | E17: =SUM(E14:E16) -> 2802 | F17: =SUM(F14:F16) -> 2625 | G17: =SUM(G14:G16) -> 2625 | H17: =(D17-F17)/F17 -> 0.067428571 | I17: =(E17-G17)/G17 -> 0.067428571
A18: 5 | B18: Residential | C18: Nos. | D18: 2834466 | E18: =D18 -> 2834466 | F18: 2789524 | G18: =F18 -> 2789524 | H18: =(D18-F18)/F18 -> 0.016110992 | I18: =(E18-G18)/G18 -> 0.016110992 | M18: 2834466
A19: 6 | B19: Commercial | C19: Nos. | D19: =34940+365368 -> 400308 | E19: =D19 -> 400308 | F19: 388424 | G19: =F19 -> 388424 | H19: =(D19-F19)/F19 -> 0.030595432 | I19: =(E19-G19)/G19 -> 0.030595432 | M19: 34940
A20: 7 | B20: Industrial | C20: Nos. | M20: 365368
A21: 8 | B21: Others [Water Works / Public Lighting] | C21: Nos. | D21: 28481 | E21: =D21 -> 28481 | F21: 25913 | G21: =F21 -> 25913 | H21: =(D21-F21)/F21 -> 0.099100837 | I21: =(E21-G21)/G21 -> 0.099100837 | M21: 28481
A22: 9 | B22: Total L.T. Excluding Agricultural | C22: Nos. | D22: =+SUM(D18:D21) -> 3263255 | E22: =D22 -> 3263255 | F22: =+SUM(F18:F21) -> 3203861 | G22: =F22 -> 3203861 | H22: =(D22-F22)/F22 -> 0.018538257 | I22: =(E22-G22)/G22 -> 0.018538257 | M22: =SUM(M18:M21) -> 3263255
A23: 10 | B23: Agricultural | C23: Nos. | D23: 207452 | E23: =D23 -> 207452 | F23: =198237+10 -> 198247 | G23: =F23 -> 198247 | H23: =(D23-F23)/F23 -> 0.046431976 | I23: =(E23-G23)/G23 -> 0.046431976 | M23: 207442
A24: 11 | B24: Total L. T. Including Agricultural | C24: Nos. | D24: =+D22+D23 -> 3470707 | E24: =D24 -> 3470707 | F24: =+F22+F23 -> 3402108 | G24: =F24 -> 3402108 | H24: =(D24-F24)/F24 -> 0.020163675 | I24: =(E24-G24)/G24 -> 0.020163675 | M24: =SUM(M23) -> 207442
A25: 12 | B25: Total H.T. + E.H.T. + L. T. [WITHOUT P.D.C.] | C25: Nos. | D25: =+D17+D24 -> 3473509 | E25: =D25 -> 3473509 | F25: =+F17+F24 -> 3404733 | G25: =F25 -> 3404733 | H25: =(D25-F25)/F25 -> 0.020200116 | I25: =(E25-G25)/G25 -> 0.020200116 | M25: =+M22+M24+M14 -> 3473457
A27: [B] | B27: NOS. OF UNITS SOLD
A29: 1 | B29: H. T. | C29: M.KWH | D29: =+E29-M29 -> 1431.457 | E29: 4187.265 | F29: 1411.998 | G29: 3817.368 | H29: =(D29-F29)/F29 -> 0.013781181 | I29: =(E29-G29)/G29 -> 0.096898439 | M29: 2755.808
A30: 2 | B30: Railways | C30: M.KWH | D30: 0 | E30: =+D30 -> 0 | F30: 0 | G30: =+F30 -> 0 | H30: =(D30-F30)/F30 -> #DIV/0! | I30: =(E30-G30)/G30 -> #DIV/0! | M30: 0
A31: 3 | B31: Liecence | C31: M.KWH | D31: 0 | E31: 0 | F31: 0 | G31: 0 | H31: 0 | I31: 0 | M31: 0
A32: 4 | B32: Total H.T. + E.H.T. | C32: M.KWH | D32: =D29+D30 -> 1431.457 | E32: =E29+E30 -> 4187.265 | F32: =F29+F30 -> 1411.998 | G32: =G29+G30 -> 3817.368 | H32: =(D32-F32)/F32 -> 0.013781181 | I32: =(E32-G32)/G32 -> 0.096898439 | M32: 2755.808
A33: 5 | B33: Residential | C33: M.KWH | D33: =+E33-M33 -> 607.102 | E33: 2403.11 | F33: =+G33-1720.362 -> 537.187 | G33: 2257.549 | H33: =(D33-F33)/F33 -> 0.13015021 | I33: =(E33-G33)/G33 -> 0.064477449 | M33: 1796.008
A34: 6 | B34: Commercial | C34: M.KWH | D34: =+E34-M34 -> 465.831 | E34: 1544.364 | F34: =+G34-952.796 -> 425.613 | G34: 1378.409 | H34: =(D34-F34)/F34 -> 0.094494294 | I34: =(E34-G34)/G34 -> 0.12039605 | M34: 1078.533
A35: 7 | B35: Industrial | C35: M.KWH
A36: 8 | B36: Others [Water Works / Public Lighting] | C36: M.KWH | D36: =+E36-M36 -> 110.517 | E36: 310.779 | F36: =+G36-190.059 -> 92.729 | G36: 282.788 | H36: =(D36-F36)/F36 -> 0.1918278 | I36: =(E36-G36)/G36 -> 0.098982276 | M36: 200.262
A37: 9 | B37: Total L.T. Excluding Agricultural | C37: M.KWH | D37: =SUM(D33:D36) -> 1183.45 | E37: =SUM(E33:E36) -> 4258.253 | F37: =SUM(F33:F36) -> 1055.529 | G37: =SUM(G33:G36) -> 3918.746 | H37: =(D37-F37)/F37 -> 0.12119136 | I37: =(E37-G37)/G37 -> 0.086636643 | M37: 3074.803
A38: 10 | B38: Agricultural [Metered + Unmetered] | C38: M.KWH | D38: =+E38-M38 -> 527.596 | E38: 1286.441 | F38: =+G38-527.077 -> 326.83 | G38: 853.907 | H38: =(D38-F38)/F38 -> 0.61428265 | I38: =(E38-G38)/G38 -> 0.50653526 | M38: 758.845
A39: 11 | B39: Total L. T. Including Agricultural | C39: M.KWH | D39: =SUM(D37:D38) -> 1711.046 | E39: =SUM(E37:E38) -> 5544.694 | F39: =SUM(F37:F38) -> 1382.359 | G39: =SUM(G37:G38) -> 4772.653 | H39: =(D39-F39)/F39 -> 0.23777253 | I39: =(E39-G39)/G39 -> 0.16176349 | M39: 3833.648
A40: 12 | B40: Total H.T. + E.H.T. + L. T. | C40: M.KWH | D40: =D32+D39 -> 3142.503 | E40: =E32+E39 -> 9731.959 | F40: =F32+F39 -> 2794.357 | G40: =G32+G39 -> 8590.021 | H40: =(D40-F40)/F40 -> 0.12458895 | I40: =(E40-G40)/G40 -> 0.13293774 | M40: 6589.456
D52: 1639.71 | E52: 5096.36
D57: 335.74 | E57: 335.74 | F57: =D40-D52 -> 1502.793
D58: 346.72 | E58: 346.72 | F58: =E40-E52 -> 4635.599
D59: =SUM(D57:D58) -> 682.46 | E59: =SUM(E57:E58) -> 682.46
D64: Q1 2014 | E64: Q1 2013
C65: Metered | D65: 153.2 | E65: 171.66 | F65: =(D65-E65)/E65 -> -0.10753816
C66: Unmetered | D66: 136.37 | E66: 136.62 | F66: =(D66-E66)/E66 -> -0.0018298931
D67: =SUM(D65:D66) -> 289.57 | E67: =SUM(E65:E66) -> 308.28 | F67: =(D67-E67)/E67 -> -0.060691579

Sheet SHEET-5
I2: [ 5 ]
A5: MADHYA GUJARAT VIJ COMPANY LIMITED
A7: III - SALES AND REVENUE DATA
A9: SALES REVENUE AMOUNT AND PAISE / UNIT
D11: Current Year | F11: Previous Years | H11: % Change
D12: Quarterly | E12: Cummulative | F12: Quarterly | G12: Cummulative | H12: Quarterly | I12: Cummulative
A13: [C] | B13: SALES REVENUE BILLED : | D13: =+'SHEET-4'!D13:E13 -> Oct-2022 to December-2022 | F13: =+'SHEET-4'!F13:G13 -> Oct-2021 to December-2021 | K13: YTD Q2
A14: 1 | B14: H. T. | C14: Rs. In Crore | D14: =+E14-K14 -> 1202.25 | E14: 3360.88 | F14: =+G14-1600.37 -> 960.52 | G14: 2560.89 | H14: =(D14-F14)/F14 -> 0.25166576 | I14: =(E14-G14)/G14 -> 0.31238749 | K14: 2158.63
A15: 2 | B15: Railway | C15: Rs. In Crore | D15: 0 | E15: 0 | F15: 0 | G15: 0 | H15: =(D15-F15)/F15 -> #DIV/0! | I15: =(E15-G15)/G15 -> #DIV/0! | K15: 0
A16: 3 | B16: Liecence | C16: Rs. In Crore | D16: 0 | E16: 0 | F16: 0 | G16: 0 | H16: 0 | I16: 0 | K16: 0
A17: 4 | B17: Total H.T. + E.H.T. | C17: Rs. In Crore | D17: =SUM(D14:D16) -> 1202.25 | E17: =SUM(E14:E16) -> 3360.88 | F17: =SUM(F14:F16) -> 960.52 | G17: =SUM(G14:G16) -> 2560.89 | H17: =(D17-F17)/F17 -> 0.25166576 | I17: =(E17-G17)/G17 -> 0.31238749 | K17: 2158.63
A18: 5 | B18: Residential | C18: Rs. In Crore | D18: =+E18-K18 -> 475.24 | E18: 1497.14 | F18: =+G18-959.77 -> 298.14 | G18: 1257.91 | H18: =(D18-F18)/F18 -> 0.59401623 | I18: =(E18-G18)/G18 -> 0.19018054 | K18: 1021.9
A19: 6 | B19: Commercial | C19: Rs. In Crore | D19: =+E19-K19 -> 358.9 | E19: 1225.25 | F19: =+G19-706.9 -> 318.66 | G19: 1025.56 | H19: =(D19-F19)/F19 -> 0.12627879 | I19: =(E19-G19)/G19 -> 0.19471313 | K19: 866.35
A20: 7 | B20: Industrial | C20: Rs. In Crore
A21: 8 | B21: Others [Water Works / Public Lighting] | C21: Rs. In Crore | D21: =+E21-K21 -> 85.67 | E21: 227.59 | F21: =+G21-122.67 -> 74.39 | G21: 197.06 | H21: =(D21-F21)/F21 -> 0.15163328 | I21: =(E21-G21)/G21 -> 0.15492743 | K21: 141.92
A22: 9 | B22: Total L.T. Excluding Agricultural | C22: Rs. In Crore | D22: =SUM(D18:D21) -> 919.81 | E22: =SUM(E18:E21) -> 2949.98 | F22: =SUM(F18:F21) -> 691.19 | G22: =SUM(G18:G21) -> 2480.53 | H22: =(D22-F22)/F22 -> 0.33076289 | I22: =(E22-G22)/G22 -> 0.18925391 | K22: 2030.17
A23: 10 | B23: Agricultural [Including Tariff Comp.]/[FPPPA] | C23: Rs. In Crore | D23: =+E23-K23 -> 258.44 | E23: =359.8+119.6 -> 479.4 | F23: =+G23-173 -> 207.86 | G23: 380.86 | H23: =(D23-F23)/F23 -> 0.24333686 | I23: =(E23-G23)/G23 -> 0.25873024 | K23: 220.96
A24: 11 | B24: Total L. T. Including Agricultural | C24: Rs. In Crore | D24: =SUM(D22:D23) -> 1178.25 | E24: =SUM(E22:E23) -> 3429.38 | F24: =SUM(F22:F23) -> 899.05 | G24: =SUM(G22:G23) -> 2861.39 | H24: =(D24-F24)/F24 -> 0.31055003 | I24: =(E24-G24)/G24 -> 0.19850143 | K24: 2251.13
A25: 12 | B25: Total H.T. + E.H.T. + L. T. | C25: Rs. In Crore | D25: =D17+D24 -> 2380.5 | E25: =E17+E24 -> 6790.26 | F25: =F17+F24 -> 1859.57 | G25: =G17+G24 -> 5422.28 | H25: =(D25-F25)/F25 -> 0.28013465 | I25: =(E25-G25)/G25 -> 0.25228871
A27: [D] | B27: SALES REALISATION
A29: 1 | B29: H. T. | C29: Paise / kwh | D29: =D14/'SHEET-4'!D29*1000 -> 839.87853 | E29: =E14/'SHEET-4'!E29*1000 -> 802.64325 | F29: =F14/'[7]SHEET-4'!F29*1000 -> 712.39655 | G29: =G14/'[7]SHEET-4'!G29*1000 -> 670.85227 | H29: =(D29-F29)/F29 -> 0.17894805 | I29: =(E29-G29)/G29 -> 0.19645306 | N29: =(D14/'SHEET-4'!D29)*1000 -> 839.87853 | O29: =(E14/'SHEET-4'!E29)*1000 -> 802.64325 | P29: =(F14/'SHEET-4'!F29)*1000 -> 680.25592 | Q29: =(G14/'SHEET-4'!G29)*1000 -> 670.85227
A30: 2 | B30: Railway | C30: Paise / kwh | D30: 0 | E30: 0 | F30: 0 | G30: 0 | H30: =(D30-F30)/F30 -> #DIV/0! | I30: =(E30-G30)/G30 -> #DIV/0! | N30: =(D15/'SHEET-4'!D30)*1000 -> #DIV/0! | O30: =(E15/'SHEET-4'!E30)*1000 -> #DIV/0! | P30: =(F15/'SHEET-4'!F30)*1000 -> #DIV/0!
A31: 3 | B31: Liecence | C31: Paise / kwh | D31: 0 | E31: 0 | F31: 0 | G31: 0 | H31: 0 | I31: 0 | N31: =(D16/'SHEET-4'!D31)*1000 -> #DIV/0! | O31: =(E16/'SHEET-4'!E31)*1000 -> #DIV/0! | P31: =(F16/'SHEET-4'!F31)*1000 -> #DIV/0!
A32: 4 | B32: Total H.T. + E.H.T. | C32: Paise / kwh | D32: =D17/'SHEET-4'!D32*1000 -> 839.87853 | E32: =E17/'SHEET-4'!E32*1000 -> 802.64325 | F32: =F17/'[7]SHEET-4'!F32*1000 -> 712.39655 | G32: =G17/'[7]SHEET-4'!G32*1000 -> 670.85227 | H32: =(D32-F32)/F32 -> 0.17894805 | I32: =(E32-G32)/G32 -> 0.19645306 | N32: =(D17/'SHEET-4'!D32)*1000 -> 839.87853 | O32: =(E17/'SHEET-4'!E32)*1000 -> 802.64325 | P32: =(F17/'SHEET-4'!F32)*1000 -> 680.25592
A33: 5 | B33: Residential | C33: Paise / kwh | D33: =D18/'SHEET-4'!D33*1000*0.8 -> 626.24073 | E33: =E18/'SHEET-4'!E33*1000 -> 623.00103 | F33: =F18/'[7]SHEET-4'!F33*1000 -> 555.00226 | G33: =G18/'[7]SHEET-4'!G33*1000 -> 557.20164 | H33: =(D33-F33)/F33 -> 0.12835708 | I33: =(E33-G33)/G33 -> 0.11808901 | N33: =(D18/'SHEET-4'!D33)*1000 -> 782.80091 | O33: =(E18/'SHEET-4'!E33)*1000 -> 623.00103 | P33: =(F18/'SHEET-4'!F33)*1000 -> 555.00226
A34: 6 | B34: Commercial | C34: Paise / kwh | D34: =D19/'SHEET-4'!D34*1000 -> 770.45109 | E34: =E19/'SHEET-4'!E34*1000 -> 793.36866 | F34: =F19/'[7]SHEET-4'!F34*1000 -> 748.70833 | G34: =G19/'[7]SHEET-4'!G34*1000 -> 744.0172 | H34: =(D34-F34)/F34 -> 0.029040351 | I34: =(E34-G34)/G34 -> 0.066331081 | N34: =(D19/'SHEET-4'!D34)*1000 -> 770.45109 | O34: =(E19/'SHEET-4'!E34)*1000 -> 793.36866 | P34: =(F19/'SHEET-4'!F34)*1000 -> 748.70833
A35: 7 | B35: Industrial | C35: Paise / kwh | N35: =(D20/'SHEET-4'!D35)*1000 -> #DIV/0! | O35: =(E20/'SHEET-4'!E35)*1000 -> #DIV/0! | P35: =(F20/'SHEET-4'!F35)*1000 -> #DIV/0!
A36: 8 | B36: Others [Water Works / Public Lighting] | C36: Paise / kwh | D36: =D21/'SHEET-4'!D36*1000 -> 775.17486 | E36: =E21/'SHEET-4'!E36*1000 -> 732.32104 | F36: =F21/'[7]SHEET-4'!F36*1000 -> 802.23015 | G36: =G21/'[7]SHEET-4'!G36*1000 -> 696.84711 | H36: =(D36-F36)/F36 -> -0.033725103 | I36: =(E36-G36)/G36 -> 0.050906332 | N36: =(D21/'SHEET-4'!D36)*1000 -> 775.17486 | O36: =(E21/'SHEET-4'!E36)*1000 -> 732.32104 | P36: =(F21/'SHEET-4'!F36)*1000 -> 802.23015
A37: 9 | B37: Total L.T. Excluding Agricultural | C37: Paise / kwh | D37: =D22/'SHEET-4'!D37*1000 -> 777.2276 | E37: =E22/'SHEET-4'!E37*1000 -> 692.76767 | F37: =F22/'[7]SHEET-4'!F37*1000 -> 654.82805 | G37: =G22/'[7]SHEET-4'!G37*1000 -> 632.99076 | H37: =(D37-F37)/F37 -> 0.1869186 | I37: =(E37-G37)/G37 -> 0.094435676 | N37: =(D22/'SHEET-4'!D37)*1000 -> 777.2276 | O37: =(E22/'SHEET-4'!E37)*1000 -> 692.76767 | P37: =(F22/'SHEET-4'!F37)*1000 -> 654.82805
A38: 10 | B38: Agricultural | C38: Paise / kwh | D38: =D23/'SHEET-4'!D38*1000 -> 489.8445 | E38: =E23/'SHEET-4'!E38*1000 -> 372.65603 | F38: =F23/'[7]SHEET-4'!F38*1000 -> 635.98813 | G38: =G23/'[7]SHEET-4'!G38*1000 -> 446.02047 | H38: =(D38-F38)/F38 -> -0.22978986 | I38: =(E38-G38)/G38 -> -0.1644867 | N38: =(D23/'SHEET-4'!D38)*1000 -> 489.8445 | O38: =(E23/'SHEET-4'!E38)*1000 -> 372.65603 | P38: =(F23/'SHEET-4'!F38)*1000 -> 635.98813
A39: 11 | B39: Total L. T. Including Agricultural | C39: Paise / kwh | D39: =D24/'SHEET-4'!D39*1000 -> 688.61387 | E39: =E24/'SHEET-4'!E39*1000 -> 618.49761 | F39: =F24/'[7]SHEET-4'!F39*1000 -> 650.37375 | G39: =G24/'[7]SHEET-4'!G39*1000 -> 599.53866 | H39: =(D39-F39)/F39 -> 0.058797146 | I39: =(E39-G39)/G39 -> 0.031622563 | N39: =(D24/'SHEET-4'!D39)*1000 -> 688.61387 | O39: =(E24/'SHEET-4'!E39)*1000 -> 618.49761 | P39: =(F24/'SHEET-4'!F39)*1000 -> 650.37375
A40: 12 | B40: Total H.T. + E.H.T. + L. T. | C40: Paise / kwh | D40: =D25/'SHEET-4'!D40*1000 -> 757.51718 | E40: =E25/'SHEET-4'!E40*1000 -> 697.72797 | F40: =F25/'[7]SHEET-4'!F40*1000 -> 680.99828 | G40: =G25/'[7]SHEET-4'!G40*1000 -> 631.23012 | H40: =(D40-F40)/F40 -> 0.11236283 | I40: =(E40-G40)/G40 -> 0.10534644 | N40: =(D25/'SHEET-4'!D40)*1000 -> 757.51718 | O40: =(E25/'SHEET-4'!E40)*1000 -> 697.72797 | P40: =(F25/'SHEET-4'!F40)*1000 -> 665.47331

Sheet SHEET-6
I2: [ 6 ]
A5: MADHYA GUJARAT VIJ COMPANY LIMITED
A7: III - SALES AND REVENUE DATA
A9: SALES REVENUE FIXED AND ENERGY CHARGE PAISE / UNIT AND UNITS SOLD PER CONSUMER
D11: Current Year | F11: Previous Year | H11: % Change
D12: Quarterly | E12: Cummulative | F12: Quarterly | G12: Cummulative | H12: Quarterly | I12: Cummulative
A13: [A] | B13: SALES REALISATION - FIXED CHARGES | D13: =+'SHEET-5'!D13:E13 -> Oct-2022 to December-2022 | F13: =+'SHEET-5'!F13:G13 -> Oct-2021 to December-2021
A14: 1 | B14: H. T. | C14: Paise / KWH | D14: 92.945335 | E14: 92.848882 | F14: 96.262419 | G14: 92.530929 | H14: =(D14-F14)/F14 -> -0.034458766 | I14: =(E14-G14)/G14 -> 0.0034361797
A15: 2 | B15: Railway | C15: Paise / KWH | D15: 0 | E15: 0 | F15: 0 | G15: 0 | H15: =(D15-F15)/F15 -> #DIV/0! | I15: =(E15-G15)/G15 -> #DIV/0!
A16: 3 | B16: Liecence | C16: Paise / KWH | D16: 0 | E16: 0 | F16: 0 | G16: 0 | H16: 0 | I16: 0
A17: 4 | B17: Total H.T. + E.H.T. | C17: Paise / KWH | D17: 92.945335 | E17: 92.848882 | F17: =SUM(F14:F16) -> 96.262419 | G17: =SUM(G14:G16) -> 92.530929 | H17: =(D17-F17)/F17 -> -0.034458766 | I17: =(E17-G17)/G17 -> 0.0034361797
A18: 5 | B18: Residential | C18: Paise / KWH | D18: 18.983145 | E18: 17.424439 | F18: 19.872228 | G18: 17.653204 | H18: =(D18-F18)/F18 -> -0.044739983 | I18: =(E18-G18)/G18 -> -0.012958826
A19: 6 | B19: Commercial | C19: Paise / KWH | D19: 81.335565 | E19: 78.581655 | F19: 84.366442 | G19: 82.344651 | H19: =(D19-F19)/F19 -> -0.035925152 | I19: =(E19-G19)/G19 -> -0.045698121
A20: 7 | B20: Industrial | C20: Paise / KWH
A21: 8 | B21: Other [Specify] | C21: Paise / KWH | D21: 3.4883153 | E21: 3.4730346 | F21: 3.5694925 | G21: 3.5454527 | H21: =(D21-F21)/F21 -> -0.022741939 | I21: =(E21-G21)/G21 -> -0.020425637
A22: 9 | B22: Total L.T. Excluding Agricultural | C22: Paise / KWH | D22: 41.200123 | E22: 38.578213 | F22: 42.328865 | G22: 39.032474 | H22: =(D22-F22)/F22 -> -0.026665999 | I22: =(E22-G22)/G22 -> -0.011638025
A23: 10 | B23: Agricultural | C23: Paise / KWH | D23: 35.45946 | E23: 35.400265 | F23: 49.238558 | G23: 39.781559 | H23: =(D23-F23)/F23 -> -0.27984366 | I23: =(E23-G23)/G23 -> -0.11013379
A24: 11 | B24: Total L. T. Including Agricultural | C24: Paise / KWH | D24: 40.435761 | E24: 38.147625 | F24: 43.136971 | G24: 39.128848 | H24: =(D24-F24)/F24 -> -0.062619365 | I24: =(E24-G24)/G24 -> -0.025076707
A25: 12 | B25: Total H.T. + E.H.T. + L. T. | C25: Paise / KWH | D25: 67.760933 | E25: 65.860464 | F25: 71.011912 | G25: 66.052852 | H25: =(D25-F25)/F25 -> -0.045780755 | I25: =(E25-G25)/G25 -> -0.0029126473
A27: [B] | B27: SALES REALISATION - ENERGY CHARGES
A29: 1 | B29: H. T. | C29: Paise / KWH | D29: 418.34047 | E29: 418.01312 | F29: 417.60639 | G29: 417.71288 | H29: =(D29-F29)/F29 -> 0.001757816 | I29: =(E29-G29)/G29 -> 0.00071875533
A30: 2 | B30: Railway | C30: Paise / KWH | D30: 0 | E30: 0 | F30: 0 | G30: 0 | H30: =(D30-F30)/F30 -> #DIV/0! | I30: =(E30-G30)/G30 -> #DIV/0!
A31: 3 | B31: Liecence | C31: Paise / KWH | D31: 0 | E31: 0 | F31: 0 | G31: 0 | H31: 0 | I31: 0
A32: 4 | B32: Total H.T. + E.H.T. | C32: Paise / KWH | D32: 418.34047 | E32: 418.01312 | F32: =F29 -> 417.60639 | G32: =G29 -> 417.71288 | H32: =(D32-F32)/F32 -> 0.001757816 | I32: =(E32-G32)/G32 -> 0.00071875533
A33: 5 | B33: Residential | C33: Paise / KWH | D33: 355.8102 | E33: 361.90938 | F33: 355.22122 | G33: 366.28444 | H33: =(D33-F33)/F33 -> 0.0016580688 | I33: =(E33-G33)/G33 -> -0.011944452
A34: 6 | B34: Commercial | C34: Paise / KWH | D34: 462.67466 | E34: 462.98253 | F34: 464.28384 | G34: 468.91491 | H34: =(D34-F34)/F34 -> -0.0034659476 | I34: =(E34-G34)/G34 -> -0.012651299
A35: 7 | B35: Industrial | C35: Paise / KWH | E35: #DIV/0! | G35: #DIV/0!
A36: 8 | B36: Other [Specify] | C36: Paise / KWH | D36: 334.1834 | E36: 336.75627 | F36: 337.56009 | G36: 343.97263 | H36: =(D36-F36)/F36 -> -0.010003206 | I36: =(E36-G36)/G36 -> -0.020979472
A37: 9 | B37: Total L.T. Excluding Agricultural | C37: Paise / KWH | D37: 394.16306 | E37: 396.75889 | F37: 393.76155 | G37: 400.20552 | H37: =(D37-F37)/F37 -> 0.0010196787 | I37: =(E37-G37)/G37 -> -0.0086121555
A38: 10 | B38: Agricultural (Incl. Tariff Comp.) | C38: Paise / KWH | D38: 92.701908 | E38: 86.060599 | F38: 99.823835 | G38: 88.582006 | H38: =(D38-F38)/F38 -> -0.071344956 | I38: =(E38-G38)/G38 -> -0.028464104
A39: 11 | B39: Total L. T. Including Agricultural | C39: Paise / KWH | D39: 354.02387 | E39: 354.66159 | F39: 359.3848 | G39: 360.11362 | H39: =(D39-F39)/F39 -> -0.014916984 | I39: =(E39-G39)/G39 -> -0.015139763
B40: Total H.T. + E.H.T. + L. T. | C40: Paise / KWH | D40: 387.49323 | E40: 386.75684 | F40: 389.93369 | G40: 389.15374 | H40: =(D40-F40)/F40 -> -0.0062586497 | I40: =(E40-G40)/G40 -> -0.006159262
A42: [C] | B42: UNIT SOLD PER CONSUMER
A44: 1 | B44: H. T. | C44: KWH | D44: ='SHEET-4'!D29/'SHEET-4'!D14*10^6 -> 510869.74 | E44: ='SHEET-4'!E29/'SHEET-4'!E14*10^6 -> 1494384.4 | F44: ='[7]SHEET-4'!F29/'[7]SHEET-4'!F14*10^6 -> 513635.81 | G44: ='[7]SHEET-4'!G29/'[7]SHEET-4'!G14*10^6 -> 1454235.4 | H44: =(D44-F44)/F44 -> -0.0053852819 | I44: =(E44-G44)/G44 -> 0.027608281
A45: 2 | B45: Railway | C45: KWH | D45: 0 | E45: 0 | F45: 0 | G45: 0 | H45: =(D45-F45)/F45 -> #DIV/0! | I45: =(E45-G45)/G45 -> #DIV/0!
A46: 3 | B46: Liecence | C46: KWH | D46: 0 | E46: =D46 -> 0 | F46: 0 | G46: =F46 -> 0 | H46: 0 | I46: 0
A47: 4 | B47: Total H.T. + E.H.T. | C47: KWH | D47: ='SHEET-4'!D32/'SHEET-4'!D17*10^6 -> 510869.74 | E47: ='SHEET-4'!E32/'SHEET-4'!E17*10^6 -> 1494384.4 | F47: ='[7]SHEET-4'!F32/'[7]SHEET-4'!F17*10^6 -> 513635.81 | G47: ='[7]SHEET-4'!G32/'[7]SHEET-4'!G17*10^6 -> 1454235.4 | H47: =(D47-F47)/F47 -> -0.0053852819 | I47: =(E47-G47)/G47 -> 0.027608281
A48: 5 | B48: Residential | C48: KWH | D48: ='SHEET-4'!D33/'SHEET-4'!D18*10^6 -> 214.18567 | E48: ='SHEET-4'!E33/'SHEET-4'!E18*10^6 -> 847.81754 | F48: ='[7]SHEET-4'!F33/'[7]SHEET-4'!F18*10^6 -> 192.573 | G48: ='[7]SHEET-4'!G33/'[7]SHEET-4'!G18*10^6 -> 809.29542 | H48: =(D48-F48)/F48 -> 0.11223106 | I48: =(E48-G48)/G48 -> 0.04759958
A49: 6 | B49: Commercial | C49: KWH | D49: ='SHEET-4'!D34/'SHEET-4'!D19*10^6 -> 1163.6815 | E49: ='SHEET-4'!E34/'SHEET-4'!E19*10^6 -> 3857.9394 | F49: ='[7]SHEET-4'!F34/'[7]SHEET-4'!F19*10^6 -> 1095.7433 | G49: ='[7]SHEET-4'!G34/'[7]SHEET-4'!G19*10^6 -> 3548.7225 | H49: =(D49-F49)/F49 -> 0.062001888 | I49: =(E49-G49)/G49 -> 0.087134695
A50: 7 | B50: Industrial | C50: KWH
...

Sheet SHEET-7
E1: [7]
A4: MADHYA GUJARAT VIJ COMPANY LIMITED
A6: IV - FINANCIAL DATA
C8: Current Year [Provisional] | D8: Previous Year | E8: % Change
C9: April 22 to December-22 | D9: April to Dec-21
A10: [A] | B10: REVENUE | C10: Rs. In Crores | D10: Rs. In Crores
A11: 1 | B11: Sale of Electricity | C11: =+'SHEET-3'!E26 -> 6909.79 | D11: =5533.52-111.24*0 -> 5533.52 | E11: =(C11-D11)/D11 -> 0.2487151
A12: 2 | B12: Misc. Revenue Recovery | C12: =+'SHEET-3'!E28 -> 53.99 | D12: =182.34-58.74 -> 123.6 | E12: =(C12-D12)/D12 -> -0.5631877
A13: 3 | B13: Government Subsidy FOR AG. | C13: 51.59 | D13: 58.74 | E13: =(C13-D13)/D13 -> -0.12172285
A14: 4 | B14: Other Income | C14: 215.87 | D14: 103.01 | E14: =(C14-D14)/D14 -> 1.0956218
A15: 5 | B15: Total Income | C15: =SUM(C11:C14) -> 7231.24 | D15: =SUM(D11:D14) -> 5818.87 | E15: =(C15-D15)/D15 -> 0.24272238
A17: [B] | B17: EXPENSES
B18: Operating Expenses
A19: 1 | B19: Power Purchase Costs net of trading Credit | C19: 6570.39 | D19: =4964.53-111.24*0 -> 4964.53 | E19: =(C19-D19)/D19 -> 0.32346667
A20: 2 | B20: Fixed
A21: 3 | B21: Variable
A22: 4 | B22: Fuel Expense | E22: 0
A23: 5 | B23: Employee Cost | C23: =+'SHEET-3'!E16 -> 450.16 | D23: 434.99 | E23: =(C23-D23)/D23 -> 0.034874365
A24: 6 | B24: Repairs and Maintenance | C24: =+'SHEET-3'!E18 -> 61.28 | D24: 59.9 | E24: =(C24-D24)/D24 -> 0.023038397
A25: 7 | B25: Administrative and General Expenses | C25: 71.19 | D25: 63.13 | E25: =(C25-D25)/D25 -> 0.12767306
A26: 8 | B26: Other Operating Costs | C26: =+'SHEET-3'!E22 -> 39.46 | D26: 25.97 | E26: =(C26-D26)/D26 -> 0.51944551
A28: 9 | B28: Depreciation | C28: =+'SHEET-3'!E19 -> 210.41 | D28: 201.44 | E28: =(C28-D28)/D28 -> 0.044529388
A29: 10 | B29: Interest | C29: =+'SHEET-3'!E17 -> 36.43 | D29: 40.06 | E29: =(C29-D29)/D29 -> -0.090614079
A30: 11 | B30: Other Expenses [Prior Period] | C30: 0 | D30: 0 | E30: =(C30-D30)/D30 -> #DIV/0!
A31: 12 | B31: Misc. If any | C31: =+'SHEET-3'!E22*0 -> 0 | D31: 0 | E31: 0
A32: 13 | B32: Less : Expenses Capitalized | C32: 0 | D32: -27.2
A33: 14 | B33: Total Expenses 1 to 13] | C33: =SUM(C19:C32) -> 7439.32 | D33: =SUM(D19:D32) -> 5762.82 | E33: =(C33-D33)/D33 -> 0.2909166
A35: [C] | B35: Surplus [deficit] excluding rate of return | C35: =C15-C33 -> -208.08 | D35: =D15-D33 -> 56.05 | E35: =(C35-D35)/D35 -> -4.7123996
A37: NOTE : Power Purchase Cost is based on provisional bills received from GUVNL.

Sheet T&D
B1: MGVCL - V - DISTRIBUTION - KEY DATA
B3: Dist losses in Urban>25%, Industrial>10% and GIDC>5% feeders
B4: Category | C4: Circle | D4: Q-III-Oct to Dec-22 | H4: Q-III-Oct to Dec-21 | K4: Nos of feeders having more than 5% where losses increased in current period | L4: Reason thereof and action being taken
D5: Total nos. of feeders | E5: Nos. of feeders having losses more than 5% | F5: Overall % losses | H5: Total nos. of feeders | I5: Nos. of feeders having losses more than 5% | J5: Overall % losses
B6: GIDC | C6: Baroda OM | D6: 37 | E6: 0 | F6: 1.217522 | H6: 33 | I6: 3 | J6: 2.5126014 | K6: 0 | L6: Various steps are being taken to reduce the losses of feeder having high losses
C7: Baroda City | D7: 16 | E7: 0 | F7: 1.3336534 | H7: 16 | I7: 0 | J7: 1.3348895 | K7: 0
C8: Anand | D8: 17 | E8: 0 | F8: 0.61540533 | H8: 17 | I8: 0 | J8: 1.9882165 | K8: 0
C9: Nadiad | D9: 1 | E9: 0 | F9: 0.68750761 | H9: 1 | I9: 0 | J9: 1.1507141 | K9: 0
C10: Godhra | D10: 17 | E10: 1* | F10: 2.3709344 | H10: 17 | I10: 0 | J10: 1.2249725 | K10: 0
C11: Total | D11: =SUM(D6:D10) -> 88 | E11: =SUM(E6:E10) -> 0 | F11: 1.3910686 | H11: 84 | I11: 3 | J11: 1.9771136 | K11: =SUM(K6:K10) -> 0
D12: * Newly created feeders
B13: Category | C13: Circle | D13: =D4 -> Q-III-Oct to Dec-22 | H13: =H4 -> Q-III-Oct to Dec-21 | K13: Nos of feeders having more than 25% where losses increased in current period | L13: Reason thereof and action being taken
D14: Total nos. of feeders | E14: Nos. of feeders having losses more than 25% | F14: Overall % losses | H14: Total nos. of feeders | I14: Nos. of feeders having losses more than 25% | J14: Overall % losses
B15: URBAN | C15: Baroda OM | D15: 20 | E15: 0 | F15: 3.8627811 | H15: 19 | I15: 0 | J15: 4.7271865 | K15: 0 | L15: Various steps are being taken to reduce the losses of feeder having high losses
C16: Baroda City | D16: 276 | E16: 0 | F16: 3.7808681 | H16: 260 | I16: 0 | J16: 3.4180243 | K16: 0
C17: Anand | D17: 48 | E17: 0 | F17: 3.1467024 | H17: 47 | I17: 0 | J17: 4.8731675 | K17: 0
C18: Nadiad | D18: 42 | E18: 0 | F18: 5.7696657 | H18: 39 | I18: 0 | J18: 6.6899269 | K18: 0
C19: Godhra | D19: 48 | E19: 5 | F19: 16.587863 | H19: 46 | I19: 6 | J19: 15.119514 | K19: 1
C20: Total | D20: =SUM(D15:D19) -> 434 | E20: =SUM(E15:E19) -> 5 | F20: 5.5943585 | H20: 411 | I20: 6 | J20: 5.5532541 | K20: =SUM(K15:K19) -> 1
B22: Category | C22: Circle | D22: =D13 -> Q-III-Oct to Dec-22 | H22: =H13 -> Q-III-Oct to Dec-21 | K22: Nos of feeders having more than 10% where losses increased in current period | L22: Reason thereof and action being taken
D23: Total nos. of feeders | E23: Nos. of feeders having losses more than 10% | F23: Overall % losses | H23: Total nos. of feeders | I23: Nos. of feeders having losses more than 10% | J23: Overall % losses
B24: IND | C24: Baroda OM | D24: 58 | E24: 1 | F24: 2.6585825 | H24: 57 | I24: 0 | J24: 2.7218543 | K24: 1 | L24: Various steps are being taken to reduce the losses of feeder having high losses
C25: Baroda City | D25: 3 | E25: 0 | F25: 0.32493373 | H25: 3 | I25: 0 | J25: 0.3286155 | K25: 0
C26: Anand | D26: 6 | E26: 0 | F26: 1.1623436 | H26: 5 | I26: 0 | J26: 1.2863789 | K26: 0
C27: Nadiad | D27: 13 | E27: 0 | F27: 1.5314466 | H27: 12 | I27: 0 | J27: 2.0868741 | K27: 0
C28: Godhra | D28: 45 | E28: 1* | F28: 1.7050487 | H28: 41 | I28: 0 | J28: 1.1215562 | K28: 0
C29: Total | D29: =SUM(D24:D28) -> 125 | E29: 1+1*=2 | F29: 2.1862262 | H29: 118 | I29: 0 | J29: 2.0779212 | K29: =SUM(K24:K28) -> 1
D30: * Newly created feeders

Sheet Meter testing
B1: MGVCL
B2: V - DISTRIBUTION - KEY DATA | I2: FY 2022-23 Q-III (Oct to Dec-22)
B3: Meter testing and details of non-working defective meters
B4: (A) | C4: Meter testing | E4: Total capacity of laboratory | F4: Tested during the period | H4: Pending for testing at the end of the period
C5: Single Phase | D5: No. | F5: 65738 | H5: 129736
C6: Three Phase | D6: No. | F6: 12701 | H6: 16492
C7: Total | D7: No. | F7: =SUM(F5:F6) -> 78439 | H7: =SUM(H5:H6) -> 146228
B8: (B) | C8: Non-working/ Defective meters | E8: Defected - op.balance | F8: Added | G8: Total to be attended | H8: Replaced / repaired | I8: Pending at the end of the period
C9: Single Phase | D9: No. | E9: 7252 | F9: 23660 | G9: =F9+E9 -> 30912 | H9: 25495 | I9: =G9-H9 -> 5417
C10: Three Phase | D10: No. | E10: 610 | F10: 3369 | G10: =F10+E10 -> 3979 | H10: 3037 | I10: =G10-H10 -> 942
C11: Total | D11: No. | E11: =E9+E10 -> 7862 | F11: =F9+F10 -> 27029 | G11: =SUM(G9:G10) -> 34891 | H11: =SUM(H9:H10) -> 28532 | I11: =SUM(I9:I10) -> 6359
B12: Since the nos. of pending untested meters are normally quite high, action being taken by DISCOMs to increase the nos. of test benches at various locations so that almost nil outstanding balance should accrue.

Sheet Sheet1
A1: SR | B1: CATEGORY | C1: BOARD CHARGE | D1: B. CHG(THEFT) | E1: MIN CHG DIS. | F1: ELE. DUTY | G1: TAX ON SALE | H1: RENT | I1: SUNDRY CHG. | J1: D. P. C. | K1: ASSESSMENT
A2: =========================================================================================================================================
A3: 1 | B3: Residential | C3: 3.1160693e+09 | D3: 17043897 | E3: 172650.77 | F3: 3.4360099e+08 | G3: 0 | H3: 73554896 | I3: 227109.15 | J3: 18633312 | K3: 3.5693021e+09
A4: 2 | B4: General Lighting Purpose | C4: 71089140 | D4: 101753.87 | E4: 17040 | F4: 7364652.5 | G4: 0 | H4: 748929.5 | I4: 23532.4 | J4: 453786.14 | K4: 79798834
A5: 3 | B5: Manufacturing & Service Industries | C5: 2.1273928e+09 | D5: 10987310 | E5: 55383.85 | F5: 3.3524209e+08 | G5: 0 | H5: 15904544 | I5: 285434.14 | J5: 5771228.1 | K5: 2.4956387e+09
B6: TEMP | C6: 78023457 | D6: 0 | E6: 0 | F6: 19271785 | G6: 0 | H6: 469841 | I6: 303675.78 | J6: 245968.69 | K6: 98314728
B7: TOTAL | C7: 2.2054162e+09 | D7: 10987310 | E7: 55383.85 | F7: 3.5451387e+08 | G7: 0 | H7: 16374385 | I7: 589109.92 | J7: 6017196.8 | K7: 2.5939535e+09
A8: 4 | B8: Water Works | C8: 2.2913085e+08 | D8: 7024.2 | E8: 360 | F8: 3568735.5 | G8: 0 | H8: 1043824 | I8: 84685 | J8: 38964480 | K8: 2.7279996e+08
A9: 5 | B9: Agricultural | C9: 2.248283e+08 | D9: 1100948.8 | E9: 69162.01 | F9: 32851.34 | G9: 0 | H9: 6727882.5 | I9: 96521.78 | J9: 1507359.2 | K9: 2.3436303e+08
A10: 6 | B10: Street Light | C10: 93088769 | D10: 0 | E10: 0 | F10: 833815.28 | G10: 0 | H10: 302109.5 | I10: 89765.18 | J10: 4559629.6 | K10: 98874088
A11: 7 | B11: PDC | C11: 2188369.9 | D11: 52177.62 | E11: 0 | F11: 239472.02 | G11: 0 | H11: 183965.5 | I11: 10954.81 | J11: 1881544.9 | K11: 4556484.7
A12: 8 | B12: UNCONNECTED | C12: 1346751 | D12: 29611.2 | E12: 0 | F12: 0 | G12: 0 | H12: 0 | I12: 0 | J12: 12750.19 | K12: 1389112.4
A13: 9 | B13: NON-CONS | C13: 0 | D13: 3642101.8 | E13: 0 | F13: 384932.08 | G13: 0 | H13: 0 | I13: 46327.9 | J13: 55.4 | K13: 4073417.1
A14: 10 | B14: TOT(NORMAL) | C14: 5.8615991e+09 | D14: 29240934 | E14: 314596.63 | F14: 6.9064313e+08 | G14: 0 | H14: 98282186 | I14: 807047.65 | J14: 69889795 | K14: 6.7507768e+09
A15: 11 | B15: TOT(PCD+UC) | C15: 3535120.9 | D15: 81788.82 | E15: 0 | F15: 239472.02 | G15: 0 | H15: 183965.5 | I15: 10954.81 | J15: 1894295.1 | K15: 5945597.1
A16: 12 | B16: TOT(TEMP+NON) | C16: 78023457 | D16: 3642101.8 | E16: 0 | F16: 19656717 | G16: 0 | H16: 469841 | I16: 350003.68 | J16: 246024.09 | K16: 1.0238815e+08
A17: 13 | B17: GRAND TOTAL | C17: 5.9431577e+09 | D17: 32964824 | E17: 314596.63 | F17: 7.1053932e+08 | G17: 0 | H17: 98935992 | I17: 1168006.1 | J17: 72030114 | K17: 6.8591105e+09
A18: =========================================================================================================================================
A19: BREAK-UP OF BOARD CHARGES FROM Apr-2014 TO Jun-2014
A20: =========================================================================================================================================
A21: SR | B21: CATEGORY | C21: CONSUMERS | D21: UNITS BILLED | E21: FIXED-CHRG | F21: ENEG-CHRG | G21: FUEL-COST | H21: ANNUAL-CHG | I21: PRO-BILL | J21: DEBIT-ADJ | K21: BOARD-CHG
A22: =========================================================================================================================================
A23: 1 | B23: Residential | C23: 1178560 | D23: 547896815 | E23: 1.0893635e+08 | F23: 2.2777783e+09 | G23: 6.988271e+08 | H23: 0 | I23: 23878038 | J23: 6649459.7 | K23: 3.1160693e+09
A24: 2 | B24: General Lighting Purpose | C24: 10324 | D24: 12238984 | E24: 3352066 | F24: 49361467 | G24: 14977588 | H24: 0 | I24: 3186689.2 | J24: 211329.99 | K24: 71089140
A25: 3 | B25: Manufacturing & Service Industries | C25: 141223 | D25: 308942121 | E25: 2.0981632e+08 | F25: 1.5067713e+09 | G25: 3.8397436e+08 | H25: 243868.04 | I25: 12422367 | J25: 14164516 | K25: 2.1273928e+09
B26: TEMP | C26: 4704 | D26: 8930434 | E26: 26180159 | F26: 41354592 | G26: 10417809 | H26: 0 | I26: 0 | J26: 70898.07 | K26: 78023457
B27: TOTAL | C27: 145927 | D27: 317872555 | E27: 2.3599648e+08 | F27: 1.5481259e+09 | G27: 3.9439217e+08 | H27: 243868.04 | I27: 12422367 | J27: 14235414 | K27: 2.2054162e+09
A28: 4 | B28: Water Works | C28: 8003 | D28: 48527153 | E28: 1355207.1 | F28: 1.6440131e+08 | G28: 58237666 | H28: 0 | I28: 2690678.8 | J28: 2445989 | K28: 2.2913085e+08
A29: 5 | B29: Agricultural | C29: 64962 | D29: 168792969 | E29: 32021769 | F29: 1.8627927e+08 | G29: 0 | H29: 0 | I29: 5083644.2 | J29: 1443616.6 | K29: 2.248283e+08
A30: 6 | B30: Street Light | C30: 4333 | D30: 15223858 | E30: 212629.18 | F30: 71319701 | G30: 20672610 | H30: 0 | I30: 303088.92 | J30: 580739.07 | K30: 93088769
A31: 7 | B31: PDC | C31: 75006 | D31: 254352 | E31: 0 | F31: 0 | G31: 0 | H31: 0 | I31: 0 | J31: 2188369.9 | K31: 2188369.9
A32: 8 | B32: UNCONNECTED | C32: 2231 | D32: 0 | E32: 1316135.1 | F32: 5130 | G32: 0 | H32: 0 | I32: 0 | J32: 25485.9 | K32: 1346751
A33: 9 | B33: NON-CONS | C33: 255 | D33: 740096 | E33: 0 | F33: 0 | G33: 0 | H33: 0 | I33: 0 | J33: 0 | K33: 0
A34: 10 | B34: TOT(NORMAL) | C34: 1407405 | D34: 1101621900 | E34: 3.5569434e+08 | F34: 4.2559114e+09 | G34: 1.1766893e+09 | H34: 243868.04 | I34: 47564507 | J34: 25495650 | K34: 5.8615991e+09
A35: 11 | B35: TOT(PDC+UN) | C35: 77237 | D35: 254352 | E35: 1316135.1 | F35: 5130 | G35: 0 | H35: 0 | I35: 0 | J35: 2213855.8 | K35: 3535120.9
A36: 12 | B36: TOT(TEMP+NON) | C36: 4959 | D36: 9670530 | E36: 26180159 | F36: 41354592 | G36: 10417809 | H36: 0 | I36: 0 | J36: 70898.07 | K36: 78023457
A37: 13 | B37: GRAND TOTAL | C37: 1489601 | D37: 1111546782 | E37: 3.8319064e+08 | F37: 4.2972711e+09 | G37: 1.1871071e+09 | H37: 243868.04 | I37: 47564507 | J37: 27780404 | K37: 5.9431577e+09
A38: =========================================================================================================================================
A41: LT C. G. L. FROM Apr-2014 TO Jun-2014
A42: LAST MONTH END DATE : 30-06-2014 | E42: PERIOD: Apr-2014 TO Jun-2014 | I42: PROCESSED ON: 18-Dec-2014
...
