Workbook

Sheet SHEET-1
I2: [ 1 ]
A5: MADHYA GUJARAT VIJ COMPANY LIMITED
A8: I - KEY PARAMETERS
A10: POWER SUPPLY POSITION
D12: Current Year | F12: Previous Year | H12: % Change
D13: Quarterly | E13: Cummulative | F13: Quarterly | G13: Cummulative | H13: Quarterly | I13: Cummulative
D14: Jan-2021 to Mar-2021 | F14: Jan-2020 to Mar-2020
A16: I | B16: POWER PURCHASE
A17: 1 | B17: Purchase From CPPS/Wind Farms/Solar | C17: MUS | D17: =+E17-8466.56 -> 3138.34 | E17: 11604.9 | F17: =+G17-8910.53 -> 2428.225 | G17: 11338.755 | H17: =(D17-F17)/F17 -> 0.29244201 | I17: =(E17-G17)/G17 -> 0.023472154
A18: 2 | B18: Purchase from GUVNL [Net of Trading Credit & UI] | C18: MUS
A19: 3 | B19: Purchase from Central Sector | C19: MUS
B20: [a] Share | C20: MUS
B21: [b] Actual Purchase | C21: MUS
B22: Total Purchase of Power | C22: MUS | D22: =+D17+D20+D21 -> 3138.34 | E22: =+E17+E20+E21 -> 11604.9 | F22: =+F17+F20+F21 -> 2428.225 | G22: =+G17+G20+G21 -> 11338.755 | H22: =(D22-F22)/F22 -> 0.29244201 | I22: =(E22-G22)/G22 -> 0.023472154
A24: II | B24: ENERGY BALANCE SHEET
A25: 1 | B25: Total Generation + Purchase of Power | C25: MUS | D25: =+D17 -> 3138.34 | E25: =+E22 -> 11604.9 | F25: =+F17 -> 2428.225 | G25: =+G22 -> 11338.755 | H25: =(D25-F25)/F25 -> 0.29244201 | I25: =(E25-G25)/G25 -> 0.023472154
A26: 2 | B26: Units Sent Out | C26: MUS | D26: =+D25 -> 3138.34 | E26: =+E25 -> 11604.9 | F26: =+F25 -> 2428.225 | G26: =+G25 -> 11338.755 | H26: =(D26-F26)/F26 -> 0.29244201 | I26: =(E26-G26)/G26 -> 0.023472154
A27: 3 | B27: Metered + Estimated Unmetered & Unbilled Sales | C27: MUS | D27: =+E27-7212.34 -> 2780.592 | E27: 9992.932 | F27: 2072.03 | G27: 9754.1 | H27: =(D27-F27)/F27 -> 0.34196514 | I27: =(E27-G27)/G27 -> 0.024485296
A28: 4 | B28: T&D Losses [2-3] | C28: MUS | D28: =+D26-D27 -> 357.748 | E28: =+E26-E27 -> 1611.968 | F28: =+F26-F27 -> 356.19503 | G28: =+G26-G27 -> 1584.655 | H28: =(D28-F28)/F28 -> 0.0043598935 | I28: =(E28-G28)/G28 -> 0.017235911
A29: 5 | B29: T & D Loss [4] / [2] * 100 | C29: % | D29: =+(D28/D26) -> 0.11399275 | E29: =+(E28/E26) -> 0.13890408 | F29: =F28/F26*100% -> 0.14668947 | G29: =G28/G26*100% -> 0.13975565 | H29: =D29-F29 -> -0.032696718 | I29: =E29-G29 -> -0.00085156218
A31: III | B31: SALES, BILLING AND REALISATION
A32: 1 | B32: Billed [Metered + Unmetered] with E. D. | C32: Rs. In Crores | D32: =+E32-5165.25 -> 1737.41 | E32: =+'SHEET-5'!E25+37.1+15.47+85.46+97.8+74.07+70.26+70.61+76.06+65.91+63.37+59.39+61.48 -> 6902.66 | F32: =+G32-5582.97 -> 1482.1183 | G32: =+'SHEET-5'!G25+63.46+67.51+76.43+82.27+82.43+77.07+77.33+73.12+71.9+68.06+61.05+63.53 -> 7065.0883 | H32: =(D32-F32)/F32 -> 0.17224786 | I32: =(E32-G32)/G32 -> -0.022990272
A33: 2 | B33: Billed - Theft Assessment
A34: 3 | B34: Total Billed [1 + 2] | C34: Rs. In Crores | D34: =+D32 -> 1737.41 | E34: =+E32 -> 6902.66 | F34: =+F32 -> 1482.1183 | G34: =+G32 -> 7065.0883 | H34: =(D34-F34)/F34 -> 0.17224786 | I34: =(E34-G34)/G34 -> -0.022990272
A35: 4 | B35: Amount realised [Metered + Unmetered] with E. D. | C35: Rs. In Crores | D35: 1955.35 | E35: 6950.28 | F35: =+G35-5476.98-1.79 -> 1477.52 | G35: 6956.29 | H35: =(D35-F35)/F35 -> 0.32340002 | I35: =(E35-G35)/G35 -> -0.00086396628
A36: 5 | B36: Amount realised against Theft of Energy
A37: 6 | B37: Total Amount realised [4 + 5] | C37: Rs. In Crores | D37: =+D35 -> 1955.35 | E37: =+E35 -> 6950.28 | F37: =+F35 -> 1477.52 | G37: =+G35 -> 6956.29 | H37: =(D37-F37)/F37 -> 0.32340002 | I37: =(E37-G37)/G37 -> -0.00086396628
A38: 7 | B38: Amount realised as % of amount billed [6] / [3] | C38: % | D38: =+D37/D34 -> 1.1254396 | E38: =+E37/E34 -> 1.0068988 | F38: =F37/F34 -> 0.99689748 | G38: =G37/G34 -> 0.98460057 | H38: =D38-F38 -> 0.12854211 | I38: =E38-G38 -> 0.022298215

Sheet SHEET-2
I2: [ 2 ]
A5: MADHYA GUJARAT VIJ COMPANY LIMITED
A8: II - KEY PARAMETERS
A10: COST OF SUPPLY - 2
D12: Current Year | F12: Previous Year | H12: % Change
D13: Quarterly | E13: Cummulative | F13: Quarterly | G13: Cummulative | H13: Quarterly | I13: Cummulative
D14: =+'SHEET-1'!D14:E14 -> Jan-2021 to Mar-2021 | F14: =+'SHEET-1'!F14:G14 -> Jan-2020 to Mar-2020
A15: I | B15: COST OF SUPPLY
A16: 1 | B16: Average Cost of Purchase of Power [Net] | C16: Rs. /KWH | D16: =ROUND(+('SHEET-3'!D15/'SHEET-1'!D22)*10,2) -> 4.32 | E16: =ROUND(+('SHEET-3'!E15/'SHEET-1'!E22)*10,2) -> 4.63 | F16: =ROUND(+('SHEET-3'!F15/'SHEET-1'!F22)*10,2) -> 4.61 | G16: =ROUND(+('SHEET-3'!G15/'SHEET-1'!G22)*10,2) -> 4.79 | H16: =(D16-F16)/F16 -> -0.062906725 | I16: =(E16-G16)/G16 -> -0.033402923
A17: 2 | B17: Cost at Bus Bar | C17: Rs. /KWH
A18: 3 | B18: Costo of Supply at EHT [at 66 KV] | C18: Rs. /KWH
A19: 4 | B19: Cost of Supply at LT [at 11 KV] | C19: Rs. /KWH
A20: 5 | B20: Cost of Supply at HT [at 11 KV] | C20: Rs. /KWH
A21: 6 | B21: Average Cost of Supply per unit of sales | C21: Rs. /KWH | D21: =ROUND(+('SHEET-3'!D23/'SHEET-1'!D27)*10,2) -> 5.84 | E21: =ROUND(+('SHEET-3'!E23/'SHEET-1'!E27)*10,2) -> 6.41 | F21: =ROUND(+('SHEET-3'!F23/'SHEET-1'!F27)*10,2) -> 6.67 | G21: =ROUND(+('SHEET-3'!G23/'SHEET-1'!G27)*10,2) -> 6.6 | H21: =(D21-F21)/F21 -> -0.12443778 | I21: =(E21-G21)/G21 -> -0.028787879
A23: II | B23: SALES REALISATION WITHOUT E. D.
A24: 1 | B24: H. T. | C24: Rs. /KWH | D24: =ROUND(+'SHEET-5'!D32/100,2) -> 7.24 | E24: =ROUND(+'SHEET-5'!E32/100,2) -> 7.2 | F24: =ROUND(+'SHEET-5'!F32/100,2) -> 7.25 | G24: =ROUND(+'SHEET-5'!G32/100,2) -> 7.37 | H24: =(D24-F24)/F24 -> -0.0013793103 | I24: =(E24-G24)/G24 -> -0.023066486
A25: 2 | B25: L. T. | C25: Rs. /KWH | D25: =ROUND(+'SHEET-5'!D39/100,2) -> 5.16 | E25: =ROUND(+'SHEET-5'!E39/100,2) -> 5.45 | F25: =ROUND(+'SHEET-5'!F39/100,2) -> 5.35 | G25: =ROUND(+'SHEET-5'!G39/100,2) -> 5.72 | H25: =(D25-F25)/F25 -> -0.035514019 | I25: =(E25-G25)/G25 -> -0.047202797
A26: 3 | B26: Average Sales Realisation | C26: Rs. /KWH | D26: =ROUND(+'SHEET-5'!D40/100,2) -> 5.98 | E26: =ROUND(+'SHEET-5'!E40/100,2) -> 6.13 | F26: =ROUND(+'SHEET-5'!F40/100,2) -> 6.06 | G26: =ROUND(+'SHEET-5'!G40/100,2) -> 6.36 | H26: =(D26-F26)/F26 -> -0.01320132 | I26: =(E26-G26)/G26 -> -0.036163522
B28: Special Observation on above points

Sheet SHEET-3
I2: [ 3 ]
A5: MADHYA GUJARAT VIJ COMPANY LIMITED
A8: I - KEY PARAMETERS
A10: FINANCIAL DATA - 3
D12: Current Year [Provisional] | F12: Previous Year | H12: % Change
D13: Quarterly | E13: Cummulative | F13: Quarterly | G13: Cummulative | H13: Quarterly | I13: Cummulative
D14: =+'SHEET-2'!D14:E14 -> Jan-2021 to Mar-2021 | F14: =+'SHEET-2'!F14:G14 -> Jan-2020 to Mar-2020
A15: 1 | B15: Cost of Power Purchase [Net] | C15: Rs. In Crore | D15: =+E15-4014.45 -> 1354.45 | E15: 5368.9 | F15: =+G15-4406.1+100 -> 1120.02 | G15: 5426.12 | H15: =(D15-F15)/F15 -> 0.20930876 | I15: =(E15-G15)/G15 -> -0.010545288
A16: 2 | B16: Employees Cost | C16: Rs. In Crore | D16: =+E16-397.08 -> 148.0181 | E16: =+'SHEET-7'!C23 -> 545.0981 | F16: =+G16-376.98 -> 140.3722 | G16: =+'SHEET-7'!D23 -> 517.3522 | H16: =(D16-F16)/F16 -> 0.054468764 | I16: =(E16-G16)/G16 -> 0.053630583
A17: 3 | B17: Interest | C17: Rs. In Crore | D17: =+E17-49.19 -> 16.394081 | E17: =+'SHEET-7'!C29 -> 65.584081 | F17: =+G17-45.25-3 -> 15.5245 | G17: =+'SHEET-7'!D29 -> 63.7745 | H17: =(D17-F17)/F17 -> 0.056013465 | I17: =(E17-G17)/G17 -> 0.02837468
A18: 4 | B18: Repairs and Maintenance | C18: Rs. In Crore | D18: =+E18-48.58 -> 16.19502 | E18: =+'SHEET-7'!C24 -> 64.77502 | F18: =+G18-31.89-13 -> 16.8004 | G18: =+'SHEET-7'!D24 -> 61.6904 | H18: =(D18-F18)/F18 -> -0.036033666 | I18: =(E18-G18)/G18 -> 0.050001621
A19: 5 | B19: Depreciation | C19: Rs. In Crore | D19: =+E19-211.05 -> 66.901946 | E19: =+'SHEET-7'!C28 -> 277.95195 | F19: =+G19-205.08+8 -> 65.2866 | G19: =+'SHEET-7'!D28 -> 262.3666 | H19: =(D19-F19)/F19 -> 0.024742377 | I19: =(E19-G19)/G19 -> 0.059402933
A20: 6 | B20: Admin. And General Expenditure | C20: Rs. In Crore | D20: =+E20-60.79 -> 20.390544 | E20: =+'SHEET-7'!C25 -> 81.180544 | F20: =+G20-58.69 -> 19.2436 | G20: =+'SHEET-7'!D25 -> 77.9336 | H20: =(D20-F20)/F20 -> 0.059601322 | I20: =(E20-G20)/G20 -> 0.041662954
A21: 6a | B21: Expenses Capitalized | C21: Rs. In Crore | D21: =+E21+24.13 -> -8.6802043 | E21: =+'SHEET-7'!C32 -> -32.810204 | F21: =+G21+45 -> -9.6444 | G21: =+'SHEET-7'!D32 -> -54.6444 | H21: =(D21-F21)/F21 -> -0.099974664 | I21: =(E21-G21)/G21 -> -0.39956877
A22: 7 | B22: Other Debits & Prior Period Adjustment | C22: Rs. In Crore | D22: =+E22-26 -> 9.03645 | E22: =+'SHEET-7'!C26 -> 35.03645 | F22: =+G22-47.01-25 -> 13.739 | G22: =+'SHEET-7'!D26 -> 85.749 | H22: =(D22-F22)/F22 -> -0.34227746 | I22: =(E22-G22)/G22 -> -0.5914069
A23: 8 | B23: Total Cost Excluding Profit / Return | C23: Rs. In Crore | D23: =+SUM(D15:D22) -> 1622.7059 | E23: =+SUM(E15:E22) -> 6405.7159 | F23: =+SUM(F15:F22) -> 1381.3419 | G23: =+SUM(G15:G22) -> 6440.3419 | H23: =(D23-F23)/F23 -> 0.17473157 | I23: =(E23-G23)/G23 -> -0.0053764169
B24: Income:
A25: 9 | B25: Other Income | C25: Rs. In Crore | D25: =+E25-116.32 -> 38.183898 | E25: =+'SHEET-7'!C14 -> 154.5039 | F25: =+G25-106.36-5 -> 36.9851 | G25: =+'SHEET-7'!D14 -> 148.3451 | H25: =(D25-F25)/F25 -> 0.032412996 | I25: =(E25-G25)/G25 -> 0.041516692
A26: 10 | B26: Sales Amount [Without E. D.] [Incl. T.C/FCA] | C26: Rs. In Crore | D26: =+E26-4572.51 -> 1553.1671 | E26: =+'SHEET-7'!C11 -> 6125.6771 | F26: =+G26-4911.46+250 -> 1539.4738 | G26: =+'SHEET-7'!D11 -> 6200.9338 | H26: =(D26-F26)/F26 -> 0.0088948111 | I26: =(E26-G26)/G26 -> -0.012136345
A27: 11 | B27: Agricultural Subsidy Received | C27: Rs. In Crore | D27: =+E27-51.2 -> 11.3772 | E27: =+'SHEET-7'!C13 -> 62.5772 | F27: =+G27-55.41+4 -> 11.1672 | G27: =+'SHEET-7'!D13 -> 62.5772 | H27: =(D27-F27)/F27 -> 0.018805072 | I27: =(E27-G27)/G27 -> 0
A28: 12 | B28: Misc. Revenue Related Recovery | C28: Rs. In Crore | D28: =+E28-110.33 -> 55.725516 | E28: =+'SHEET-7'!C12 -> 166.05552 | F28: =+G28-84.46-18 -> 52.3548 | G28: =+'SHEET-7'!D12 -> 154.8148 | H28: =(D28-F28)/F28 -> 0.064382177 | I28: =(E28-G28)/G28 -> 0.072607503
A29: 13 | B29: Total Income(9+10+11+12) | C29: Rs. In Crore | D29: =+SUM(D25:D28) -> 1658.4537 | E29: =+SUM(E25:E28) -> 6508.8137 | F29: =+SUM(F25:F28) -> 1639.9809 | G29: =+SUM(G25:G28) -> 6566.6709 | H29: =(D29-F29)/F29 -> 0.01126406 | I29: =(E29-G29)/G29 -> -0.008810729
A30: 14 | B30: Cost of Power Purchase as % of Total Cost [1]/[8] | C30: % | D30: =D15/D23 -> 0.83468604 | E30: =E15/E23 -> 0.83814207 | F30: =F15/F23 -> 0.81082026 | G30: =G15/G23 -> 0.84252049 | H30: =D30-F30 -> 0.023865784 | I30: =E30-G30 -> -0.0043784203
A32: 15 | B32: Capital Expenditure | C32: Rs. In Crore | D32: =+E32-63.92-70 -> 117.63 | E32: 251.55 | F32: =+G32-77.75-30 -> 106.38 | G32: 214.13 | H32: =(D32-F32)/F32 -> 0.10575296 | I32: =(E32-G32)/G32 -> 0.17475365
A33: 16 | B33: New Long Term Borrowings | C33: Rs. In Crore | D33: 0 | E33: =+D33 -> 0 | F33: 0 | G33: =+F33 -> 0 | H33: 0 | I33: 0
A34: 17 | B34: C.C.drawl at the end of the Quarter | C34: Rs. In Crore | D34: 0 | E34: =+D34 -> 0 | F34: 0 | G34: =+F34 -> 0 | H34: 0 | I34: 0
D57: =3+0.58+0.94 -> 4.52 | E57: 30066981 | F57: 5786401.8 | G57: 9381444.4 | H57: 87524122
E58: =E57/10^7 -> 3.0066981 | F58: =F57/10^7 -> 0.57864017 | G58: =G57/10^7 -> 0.93814444 | H58: =H57/10^7 -> 8.7524122
D66: 0.64
D67: =SUM(D64:D66) -> 0.64

Sheet SHEET-4
I2: [ 4]
A5: MADHYA GUJARAT VIJ COMPANY LIMITED
A7: III - SALES AND REVENUE DATA
A9: NOS. OF CONSUMERS AND UNIT SOLD
D11: Current Year | F11: Previous Year | H11: % Change
D12: Quarterly | E12: Cummulative | F12: Quarterly | G12: Cummulative | H12: Quarterly | I12: Cummulative
A13: [A] | B13: NOS. OF CONSUMERS [WITHOUT PDC] | D13: =+'SHEET-3'!D14:E14 -> Jan-2021 to Mar-2021 | F13: =+'SHEET-3'!F14:G14 -> Jan-2020 to Mar-2020
A14: 1 | B14: H. T. | C14: Nos. | D14: 2391 | E14: =D14 -> 2391 | F14: 2292 | G14: 2292 | H14: =(D14-F14)/F14 -> 0.043193717 | I14: =(E14-G14)/G14 -> 0.043193717
A15: 2 | B15: Railways | C15: Nos. | D15: 0 | E15: 0 | F15: 0 | G15: 0 | H15: =(D15-F15)/F15 -> #DIV/0! | I15: =(E15-G15)/G15 -> #DIV/0!
A16: 3 | B16: Liecence | C16: Nos. | D16: 0 | E16: 0 | F16: 0 | G16: 0 | H16: 0 | I16: 0
A17: 4 | B17: Total H.T. + E.H.T. | C17: Nos. | D17: =+SUM(D14:D16) -> 2391 | E17: =+SUM(E14:E16) -> 2391 | F17: 2292 | G17: 2292 | H17: =(D17-F17)/F17 -> 0.043193717 | I17: =(E17-G17)/G17 -> 0.043193717
A18: 5 | B18: Residential | C18: Nos. | D18: 2750115 | E18: =D18 -> 2750115 | F18: 2693137 | G18: 2693137 | H18: =(D18-F18)/F18 -> 0.02115674 | I18: =(E18-G18)/G18 -> 0.02115674
A19: 6 | B19: Commercial | C19: Nos. | D19: =25111+344647 -> 369758 | E19: =D19 -> 369758 | F19: 356517 | G19: 356517 | H19: =(D19-F19)/F19 -> 0.037139884 | I19: =(E19-G19)/G19 -> 0.037139884
A20: 7 | B20: Industrial | C20: Nos.
A21: 8 | B21: Others [Water Works / Public Lighting] | C21: Nos. | D21: 33992 | E21: =D21 -> 33992 | F21: 32433 | G21: 32433 | H21: =(D21-F21)/F21 -> 0.048068325 | I21: =(E21-G21)/G21 -> 0.048068325
A22: 9 | B22: Total L.T. Excluding Agricultural | C22: Nos. | D22: =SUM(D18:D21) -> 3153865 | E22: =+SUM(E18:E21) -> 3153865 | F22: 3082087 | G22: 3082087 | H22: =(D22-F22)/F22 -> 0.023288765 | I22: =(E22-G22)/G22 -> 0.023288765
A23: 10 | B23: Agricultural | C23: Nos. | D23: =190597+10 -> 190607 | E23: =D23 -> 190607 | F23: 178873 | G23: 178873 | H23: =(D23-F23)/F23 -> 0.065599615 | I23: =(E23-G23)/G23 -> 0.065599615
A24: 11 | B24: Total L. T. Including Agricultural | C24: Nos. | D24: =+D22+D23 -> 3344472 | E24: =+E22+E23 -> 3344472 | F24: 3260960 | G24: 3260960 | H24: =(D24-F24)/F24 -> 0.025609636 | I24: =(E24-G24)/G24 -> 0.025609636
A25: 12 | B25: Total H.T. + E.H.T. + L. T. [WITHOUT P.D.C.] | C25: Nos. | D25: =+D24+D17 -> 3346863 | E25: =+E24+E17 -> 3346863 | F25: 3263252 | G25: 3263252 | H25: =(D25-F25)/F25 -> 0.025621987 | I25: =(E25-G25)/G25 -> 0.025621987
A27: [B] | B27: NOS. OF UNITS SOLD
A29: 1 | B29: H. T. | C29: M.KWH | D29: =+E29-2430.69-500-100 -> 853.35056 | E29: 3884.0406 | F29: =+G29-2969.145 -> 798.35219 | G29: 3767.4972 | H29: =(D29-F29)/F29 -> 0.068889861 | I29: =(E29-G29)/G29 -> 0.030933897
A30: 2 | B30: Railways | C30: M.KWH | D30: 0 | E30: =+D30 -> 0 | F30: =G30-0 -> 0 | G30: 0 | H30: =(D30-F30)/F30 -> #DIV/0! | I30: =(E30-G30)/G30 -> #DIV/0!
A31: 3 | B31: Liecence | C31: M.KWH | D31: 0 | E31: 0 | F31: 0 | G31: 0 | H31: 0 | I31: 0
A32: 4 | B32: Total H.T. + E.H.T. | C32: M.KWH | D32: =D29+D30 -> 853.35056 | E32: =E29+E30 -> 3884.0406 | F32: =F29+F30 -> 798.35219 | G32: =G29+G30 -> 3767.4972 | H32: =(D32-F32)/F32 -> 0.068889861 | I32: =(E32-G32)/G32 -> 0.030933897
A33: 5 | B33: Residential | C33: M.KWH | D33: =+E33-2392.41 -> 427.08526 | E33: 2819.4953 | F33: =+G33-2247.089 -> 472.98872 | G33: 2720.0777 | H33: =(D33-F33)/F33 -> -0.097049795 | I33: =(E33-G33)/G33 -> 0.036549522
A34: 6 | B34: Commercial | C34: M.KWH | D34: =+E34-1170.74 -> 392.763 | E34: 1563.503 | F34: =+G34-1329.509+55 -> 403.154 | G34: 1677.663 | H34: =(D34-F34)/F34 -> -0.02577427 | I34: =(E34-G34)/G34 -> -0.068047039
A35: 7 | B35: Industrial | C35: M.KWH
A36: 8 | B36: Others [Water Works / Public Lighting] | C36: M.KWH | D36: =+E36-253.49 -> 109.065 | E36: 362.555 | F36: =+G36-291.073+27 -> 111.476 | G36: 375.549 | H36: =(D36-F36)/F36 -> -0.021627974 | I36: =(E36-G36)/G36 -> -0.034600012
A37: 9 | B37: Total L.T. Excluding Agricultural | C37: M.KWH | D37: =SUM(D33:D36) -> 928.91326 | E37: =SUM(E33:E36) -> 4745.5533 | F37: =SUM(F33:F36) -> 987.61872 | G37: =SUM(G33:G36) -> 4773.2897 | H37: =(D37-F37)/F37 -> -0.059441419 | I37: =(E37-G37)/G37 -> -0.0058107637
A38: 10 | B38: Agricultural [Metered + Unmetered] | C38: M.KWH | D38: =+E38-965.02 -> 398.318 | E38: 1363.338 | F38: =+G38-845.252 -> 368.061 | G38: 1213.313 | H38: =(D38-F38)/F38 -> 0.082206482 | I38: =(E38-G38)/G38 -> 0.12364905
A39: 11 | B39: Total L. T. Including Agricultural | C39: M.KWH | D39: =SUM(D37:D38) -> 1327.2313 | E39: =SUM(E37:E38) -> 6108.8913 | F39: =SUM(F37:F38) -> 1355.6797 | G39: =SUM(G37:G38) -> 5986.6027 | H39: =(D39-F39)/F39 -> -0.020984646 | I39: =(E39-G39)/G39 -> 0.020427035
A40: 12 | B40: Total H.T. + E.H.T. + L. T. | C40: M.KWH | D40: =D32+D39 -> 2180.5818 | E40: =E32+E39 -> 9992.9318 | F40: =F32+F39 -> 2154.0319 | G40: =G32+G39 -> 9754.0999 | H40: =(D40-F40)/F40 -> 0.012325682 | I40: =(E40-G40)/G40 -> 0.024485285
D52: 1639.71 | E52: 5096.36
D57: 335.74 | E57: 335.74 | F57: =D40-D52 -> 540.87182
D58: 346.72 | E58: 346.72 | F58: =E40-E52 -> 4896.5718
D59: =SUM(D57:D58) -> 682.46 | E59: =SUM(E57:E58) -> 682.46
D64: Q1 2014 | E64: Q1 2013
C65: Metered | D65: 153.2 | E65: 171.66 | F65: =(D65-E65)/E65 -> -0.10753816
C66: Unmetered | D66: 136.37 | E66: 136.62 | F66: =(D66-E66)/E66 -> -0.0018298931
D67: =SUM(D65:D66) -> 289.57 | E67: =SUM(E65:E66) -> 308.28 | F67: =(D67-E67)/E67 -> -0.060691579

Sheet SHEET-5
I2: [ 5 ]
A5: MADHYA GUJARAT VIJ COMPANY LIMITED
A7: III - SALES AND REVENUE DATA
A9: SALES REVENUE AMOUNT AND PAISE / UNIT
D11: Current Year | F11: Previous Years | H11: % Change
D12: Quarterly | E12: Cummulative | F12: Quarterly | G12: Cummulative | H12: Quarterly | I12: Cummulative
A13: [C] | B13: SALES REVENUE BILLED : | D13: =+'SHEET-4'!D13:E13 -> Jan-2021 to Mar-2021 | F13: =+'SHEET-4'!F13:G13 -> Jan-2020 to Mar-2020
A14: 1 | B14: H. T. | C14: Rs. In Crore | D14: =+E14-1930.45-250 -> 617.85 | E14: 2798.3 | F14: =+G14-2198.42 -> 578.6379 | G14: =277705.79/100 -> 2777.0579 | H14: =(D14-F14)/F14 -> 0.067766214 | I14: =(E14-G14)/G14 -> 0.0076491383
A15: 2 | B15: Railway | C15: Rs. In Crore | D15: 0 | E15: 0 | F15: 0 | G15: 0 | H15: =(D15-F15)/F15 -> #DIV/0! | I15: =(E15-G15)/G15 -> #DIV/0!
A16: 3 | B16: Liecence | C16: Rs. In Crore | D16: 0 | E16: 0 | F16: 0 | G16: 0 | H16: 0 | I16: 0
A17: 4 | B17: Total H.T. + E.H.T. | C17: Rs. In Crore | D17: =SUM(D14:D16) -> 617.85 | E17: =SUM(E14:E16) -> 2798.3 | F17: =SUM(F14:F16) -> 578.6379 | G17: =SUM(G14:G16) -> 2777.0579 | H17: =(D17-F17)/F17 -> 0.067766214 | I17: =(E17-G17)/G17 -> 0.0076491383
A18: 5 | B18: Residential | C18: Rs. In Crore | D18: =+E18-1323.39 -> 226.42 | E18: 1549.81 | F18: =+G18-1287.13-50 -> 239.5629 | G18: =157669.29/100 -> 1576.6929 | H18: =(D18-F18)/F18 -> -0.054862001 | I18: =(E18-G18)/G18 -> -0.017050181
A19: 6 | B19: Commercial | C19: Rs. In Crore | D19: =+E19-861.56 -> 287.45 | E19: 1149.01 | F19: =+G19-982.99+50 -> 311.23 | G19: 1244.22 | H19: =(D19-F19)/F19 -> -0.076406516 | I19: =(E19-G19)/G19 -> -0.076521837
A20: 7 | B20: Industrial | C20: Rs. In Crore
A21: 8 | B21: Others [Water Works / Public Lighting] | C21: Rs. In Crore | D21: =+E21-151.99 -> 69.39 | E21: 221.38 | F21: =+G21-169.43+15 -> 73.53 | G21: 227.96 | H21: =(D21-F21)/F21 -> -0.05630355 | I21: =(E21-G21)/G21 -> -0.028864713 | J21: =35.31+156.95 -> 192.26 | K21: =+J21*9/12 -> 144.195
A22: 9 | B22: Total L.T. Excluding Agricultural | C22: Rs. In Crore | D22: =SUM(D18:D21) -> 583.26 | E22: =SUM(E18:E21) -> 2920.2 | F22: =SUM(F18:F21) -> 624.3229 | G22: =SUM(G18:G21) -> 3048.8729 | H22: =(D22-F22)/F22 -> -0.065771895 | I22: =(E22-G22)/G22 -> -0.042203432
A23: 10 | B23: Agricultural [Including Tariff Comp.]/[FPPPA] | C23: Rs. In Crore | D23: =+E23-305.12 -> 102.06 | E23: 407.18 | F23: =+G23-273.48 -> 101.5175 | G23: =37499.75/100 -> 374.9975 | H23: =(D23-F23)/F23 -> 0.0053439062 | I23: =(E23-G23)/G23 -> 0.085820572
A24: 11 | B24: Total L. T. Including Agricultural | C24: Rs. In Crore | D24: =SUM(D22:D23) -> 685.32 | E24: =SUM(E22:E23) -> 3327.38 | F24: =SUM(F22:F23) -> 725.8404 | G24: =SUM(G22:G23) -> 3423.8704 | H24: =(D24-F24)/F24 -> -0.055825496 | I24: =(E24-G24)/G24 -> -0.028181674
A25: 12 | B25: Total H.T. + E.H.T. + L. T. | C25: Rs. In Crore | D25: =D17+D24 -> 1303.17 | E25: =E17+E24 -> 6125.68 | F25: =F17+F24 -> 1304.4783 | G25: =G17+G24 -> 6200.9283 | H25: =(D25-F25)/F25 -> -0.0010029297 | I25: =(E25-G25)/G25 -> -0.012135006
A27: [D] | B27: SALES REALISATION
A29: 1 | B29: H. T. | C29: Paise / kwh | D29: =D14/'SHEET-4'!D29*1000 -> 724.02836 | E29: =E14/'SHEET-4'!E29*1000 -> 720.46107 | F29: =F14/'SHEET-4'!F29*1000 -> 724.79028 | G29: =G14/'SHEET-4'!G29*1000 -> 737.10948 | H29: =(D29-F29)/F29 -> -0.0010512279 | I29: =(E29-G29)/G29 -> -0.022586083 | N29: =(D14/'SHEET-4'!D29)*1000 -> 724.02836 | O29: =(E14/'SHEET-4'!E29)*1000 -> 720.46107 | P29: =(F14/'SHEET-4'!F29)*1000 -> 724.79028 | Q29: =(G14/'SHEET-4'!G29)*1000 -> 737.10948
A30: 2 | B30: Railway | C30: Paise / kwh | D30: 0 | E30: 0 | F30: 0 | G30: 0 | H30: =(D30-F30)/F30 -> #DIV/0! | I30: =(E30-G30)/G30 -> #DIV/0! | N30: =(D15/'SHEET-4'!D30)*1000 -> #DIV/0! | O30: =(E15/'SHEET-4'!E30)*1000 -> #DIV/0! | P30: =(F15/'SHEET-4'!F30)*1000 -> #DIV/0!
A31: 3 | B31: Liecence | C31: Paise / kwh | D31: 0 | E31: 0 | F31: 0 | G31: =F31 -> 0 | H31: 0 | I31: 0 | N31: =(D16/'SHEET-4'!D31)*1000 -> #DIV/0! | O31: =(E16/'SHEET-4'!E31)*1000 -> #DIV/0! | P31: =(F16/'SHEET-4'!F31)*1000 -> #DIV/0!
A32: 4 | B32: Total H.T. + E.H.T. | C32: Paise / kwh | D32: =D17/'SHEET-4'!D32*1000 -> 724.02836 | E32: =E17/'SHEET-4'!E32*1000 -> 720.46107 | F32: =F17/'SHEET-4'!F32*1000 -> 724.79028 | G32: =G17/'SHEET-4'!G32*1000 -> 737.10948 | H32: =(D32-F32)/F32 -> -0.0010512279 | I32: =(E32-G32)/G32 -> -0.022586083 | N32: =(D17/'SHEET-4'!D32)*1000 -> 724.02836 | O32: =(E17/'SHEET-4'!E32)*1000 -> 720.46107 | P32: =(F17/'SHEET-4'!F32)*1000 -> 724.79028
A33: 5 | B33: Residential | C33: Paise / kwh | D33: =D18/'SHEET-4'!D33*1000 -> 530.15175 | E33: =E18/'SHEET-4'!E33*1000 -> 549.6764 | F33: =F18/'SHEET-4'!F33*1000 -> 506.48755 | G33: =G18/'SHEET-4'!G33*1000 -> 579.64994 | H33: =(D33-F33)/F33 -> 0.046722171 | I33: =(E33-G33)/G33 -> -0.051709738 | N33: =(D18/'SHEET-4'!D33)*1000 -> 530.15175 | O33: =(E18/'SHEET-4'!E33)*1000 -> 549.6764 | P33: =(F18/'SHEET-4'!F33)*1000 -> 506.48755
A34: 6 | B34: Commercial | C34: Paise / kwh | D34: =D19/'SHEET-4'!D34*1000 -> 731.86629 | E34: =E19/'SHEET-4'!E34*1000 -> 734.89466 | F34: =F19/'SHEET-4'!F34:F35*1000 -> 771.98788 | G34: =G19/'SHEET-4'!G34*1000 -> 741.63882 | H34: =(D34-F34)/F34 -> -0.051971781 | I34: =(E34-G34)/G34 -> -0.0090935896 | N34: =(D19/'SHEET-4'!D34)*1000 -> 731.86629 | O34: =(E19/'SHEET-4'!E34)*1000 -> 734.89466 | P34: =(F19/'SHEET-4'!F34)*1000 -> 771.98788
A35: 7 | B35: Industrial | C35: Paise / kwh | N35: =(D20/'SHEET-4'!D35)*1000 -> #DIV/0! | O35: =(E20/'SHEET-4'!E35)*1000 -> #DIV/0! | P35: =(F20/'SHEET-4'!F35)*1000 -> #DIV/0!
A36: 8 | B36: Others [Water Works / Public Lighting] | C36: Paise / kwh | D36: =D21/'SHEET-4'!D36*1000 -> 636.2261 | E36: =E21/'SHEET-4'!E36*1000 -> 610.6108 | F36: =F21/'SHEET-4'!F36*1000 -> 659.60386 | G36: =G21/'SHEET-4'!G36*1000 -> 607.00468 | H36: =(D36-F36)/F36 -> -0.035442117 | I36: =(E36-G36)/G36 -> 0.0059408527 | N36: =(D21/'SHEET-4'!D36)*1000 -> 636.2261 | O36: =(E21/'SHEET-4'!E36)*1000 -> 610.6108 | P36: =(F21/'SHEET-4'!F36)*1000 -> 659.60386
A37: 9 | B37: Total L.T. Excluding Agricultural | C37: Paise / kwh | D37: =D22/'SHEET-4'!D37*1000 -> 627.89501 | E37: =E22/'SHEET-4'!E37*1000 -> 615.35501 | F37: =F22/'SHEET-4'!F37*1000 -> 632.14972 | G37: =G22/'SHEET-4'!G37*1000 -> 638.73619 | H37: =(D37-F37)/F37 -> -0.006730549 | I37: =(E37-G37)/G37 -> -0.036605373 | N37: =(D22/'SHEET-4'!D37)*1000 -> 627.89501 | O37: =(E22/'SHEET-4'!E37)*1000 -> 615.35501 | P37: =(F22/'SHEET-4'!F37)*1000 -> 632.14972
A38: 10 | B38: Agricultural | C38: Paise / kwh | D38: =D23/'SHEET-4'!D38*1000 -> 256.22744 | E38: =E23/'SHEET-4'!E38*1000 -> 298.66401 | F38: =F23/'SHEET-4'!F38*1000 -> 275.81705 | G38: =G23/'SHEET-4'!G38*1000 -> 309.06905 | H38: =(D38-F38)/F38 -> -0.071023947 | I38: =(E38-G38)/G38 -> -0.033665741 | N38: =(D23/'SHEET-4'!D38)*1000 -> 256.22744 | O38: =(E23/'SHEET-4'!E38)*1000 -> 298.66401 | P38: =(F23/'SHEET-4'!F38)*1000 -> 275.81705
A39: 11 | B39: Total L. T. Including Agricultural | C39: Paise / kwh | D39: =D24/'SHEET-4'!D39*1000 -> 516.35312 | E39: =E24/'SHEET-4'!E39*1000 -> 544.67822 | F39: =F24/'SHEET-4'!F39*1000 -> 535.40699 | G39: =G24/'SHEET-4'!G39*1000 -> 571.9221 | H39: =(D39-F39)/F39 -> -0.035587644 | I39: =(E39-G39)/G39 -> -0.047635654 | N39: =(D24/'SHEET-4'!D39)*1000 -> 516.35312 | O39: =(E24/'SHEET-4'!E39)*1000 -> 544.67822 | P39: =(F24/'SHEET-4'!F39)*1000 -> 535.40699
A40: 12 | B40: Total H.T. + E.H.T. + L. T. | C40: Paise / kwh | D40: =D25/'SHEET-4'!D40*1000 -> 597.6249 | E40: =E25/'SHEET-4'!E40*1000 -> 613.00128 | F40: =F25/'SHEET-4'!F40*1000 -> 605.59841 | G40: =G25/'SHEET-4'!G40*1000 -> 635.72532 | H40: =(D40-F40)/F40 -> -0.013166328 | I40: =(E40-G40)/G40 -> -0.035745062 | N40: =(D25/'SHEET-4'!D40)*1000 -> 597.6249 | O40: =(E25/'SHEET-4'!E40)*1000 -> 613.00128 | P40: =(F25/'SHEET-4'!F40)*1000 -> 605.59841

Sheet SHEET-6
I2: [ 6 ]
A5: MADHYA GUJARAT VIJ COMPANY LIMITED
A7: III - SALES AND REVENUE DATA
A9: SALES REVENUE FIXED AND ENERGY CHARGE PAISE / UNIT AND UNITS SOLD PER CONSUMER
D11: Current Year | F11: Previous Year | H11: % Change
D12: Quarterly | E12: Cummulative | F12: Quarterly | G12: Cummulative | H12: Quarterly | I12: Cummulative
A13: [A] | B13: SALES REALISATION - FIXED CHARGES | D13: =+'SHEET-5'!D13:E13 -> Jan-2021 to Mar-2021 | F13: =+'SHEET-5'!F13:G13 -> Jan-2020 to Mar-2020
A14: 1 | B14: H. T. | C14: Paise / KWH | D14: 92.457655 | E14: 90.773833 | F14: 89.095738 | G14: 87.021154 | H14: =(D14-F14)/F14 -> 0.037733753 | I14: =(E14-G14)/G14 -> 0.043123764
A15: 2 | B15: Railway | C15: Paise / KWH | D15: 0 | E15: 0 | F15: 0 | G15: 0 | H15: =(D15-F15)/F15 -> #DIV/0! | I15: =(E15-G15)/G15 -> #DIV/0!
A16: 3 | B16: Liecence | C16: Paise / KWH | D16: 0 | E16: 0 | F16: 0 | G16: 0 | H16: 0 | I16: 0
A17: 4 | B17: Total H.T. + E.H.T. | C17: Paise / KWH | D17: =SUM(D14:D16) -> 92.457655 | E17: =SUM(E14:E16) -> 90.773833 | F17: 89.095738 | G17: 87.021154 | H17: =(D17-F17)/F17 -> 0.037733753 | I17: =(E17-G17)/G17 -> 0.043123764
A18: 5 | B18: Residential | C18: Paise / KWH | D18: 30.918616 | E18: 18.74504 | F18: 30.936494 | G18: 19.530124 | H18: =(D18-F18)/F18 -> -0.00057790754 | I18: =(E18-G18)/G18 -> -0.040198612
A19: 6 | B19: Commercial | C19: Paise / KWH | D19: 92.40906 | E19: 85.333509 | F19: 90.806365 | G19: 80.956176 | H19: =(D19-F19)/F19 -> 0.017649598 | I19: =(E19-G19)/G19 -> 0.054070404
A20: 7 | B20: Industrial | C20: Paise / KWH
A21: 8 | B21: Other [Specify] | C21: Paise / KWH | D21: 3.7233912 | E21: 3.6039933 | F21: 3.5037866 | G21: 3.3803836 | H21: =(D21-F21)/F21 -> 0.062676354 | I21: =(E21-G21)/G21 -> 0.066149216
A22: 9 | B22: Total L.T. Excluding Agricultural | C22: Paise / KWH | D22: 55.481531 | E22: 39.467599 | F22: 53.67597 | G22: 39.859501 | H22: =(D22-F22)/F22 -> 0.033638164 | I22: =(E22-G22)/G22 -> -0.0098320827
A23: 10 | B23: Agricultural | C23: Paise / KWH | D23: 30.799642 | E23: 33.201936 | F23: 30.980574 | G23: 35.16193 | H23: =(D23-F23)/F23 -> -0.0058401686 | I23: =(E23-G23)/G23 -> -0.055741922
A24: 11 | B24: Total L. T. Including Agricultural | C24: Paise / KWH | D24: 50.262997 | E24: 38.484961 | F24: 49.090392 | G24: 39.194341 | H24: =(D24-F24)/F24 -> 0.023886636 | I24: =(E24-G24)/G24 -> -0.018099044
A25: 12 | B25: Total H.T. + E.H.T. + L. T. | C25: Paise / KWH | D25: 73.868091 | E25: 63.8098 | F25: 71.303783 | G25: 63.503319 | H25: =(D25-F25)/F25 -> 0.03596315 | I25: =(E25-G25)/G25 -> 0.0048262215
A27: [B] | B27: SALES REALISATION - ENERGY CHARGES
A29: 1 | B29: H. T. | C29: Paise / KWH | D29: 417.62314 | E29: 418.35753 | F29: 417.03713 | G29: 417.51125 | H29: =(D29-F29)/F29 -> 0.0014051777 | I29: =(E29-G29)/G29 -> 0.0020269576
A30: 2 | B30: Railway | C30: Paise / KWH | D30: 0 | E30: 0 | F30: 0 | G30: 0 | H30: =(D30-F30)/F30 -> #DIV/0! | I30: =(E30-G30)/G30 -> #DIV/0!
A31: 3 | B31: Liecence | C31: Paise / KWH | D31: 0 | E31: 0 | F31: 0 | G31: 0 | H31: 0 | I31: 0
A32: 4 | B32: Total H.T. + E.H.T. | C32: Paise / KWH | D32: =SUM(D29:D31) -> 417.62314 | E32: =SUM(E29:E31) -> 418.35753 | F32: 417.03713 | G32: 417.51125 | H32: =(D32-F32)/F32 -> 0.0014051777 | I32: =(E32-G32)/G32 -> 0.0020269576
A33: 5 | B33: Residential | C33: Paise / KWH | D33: 349.43062 | E33: 364.9431 | F33: 363.99318 | G33: 378.85762 | H33: =(D33-F33)/F33 -> -0.040007765 | I33: =(E33-G33)/G33 -> -0.036727568
A34: 6 | B34: Commercial | C34: Paise / KWH | D34: 464.23781 | E34: 463.51238 | F34: 466.72806 | G34: 469.8066 | H34: =(D34-F34)/F34 -> -0.0053355421 | I34: =(E34-G34)/G34 -> -0.013397473
A35: 7 | B35: Industrial | C35: Paise / KWH | E35: #DIV/0! | G35: #DIV/0!
A36: 8 | B36: Other [Specify] | C36: Paise / KWH | D36: 343.2718 | E36: 343.30444 | F36: 354.6001 | G36: 356.69513 | H36: =(D36-F36)/F36 -> -0.031946694 | I36: =(E36-G36)/G36 -> -0.037541004
A37: 9 | B37: Total L.T. Excluding Agricultural | C37: Paise / KWH | D37: 398.5362 | E37: 395.66264 | F37: 406.34997 | G37: 409.0777 | H37: =(D37-F37)/F37 -> -0.01922915 | I37: =(E37-G37)/G37 -> -0.032793429
A38: 10 | B38: Agricultural (Incl. Tariff Comp.) | C38: Paise / KWH | D38: 76.434898 | E38: 83.628687 | F38: 76.392967 | G38: 90.893792 | H38: =(D38-F38)/F38 -> 0.00054887945 | I38: =(E38-G38)/G38 -> -0.079929612
A39: 11 | B39: Total L. T. Including Agricultural | C39: Paise / KWH | D39: 330.43377 | E39: 346.72666 | F39: 339.68255 | G39: 364.02398 | H39: =(D39-F39)/F39 -> -0.027227722 | I39: =(E39-G39)/G39 -> -0.047516975
B40: Total H.T. + E.H.T. + L. T. | C40: Paise / KWH | D40: 379.2104 | E40: 381.41933 | F40: 382.6345 | G40: 391.21001 | H40: =(D40-F40)/F40 -> -0.0089487339 | I40: =(E40-G40)/G40 -> -0.025026662
A42: [C] | B42: UNIT SOLD PER CONSUMER
A44: 1 | B44: H. T. | C44: KWH | D44: ='SHEET-4'!D29/'SHEET-4'!D14*10^6 -> 356901.11 | E44: ='SHEET-4'!E29/'SHEET-4'!E14*10^6 -> 1624441.9 | F44: ='SHEET-4'!F29/'SHEET-4'!F14*10^6 -> 348321.2 | G44: ='SHEET-4'!G29/'SHEET-4'!G14*10^6 -> 1643759.7 | H44: =(D44-F44)/F44 -> 0.024632188 | I44: =(E44-G44)/G44 -> -0.011752199
A45: 2 | B45: Railway | C45: KWH | D45: 0 | E45: 0 | F45: 0 | G45: 0 | H45: =(D45-F45)/F45 -> #DIV/0! | I45: =(E45-G45)/G45 -> #DIV/0!
A46: 3 | B46: Liecence | C46: KWH | D46: 0 | E46: =D46 -> 0 | F46: 0 | G46: 0 | H46: 0 | I46: 0
A47: 4 | B47: Total H.T. + E.H.T. | C47: KWH | D47: ='SHEET-4'!D32/'SHEET-4'!D17*10^6 -> 356901.11 | E47: ='SHEET-4'!E32/'SHEET-4'!E17*10^6 -> 1624441.9 | F47: ='SHEET-4'!F32/'SHEET-4'!F17*10^6 -> 348321.2 | G47: ='SHEET-4'!G32/'SHEET-4'!G17*10^6 -> 1643759.7 | H47: =(D47-F47)/F47 -> 0.024632188 | I47: =(E47-G47)/G47 -> -0.011752199
A48: 5 | B48: Residential | C48: KWH | D48: ='SHEET-4'!D33/'SHEET-4'!D18*10^6 -> 155.29724 | E48: ='SHEET-4'!E33/'SHEET-4'!E18*10^6 -> 1025.2281 | F48: ='SHEET-4'!F33/'SHEET-4'!F18*10^6 -> 175.62743 | G48: ='SHEET-4'!G33/'SHEET-4'!G18*10^6 -> 1010.0035 | H48: =(D48-F48)/F48 -> -0.11575748 | I48: =(E48-G48)/G48 -> 0.015073868
A49: 6 | B49: Commercial | C49: KWH | D49: ='SHEET-4'!D34/'SHEET-4'!D19*10^6 -> 1062.2164 | E49: ='SHEET-4'!E34/'SHEET-4'!E19*10^6 -> 4228.4494 | F49: ='SHEET-4'!F34/'SHEET-4'!F19*10^6 -> 1130.8128 | G49: ='SHEET-4'!G34/'SHEET-4'!G19*10^6 -> 4705.7027 | H49: =(D49-F49)/F49 -> -0.060661204 | I49: =(E49-G49)/G49 -> -0.10142019
A50: 7 | B50: Industrial | C50: KWH
...

Sheet SHEET-7
E1: [7]
A4: MADHYA GUJARAT VIJ COMPANY LIMITED
A6: IV - FINANCIAL DATA
C8: Current Year [Provisional] | D8: Previous Year | E8: % Change
C9: April to Mar-21 | D9: April to Mar-20
A10: [A] | B10: REVENUE | C10: Rs. In Crores | D10: Rs. In Crores
A11: 1 | B11: Sale of Electricity | C11: =612567.712865175/100 -> 6125.6771 | D11: =620093.38/100 -> 6200.9338 | E11: =(C11-D11)/D11 -> -0.012136345
A12: 2 | B12: Misc. Revenue Recovery | C12: =16605.5516/100 -> 166.05552 | D12: =15481.48/100 -> 154.8148 | E12: =(C12-D12)/D12 -> 0.072607503
A13: 3 | B13: Government Subsidy FOR AG. | C13: 62.5772 | D13: =6257.72/100 -> 62.5772 | E13: =(C13-D13)/D13 -> 0
A14: 4 | B14: Other Income | C14: =15450.38979/100 -> 154.5039 | D14: =14834.51/100 -> 148.3451 | E14: =(C14-D14)/D14 -> 0.041516692
A15: 5 | B15: Total Income | C15: =SUM(C11:C14) -> 6508.8137 | D15: =SUM(D11:D14) -> 6566.6709 | E15: =(C15-D15)/D15 -> -0.008810729
A17: [B] | B17: EXPENSES
B18: Operating Expenses
A19: 1 | B19: Power Purchase Costs net of trading Credit | C19: =536898.77/100 -> 5368.9877 | D19: =(542675.35-62.86)/100 -> 5426.1249 | E19: =(C19-D19)/D19 -> -0.010530019
A20: 2 | B20: Fixed
A21: 3 | B21: Variable
A22: 4 | B22: Fuel Expense | E22: 0
A23: 5 | B23: Employee Cost | C23: =54509.81003/100 -> 545.0981 | D23: =51735.22/100 -> 517.3522 | E23: =(C23-D23)/D23 -> 0.053630583
A24: 6 | B24: Repairs and Maintenance | C24: =6477.502/100 -> 64.77502 | D24: =6169.04/100 -> 61.6904 | E24: =(C24-D24)/D24 -> 0.050001621
A25: 7 | B25: Administrative and General Expenses | C25: =8118.0544/100 -> 81.180544 | D25: =7793.36/100 -> 77.9336 | E25: =(C25-D25)/D25 -> 0.041662954
A26: 8 | B26: Other Operating Costs | C26: =3503.645/100 -> 35.03645 | D26: =8574.9/100 -> 85.749 | E26: =(C26-D26)/D26 -> -0.5914069
A28: 9 | B28: Depreciation | C28: =27795.1945690818/100 -> 277.95195 | D28: =26236.66/100 -> 262.3666 | E28: =(C28-D28)/D28 -> 0.059402933
A29: 10 | B29: Interest | C29: =6558.40810356938/100 -> 65.584081 | D29: =6377.45/100 -> 63.7745 | E29: =(C29-D29)/D29 -> 0.02837468
A30: 11 | B30: Other Expenses [Prior Period] | C30: 0 | D30: 0
A31: 12 | B31: Misc. If any | C31: 0 | D31: 0 | E31: 0
A32: 13 | B32: Less : Expenses Capitalized | C32: =-3281.02043478261/100 -> -32.810204 | D32: =-5464.44/100 -> -54.6444
A33: 14 | B33: Total Expenses 1 to 13] | C33: =SUM(C19:C32) -> 6405.8036 | D33: =SUM(D19:D32) -> 6440.3468 | E33: =(C33-D33)/D33 -> -0.0053635564
A35: [C] | B35: Surplus [deficit] excluding rate of return | C35: =C15-C33 -> 103.01011 | D35: =D15-D33 -> 126.3241 | E35: =(C35-D35)/D35 -> -0.18455698
A37: NOTE : Power Purchase Cost is based on provisional bills received from GUVNL.

Sheet T&D
B1: MGVCL - V - DISTRIBUTION - KEY DATA
B3: Action plan for reducing T&D losses in Urban, Industrial and GIDC feeders
B4: Category | C4: Circle | D4: Q-IV- April to March-21 | H4: Q-IV- April to March-20 | K4: Nos of feeders having more than 5% where losses increased in current period | L4: Reason thereof and action being taken
D5: Total nos. of feeders | E5: Nos. of feeders having losses more than 5% | F5: Overall % losses | H5: Total nos. of feeders | I5: Nos. of feeders having losses more than 5% | J5: Overall % losses
B6: GIDC | C6: Baroda OM | D6: 33 | E6: 0 | F6: 2.74 | H6: 33 | I6: 0 | J6: 0.090067015 | K6: 0 | L6: Various steps are being taken to reduce the losses of feeder having high losses
C7: Baroda City | D7: 16 | E7: 0 | F7: 0.86 | H7: 16 | I7: 0 | J7: 0.33880065 | K7: 0
C8: Anand | D8: 17 | E8: 0 | F8: 2.19 | H8: 17 | I8: 0 | J8: 0.40139735 | K8: 0
C9: Nadiad | D9: 1 | E9: 0 | F9: 2.34 | H9: 1 | I9: 0 | J9: -0.15653879 | K9: 0
C10: Godhra | D10: 16 | E10: 0 | F10: 0.2 | H10: 16 | I10: 0 | J10: -1.2512981 | K10: 0
C11: Total | D11: =SUM(D6:D10) -> 83 | E11: =SUM(E6:E10) -> 0 | F11: 1.81 | H11: 83 | I11: 0 | J11: -0.12123317 | K11: =SUM(K6:K10) -> 0
B13: Category | C13: Circle | D13: =D4 -> Q-IV- April to March-21 | H13: =H4 -> Q-IV- April to March-20 | K13: Nos of feeders having more than 25% where losses increased in current period | L13: Reason thereof and action being taken
D14: Total nos. of feeders | E14: Nos. of feeders having losses more than 25% | F14: Overall % losses | H14: Total nos. of feeders | I14: Nos. of feeders having losses more than 25% | J14: Overall % losses
B15: URBAN | C15: Baroda OM | D15: 19 | E15: 0 | F15: 8.84 | H15: 20 | I15: 0 | J15: 7.6403136 | K15: 0 | L15: Various steps are being taken to reduce the losses of feeder having high losses
C16: Baroda City | D16: 256 | E16: 0 | F16: 5.89 | H16: 251 | I16: 0 | J16: 4.28488 | K16: 0
C17: Anand | D17: 46 | E17: 0 | F17: 7.15 | H17: 49 | I17: 0 | J17: 5.7455539 | K17: 0
C18: Nadiad | D18: 37 | E18: 0 | F18: 8.31 | H18: 35 | I18: 0 | J18: 4.8112152 | K18: 0
C19: Godhra | D19: 46 | E19: 7+1* | F19: 20.05 | H19: 45 | I19: 7 | J19: 19.463447 | K19: 4
C20: Total | D20: =SUM(D15:D19) -> 404 | E20: 7+1 | F20: 8.32 | H20: 400 | I20: 7 | J20: 6.637023 | K20: =SUM(K15:K19) -> 4
D21: * Newly created feeders
B22: Category | C22: Circle | D22: =D13 -> Q-IV- April to March-21 | H22: =H13 -> Q-IV- April to March-20 | K22: Nos of feeders having more than 10% where losses increased in current period | L22: Reason thereof and action being taken
D23: Total nos. of feeders | E23: Nos. of feeders having losses more than 10% | F23: Overall % losses | H23: Total nos. of feeders | I23: Nos. of feeders having losses more than 10% | J23: Overall % losses
B24: IND | C24: Baroda OM | D24: 56 | E24: 0 | F24: 2.69 | H24: 51 | I24: 0 | J24: 1.3599119 | K24: 0 | L24: Various steps are being taken to reduce the losses of feeder having high losses
C25: Baroda City | D25: 3 | E25: 0 | F25: 1.48 | H25: 3 | I25: 0 | J25: 1.5477577 | K25: 0
C26: Anand | D26: 5 | E26: 0 | F26: 2.47 | H26: 5 | I26: 0 | J26: 1.6673191 | K26: 0
C27: Nadiad | D27: 12 | E27: 0 | F27: 4.02 | H27: 12 | I27: 0 | J27: -0.36361685 | K27: 0
C28: Godhra | D28: 39 | E28: 0 | F28: -1.45 | H28: 38 | I28: 0 | J28: -0.64324028 | K28: 0
C29: Total | D29: =SUM(D24:D28) -> 115 | E29: =SUM(E24:E28) -> 0 | F29: 1.49 | H29: 109 | I29: 0 | J29: 0.6859588 | K29: =SUM(K24:K28) -> 0

Sheet LAB
B1: MGVCL
B2: V - DISTRIBUTION - KEY DATA | I2: FY 2020-21 Q-IV (Jan-Feb-Mar-21)
B3: Meter testing and details of non-working defective meters
B4: (A) | C4: Meter testing | E4: Total capacity of laboratory | F4: Tested during the period | H4: Pending for testing at the end of the period
C5: Single Phase | D5: No. | F5: 72557 | H5: 171154
C6: Three Phase | D6: No. | F6: 19524 | H6: 24046
C7: Total | D7: No. | F7: =SUM(F5:F6) -> 92081 | H7: =SUM(H5:H6) -> 195200
B8: (B) | C8: Non-working/ Defective meters | E8: Detected - op.balance | F8: Added | G8: Total to be attended | H8: Replaced / repaired | I8: Pending at the end of the period
C9: Single Phase | D9: No. | E9: 1233 | F9: =43956+269 -> 44225 | G9: =F9+E9 -> 45458 | H9: 35590 | I9: =G9-H9 -> 9868
C10: Three Phase | D10: No. | E10: 169 | F10: 9830 | G10: =F10+E10 -> 9999 | H10: 7183 | I10: =G10-H10 -> 2816
C11: Total | D11: No. | E11: =E9+E10 -> 1402 | F11: =F9+F10 -> 54055 | G11: =SUM(G9:G10) -> 55457 | H11: =SUM(H9:H10) -> 42773 | I11: =SUM(I9:I10) -> 12684
B12: Since the nos. of pending untested meters are normally quite high, action being taken by DISCOMs to increase the nos. of test benches at various locations so that almost nil outstanding balance should accrue.

Sheet Sheet1
A1: SR | B1: CATEGORY | C1: BOARD CHARGE | D1: B. CHG(THEFT) | E1: MIN CHG DIS. | F1: ELE. DUTY | G1: TAX ON SALE | H1: RENT | I1: SUNDRY CHG. | J1: D. P. C. | K1: ASSESSMENT
A2: =========================================================================================================================================
A3: 1 | B3: Residential | C3: 3.1160693e+09 | D3: 17043897 | E3: 172650.77 | F3: 3.4360099e+08 | G3: 0 | H3: 73554896 | I3: 227109.15 | J3: 18633312 | K3: 3.5693021e+09
A4: 2 | B4: General Lighting Purpose | C4: 71089140 | D4: 101753.87 | E4: 17040 | F4: 7364652.5 | G4: 0 | H4: 748929.5 | I4: 23532.4 | J4: 453786.14 | K4: 79798834
A5: 3 | B5: Manufacturing & Service Industries | C5: 2.1273928e+09 | D5: 10987310 | E5: 55383.85 | F5: 3.3524209e+08 | G5: 0 | H5: 15904544 | I5: 285434.14 | J5: 5771228.1 | K5: 2.4956387e+09
B6: TEMP | C6: 78023457 | D6: 0 | E6: 0 | F6: 19271785 | G6: 0 | H6: 469841 | I6: 303675.78 | J6: 245968.69 | K6: 98314728
B7: TOTAL | C7: 2.2054162e+09 | D7: 10987310 | E7: 55383.85 | F7: 3.5451387e+08 | G7: 0 | H7: 16374385 | I7: 589109.92 | J7: 6017196.8 | K7: 2.5939535e+09
A8: 4 | B8: Water Works | C8: 2.2913085e+08 | D8: 7024.2 | E8: 360 | F8: 3568735.5 | G8: 0 | H8: 1043824 | I8: 84685 | J8: 38964480 | K8: 2.7279996e+08
A9: 5 | B9: Agricultural | C9: 2.248283e+08 | D9: 1100948.8 | E9: 69162.01 | F9: 32851.34 | G9: 0 | H9: 6727882.5 | I9: 96521.78 | J9: 1507359.2 | K9: 2.3436303e+08
A10: 6 | B10: Street Light | C10: 93088769 | D10: 0 | E10: 0 | F10: 833815.28 | G10: 0 | H10: 302109.5 | I10: 89765.18 | J10: 4559629.6 | K10: 98874088
A11: 7 | B11: PDC | C11: 2188369.9 | D11: 52177.62 | E11: 0 | F11: 239472.02 | G11: 0 | H11: 183965.5 | I11: 10954.81 | J11: 1881544.9 | K11: 4556484.7
A12: 8 | B12: UNCONNECTED | C12: 1346751 | D12: 29611.2 | E12: 0 | F12: 0 | G12: 0 | H12: 0 | I12: 0 | J12: 12750.19 | K12: 1389112.4
A13: 9 | B13: NON-CONS | C13: 0 | D13: 3642101.8 | E13: 0 | F13: 384932.08 | G13: 0 | H13: 0 | I13: 46327.9 | J13: 55.4 | K13: 4073417.1
A14: 10 | B14: TOT(NORMAL) | C14: 5.8615991e+09 | D14: 29240934 | E14: 314596.63 | F14: 6.9064313e+08 | G14: 0 | H14: 98282186 | I14: 807047.65 | J14: 69889795 | K14: 6.7507768e+09
A15: 11 | B15: TOT(PCD+UC) | C15: 3535120.9 | D15: 81788.82 | E15: 0 | F15: 239472.02 | G15: 0 | H15: 183965.5 | I15: 10954.81 | J15: 1894295.1 | K15: 5945597.1
A16: 12 | B16: TOT(TEMP+NON) | C16: 78023457 | D16: 3642101.8 | E16: 0 | F16: 19656717 | G16: 0 | H16: 469841 | I16: 350003.68 | J16: 246024.09 | K16: 1.0238815e+08
A17: 13 | B17: GRAND TOTAL | C17: 5.9431577e+09 | D17: 32964824 | E17: 314596.63 | F17: 7.1053932e+08 | G17: 0 | H17: 98935992 | I17: 1168006.1 | J17: 72030114 | K17: 6.8591105e+09
A18: =========================================================================================================================================
A19: BREAK-UP OF BOARD CHARGES FROM Apr-2014 TO Jun-2014
A20: =========================================================================================================================================
A21: SR | B21: CATEGORY | C21: CONSUMERS | D21: UNITS BILLED | E21: FIXED-CHRG | F21: ENEG-CHRG | G21: FUEL-COST | H21: ANNUAL-CHG | I21: PRO-BILL | J21: DEBIT-ADJ | K21: BOARD-CHG
A22: =========================================================================================================================================
A23: 1 | B23: Residential | C23: 1178560 | D23: 547896815 | E23: 1.0893635e+08 | F23: 2.2777783e+09 | G23: 6.988271e+08 | H23: 0 | I23: 23878038 | J23: 6649459.7 | K23: 3.1160693e+09
A24: 2 | B24: General Lighting Purpose | C24: 10324 | D24: 12238984 | E24: 3352066 | F24: 49361467 | G24: 14977588 | H24: 0 | I24: 3186689.2 | J24: 211329.99 | K24: 71089140
A25: 3 | B25: Manufacturing & Service Industries | C25: 141223 | D25: 308942121 | E25: 2.0981632e+08 | F25: 1.5067713e+09 | G25: 3.8397436e+08 | H25: 243868.04 | I25: 12422367 | J25: 14164516 | K25: 2.1273928e+09
B26: TEMP | C26: 4704 | D26: 8930434 | E26: 26180159 | F26: 41354592 | G26: 10417809 | H26: 0 | I26: 0 | J26: 70898.07 | K26: 78023457
B27: TOTAL | C27: 145927 | D27: 317872555 | E27: 2.3599648e+08 | F27: 1.5481259e+09 | G27: 3.9439217e+08 | H27: 243868.04 | I27: 12422367 | J27: 14235414 | K27: 2.2054162e+09
A28: 4 | B28: Water Works | C28: 8003 | D28: 48527153 | E28: 1355207.1 | F28: 1.6440131e+08 | G28: 58237666 | H28: 0 | I28: 2690678.8 | J28: 2445989 | K28: 2.2913085e+08
A29: 5 | B29: Agricultural | C29: 64962 | D29: 168792969 | E29: 32021769 | F29: 1.8627927e+08 | G29: 0 | H29: 0 | I29: 5083644.2 | J29: 1443616.6 | K29: 2.248283e+08
A30: 6 | B30: Street Light | C30: 4333 | D30: 15223858 | E30: 212629.18 | F30: 71319701 | G30: 20672610 | H30: 0 | I30: 303088.92 | J30: 580739.07 | K30: 93088769
A31: 7 | B31: PDC | C31: 75006 | D31: 254352 | E31: 0 | F31: 0 | G31: 0 | H31: 0 | I31: 0 | J31: 2188369.9 | K31: 2188369.9
A32: 8 | B32: UNCONNECTED | C32: 2231 | D32: 0 | E32: 1316135.1 | F32: 5130 | G32: 0 | H32: 0 | I32: 0 | J32: 25485.9 | K32: 1346751
A33: 9 | B33: NON-CONS | C33: 255 | D33: 740096 | E33: 0 | F33: 0 | G33: 0 | H33: 0 | I33: 0 | J33: 0 | K33: 0
A34: 10 | B34: TOT(NORMAL) | C34: 1407405 | D34: 1101621900 | E34: 3.5569434e+08 | F34: 4.2559114e+09 | G34: 1.1766893e+09 | H34: 243868.04 | I34: 47564507 | J34: 25495650 | K34: 5.8615991e+09
A35: 11 | B35: TOT(PDC+UN) | C35: 77237 | D35: 254352 | E35: 1316135.1 | F35: 5130 | G35: 0 | H35: 0 | I35: 0 | J35: 2213855.8 | K35: 3535120.9
A36: 12 | B36: TOT(TEMP+NON) | C36: 4959 | D36: 9670530 | E36: 26180159 | F36: 41354592 | G36: 10417809 | H36: 0 | I36: 0 | J36: 70898.07 | K36: 78023457
A37: 13 | B37: GRAND TOTAL | C37: 1489601 | D37: 1111546782 | E37: 3.8319064e+08 | F37: 4.2972711e+09 | G37: 1.1871071e+09 | H37: 243868.04 | I37: 47564507 | J37: 27780404 | K37: 5.9431577e+09
A38: =========================================================================================================================================
A41: LT C. G. L. FROM Apr-2014 TO Jun-2014
A42: LAST MONTH END DATE : 30-06-2014 | E42: PERIOD: Apr-2014 TO Jun-2014 | I42: PROCESSED ON: 18-Dec-2014
...
